BEGIN:VCALENDAR
VERSION:2.0
PRODID:-//Montana Natural History Center - ECPv6.15.18//NONSGML v1.0//EN
CALSCALE:GREGORIAN
METHOD:PUBLISH
X-ORIGINAL-URL:https://www.montananaturalist.org
X-WR-CALDESC:Events for Montana Natural History Center
REFRESH-INTERVAL;VALUE=DURATION:PT1H
X-Robots-Tag:noindex
X-PUBLISHED-TTL:PT1H
BEGIN:VTIMEZONE
TZID:America/Denver
BEGIN:DAYLIGHT
TZOFFSETFROM:-0700
TZOFFSETTO:-0600
TZNAME:MDT
DTSTART:20250309T090000
END:DAYLIGHT
BEGIN:STANDARD
TZOFFSETFROM:-0600
TZOFFSETTO:-0700
TZNAME:MST
DTSTART:20251102T080000
END:STANDARD
BEGIN:DAYLIGHT
TZOFFSETFROM:-0700
TZOFFSETTO:-0600
TZNAME:MDT
DTSTART:20260308T090000
END:DAYLIGHT
BEGIN:STANDARD
TZOFFSETFROM:-0600
TZOFFSETTO:-0700
TZNAME:MST
DTSTART:20261101T080000
END:STANDARD
BEGIN:DAYLIGHT
TZOFFSETFROM:-0700
TZOFFSETTO:-0600
TZNAME:MDT
DTSTART:20270314T090000
END:DAYLIGHT
BEGIN:STANDARD
TZOFFSETFROM:-0600
TZOFFSETTO:-0700
TZNAME:MST
DTSTART:20271107T080000
END:STANDARD
END:VTIMEZONE
BEGIN:VEVENT
DTSTART;TZID=America/Denver:20260428T090000
DTEND;TZID=America/Denver:20260428T110000
DTSTAMP:20260420T204015
CREATED:20260327T200240Z
LAST-MODIFIED:20260330T182423Z
UID:10003408-1777366800-1777374000@www.montananaturalist.org
SUMMARY:Spring Garden Tour
DESCRIPTION:Date: Tuesday\, April 28\nTime: 9:00-11:00 a.m.\nLocation: Native Plant Garden at Fort Missoula\nCost: $10 suggested donation \nREGISTER HERE! \nCelebrate Spring with a tour of the Native Plant Garden at Fort Missoula\, led by Garden Manager and Montana Master Naturalist\, Elena Ulev. We’ll check out what’s popped up after our long winter\, see what’s blooming\, look and listen for migratory birds that have just arrived and discuss upcoming classes and opportunities for volunteering in the garden. \nHomemade cookies and drinks provided. \nDIG IN! For more information on programs happening at the Fort Missoula Native Plant Garden\, click here!
URL:https://www.montananaturalist.org/event/spring-garden-tour/
LOCATION:Fort Missoula Native Plant Garden\, 404 H Road\, Missoula\, MT\, 59804\, United States
CATEGORIES:Native Plant Garden Programs
ATTACH;FMTTYPE=image/png:https://www.montananaturalist.org/wp-content/uploads/2-4.png
GEO:46.8394228;-114.057275
X-APPLE-STRUCTURED-LOCATION;VALUE=URI;X-ADDRESS=Fort Missoula Native Plant Garden 404 H Road Missoula MT 59804 United States;X-APPLE-RADIUS=500;X-TITLE=404 H Road:geo:-114.057275,46.8394228
END:VEVENT
BEGIN:VEVENT
DTSTART;TZID=America/Denver:20260503T090000
DTEND;TZID=America/Denver:20260503T110000
DTSTAMP:20260420T204015
CREATED:20260327T191427Z
LAST-MODIFIED:20260327T191427Z
UID:10003397-1777798800-1777806000@www.montananaturalist.org
SUMMARY:Volunteering at Fort Missoula Native Plant Garden
DESCRIPTION:Dates: Select Sundays\, May-August \nTime: 9:00 a.m.-11:00 a.m.\nLocation: Fort Missoula Native Plant Garden \nThe beautiful Native Plant Garden at Fort Missoula could use volunteers to weed\, transplant plants out of the walkways and prune shrubs. Volunteering is available most Sunday mornings from 9:00-11:00 a.m. and you can pop in and out any time during that period. We will supply the gloves and tools but if you have your own feel free to bring them. In addition to working\, you can learn about the plants\, birds and ecology of the garden from Elena Ulev\, the Garden Manager. \nDIG IN! For more information on programs happening at the Fort Missoula Native Plant Garden\, click here!
URL:https://www.montananaturalist.org/event/volunteering-at-fort-missoula-native-plant-garden-6/2026-05-03/
LOCATION:Fort Missoula Native Plant Garden\, 404 H Road\, Missoula\, MT\, 59804\, United States
CATEGORIES:Native Plant Garden Programs,Volunteer Opportunity
ATTACH;FMTTYPE=image/png:https://www.montananaturalist.org/wp-content/uploads/3-4.png
GEO:46.8394228;-114.057275
X-APPLE-STRUCTURED-LOCATION;VALUE=URI;X-ADDRESS=Fort Missoula Native Plant Garden 404 H Road Missoula MT 59804 United States;X-APPLE-RADIUS=500;X-TITLE=404 H Road:geo:-114.057275,46.8394228
END:VEVENT
BEGIN:VEVENT
DTSTART;TZID=America/Denver:20260512T090000
DTEND;TZID=America/Denver:20260512T110000
DTSTAMP:20260420T204015
CREATED:20260327T202322Z
LAST-MODIFIED:20260330T182734Z
UID:10003409-1778576400-1778583600@www.montananaturalist.org
SUMMARY:Birding Extravaganza at the Fort Garden and River
DESCRIPTION:Date: Tuesday\, May 12\nTime: 9:00-11:00 a.m.\nLocation: Native Plant Garden at Fort Missoula\nCost: $20 MNHC members/$25 non-members\n(1 child free per ticketed adult!) \nREGISTER HERE!\nMigratory birds have returned for breeding season! The garden and the adjacent Bitterroot River corridor host a symphony of sounds. We will easily hear and see 30 species\, including a nesting osprey and house wrens\, gray catbirds and warblers. We will bird in the garden then walk down to the river to see waterfowl\, raptors and woodpeckers. Your guide for this afternoon is MNHC’s Garden Steward and Master Naturalist Elena Ulev. \nDIG IN! For more information on programs happening at the Fort Missoula Native Plant Garden\, click here! \nFAQs\nWhat’s the refund policy? \nThe course fee (minus a 25% administrative fee) is refundable if a cancellation is made up to 7 days before the event. No refunds will be issued for cancellations made after this deadline. See our full refund/cancellation policy here. \nDo I have to bring my printed ticket to the event? \nNope! We will have a list of all the attendees.
URL:https://www.montananaturalist.org/event/birding-extravaganza-at-the-fort-garden-and-river/
LOCATION:Fort Missoula Native Plant Garden\, 404 H Road\, Missoula\, MT\, 59804\, United States
CATEGORIES:Native Plant Garden Programs
ATTACH;FMTTYPE=image/jpeg:https://www.montananaturalist.org/wp-content/uploads/garden-pictures.jpg
GEO:46.8394228;-114.057275
X-APPLE-STRUCTURED-LOCATION;VALUE=URI;X-ADDRESS=Fort Missoula Native Plant Garden 404 H Road Missoula MT 59804 United States;X-APPLE-RADIUS=500;X-TITLE=404 H Road:geo:-114.057275,46.8394228
END:VEVENT
BEGIN:VEVENT
DTSTART;TZID=America/Denver:20260517T090000
DTEND;TZID=America/Denver:20260517T110000
DTSTAMP:20260420T204015
CREATED:20260327T191427Z
LAST-MODIFIED:20260327T191427Z
UID:10003398-1779008400-1779015600@www.montananaturalist.org
SUMMARY:Volunteering at Fort Missoula Native Plant Garden
DESCRIPTION:Dates: Select Sundays\, May-August \nTime: 9:00 a.m.-11:00 a.m.\nLocation: Fort Missoula Native Plant Garden \nThe beautiful Native Plant Garden at Fort Missoula could use volunteers to weed\, transplant plants out of the walkways and prune shrubs. Volunteering is available most Sunday mornings from 9:00-11:00 a.m. and you can pop in and out any time during that period. We will supply the gloves and tools but if you have your own feel free to bring them. In addition to working\, you can learn about the plants\, birds and ecology of the garden from Elena Ulev\, the Garden Manager. \nDIG IN! For more information on programs happening at the Fort Missoula Native Plant Garden\, click here!
URL:https://www.montananaturalist.org/event/volunteering-at-fort-missoula-native-plant-garden-6/2026-05-17/
LOCATION:Fort Missoula Native Plant Garden\, 404 H Road\, Missoula\, MT\, 59804\, United States
CATEGORIES:Native Plant Garden Programs,Volunteer Opportunity
ATTACH;FMTTYPE=image/png:https://www.montananaturalist.org/wp-content/uploads/3-4.png
GEO:46.8394228;-114.057275
X-APPLE-STRUCTURED-LOCATION;VALUE=URI;X-ADDRESS=Fort Missoula Native Plant Garden 404 H Road Missoula MT 59804 United States;X-APPLE-RADIUS=500;X-TITLE=404 H Road:geo:-114.057275,46.8394228
END:VEVENT
BEGIN:VEVENT
DTSTART;TZID=America/Denver:20260524T090000
DTEND;TZID=America/Denver:20260524T110000
DTSTAMP:20260420T204015
CREATED:20260327T191427Z
LAST-MODIFIED:20260327T191427Z
UID:10003399-1779613200-1779620400@www.montananaturalist.org
SUMMARY:Volunteering at Fort Missoula Native Plant Garden
DESCRIPTION:Dates: Select Sundays\, May-August \nTime: 9:00 a.m.-11:00 a.m.\nLocation: Fort Missoula Native Plant Garden \nThe beautiful Native Plant Garden at Fort Missoula could use volunteers to weed\, transplant plants out of the walkways and prune shrubs. Volunteering is available most Sunday mornings from 9:00-11:00 a.m. and you can pop in and out any time during that period. We will supply the gloves and tools but if you have your own feel free to bring them. In addition to working\, you can learn about the plants\, birds and ecology of the garden from Elena Ulev\, the Garden Manager. \nDIG IN! For more information on programs happening at the Fort Missoula Native Plant Garden\, click here!
URL:https://www.montananaturalist.org/event/volunteering-at-fort-missoula-native-plant-garden-6/2026-05-24/
LOCATION:Fort Missoula Native Plant Garden\, 404 H Road\, Missoula\, MT\, 59804\, United States
CATEGORIES:Native Plant Garden Programs,Volunteer Opportunity
ATTACH;FMTTYPE=image/png:https://www.montananaturalist.org/wp-content/uploads/3-4.png
GEO:46.8394228;-114.057275
X-APPLE-STRUCTURED-LOCATION;VALUE=URI;X-ADDRESS=Fort Missoula Native Plant Garden 404 H Road Missoula MT 59804 United States;X-APPLE-RADIUS=500;X-TITLE=404 H Road:geo:-114.057275,46.8394228
END:VEVENT
BEGIN:VEVENT
DTSTART;TZID=America/Denver:20260531T090000
DTEND;TZID=America/Denver:20260531T110000
DTSTAMP:20260420T204015
CREATED:20260327T191427Z
LAST-MODIFIED:20260327T191427Z
UID:10003400-1780218000-1780225200@www.montananaturalist.org
SUMMARY:Volunteering at Fort Missoula Native Plant Garden
DESCRIPTION:Dates: Select Sundays\, May-August \nTime: 9:00 a.m.-11:00 a.m.\nLocation: Fort Missoula Native Plant Garden \nThe beautiful Native Plant Garden at Fort Missoula could use volunteers to weed\, transplant plants out of the walkways and prune shrubs. Volunteering is available most Sunday mornings from 9:00-11:00 a.m. and you can pop in and out any time during that period. We will supply the gloves and tools but if you have your own feel free to bring them. In addition to working\, you can learn about the plants\, birds and ecology of the garden from Elena Ulev\, the Garden Manager. \nDIG IN! For more information on programs happening at the Fort Missoula Native Plant Garden\, click here!
URL:https://www.montananaturalist.org/event/volunteering-at-fort-missoula-native-plant-garden-6/2026-05-31/
LOCATION:Fort Missoula Native Plant Garden\, 404 H Road\, Missoula\, MT\, 59804\, United States
CATEGORIES:Native Plant Garden Programs,Volunteer Opportunity
ATTACH;FMTTYPE=image/png:https://www.montananaturalist.org/wp-content/uploads/3-4.png
GEO:46.8394228;-114.057275
X-APPLE-STRUCTURED-LOCATION;VALUE=URI;X-ADDRESS=Fort Missoula Native Plant Garden 404 H Road Missoula MT 59804 United States;X-APPLE-RADIUS=500;X-TITLE=404 H Road:geo:-114.057275,46.8394228
END:VEVENT
BEGIN:VEVENT
DTSTART;TZID=America/Denver:20260607T090000
DTEND;TZID=America/Denver:20260607T110000
DTSTAMP:20260420T204015
CREATED:20260327T191427Z
LAST-MODIFIED:20260327T191427Z
UID:10003401-1780822800-1780830000@www.montananaturalist.org
SUMMARY:Volunteering at Fort Missoula Native Plant Garden
DESCRIPTION:Dates: Select Sundays\, May-August \nTime: 9:00 a.m.-11:00 a.m.\nLocation: Fort Missoula Native Plant Garden \nThe beautiful Native Plant Garden at Fort Missoula could use volunteers to weed\, transplant plants out of the walkways and prune shrubs. Volunteering is available most Sunday mornings from 9:00-11:00 a.m. and you can pop in and out any time during that period. We will supply the gloves and tools but if you have your own feel free to bring them. In addition to working\, you can learn about the plants\, birds and ecology of the garden from Elena Ulev\, the Garden Manager. \nDIG IN! For more information on programs happening at the Fort Missoula Native Plant Garden\, click here!
URL:https://www.montananaturalist.org/event/volunteering-at-fort-missoula-native-plant-garden-6/2026-06-07/
LOCATION:Fort Missoula Native Plant Garden\, 404 H Road\, Missoula\, MT\, 59804\, United States
CATEGORIES:Native Plant Garden Programs,Volunteer Opportunity
ATTACH;FMTTYPE=image/png:https://www.montananaturalist.org/wp-content/uploads/3-4.png
GEO:46.8394228;-114.057275
X-APPLE-STRUCTURED-LOCATION;VALUE=URI;X-ADDRESS=Fort Missoula Native Plant Garden 404 H Road Missoula MT 59804 United States;X-APPLE-RADIUS=500;X-TITLE=404 H Road:geo:-114.057275,46.8394228
END:VEVENT
BEGIN:VEVENT
DTSTART;TZID=America/Denver:20260609T090000
DTEND;TZID=America/Denver:20260609T110000
DTSTAMP:20260420T204015
CREATED:20260327T214210Z
LAST-MODIFIED:20260327T215332Z
UID:10003411-1780995600-1781002800@www.montananaturalist.org
SUMMARY:Dig Your Own Native Shrubs
DESCRIPTION:Date: Tuesday\, June 9\nTime: 9:00-11:00 a.m.\nLocation: Native Plant Garden at Fort Missoula\nCost: $20 MNHC members/$25 non-members\n(1 child free per ticketed adult!) \nREGISTER HERE!\nNative shrubs are important for pollinators\, nesting birds and other wildlife. The garden has an abundance of chokecherry\, snowberry and Wood’s rose and you can dig up a bunch! We’ll first teach you about each plant then provide shovels and containers and show you how to dig and transplant the shrubs into your own yard. \nDIG IN! For more information on programs happening at the Fort Missoula Native Plant Garden\, click here! \nFAQs\nWhat’s the refund policy? \nThe course fee (minus a 25% administrative fee) is refundable if a cancellation is made up to 7 days before the event. No refunds will be issued for cancellations made after this deadline. See our full refund/cancellation policy here. \nDo I have to bring my printed ticket to the event? \nNope! We will have a list of all the attendees.
URL:https://www.montananaturalist.org/event/dig-your-own-native-shrubs/
LOCATION:Fort Missoula Native Plant Garden\, 404 H Road\, Missoula\, MT\, 59804\, United States
CATEGORIES:Community Event,Native Plant Garden Programs
ATTACH;FMTTYPE=image/png:https://www.montananaturalist.org/wp-content/uploads/1-6.png
GEO:46.8394228;-114.057275
X-APPLE-STRUCTURED-LOCATION;VALUE=URI;X-ADDRESS=Fort Missoula Native Plant Garden 404 H Road Missoula MT 59804 United States;X-APPLE-RADIUS=500;X-TITLE=404 H Road:geo:-114.057275,46.8394228
END:VEVENT
BEGIN:VEVENT
DTSTART;TZID=America/Denver:20260614T090000
DTEND;TZID=America/Denver:20260614T110000
DTSTAMP:20260420T204015
CREATED:20260327T191427Z
LAST-MODIFIED:20260327T191427Z
UID:10003402-1781427600-1781434800@www.montananaturalist.org
SUMMARY:Volunteering at Fort Missoula Native Plant Garden
DESCRIPTION:Dates: Select Sundays\, May-August \nTime: 9:00 a.m.-11:00 a.m.\nLocation: Fort Missoula Native Plant Garden \nThe beautiful Native Plant Garden at Fort Missoula could use volunteers to weed\, transplant plants out of the walkways and prune shrubs. Volunteering is available most Sunday mornings from 9:00-11:00 a.m. and you can pop in and out any time during that period. We will supply the gloves and tools but if you have your own feel free to bring them. In addition to working\, you can learn about the plants\, birds and ecology of the garden from Elena Ulev\, the Garden Manager. \nDIG IN! For more information on programs happening at the Fort Missoula Native Plant Garden\, click here!
URL:https://www.montananaturalist.org/event/volunteering-at-fort-missoula-native-plant-garden-6/2026-06-14/
LOCATION:Fort Missoula Native Plant Garden\, 404 H Road\, Missoula\, MT\, 59804\, United States
CATEGORIES:Native Plant Garden Programs,Volunteer Opportunity
ATTACH;FMTTYPE=image/png:https://www.montananaturalist.org/wp-content/uploads/3-4.png
GEO:46.8394228;-114.057275
X-APPLE-STRUCTURED-LOCATION;VALUE=URI;X-ADDRESS=Fort Missoula Native Plant Garden 404 H Road Missoula MT 59804 United States;X-APPLE-RADIUS=500;X-TITLE=404 H Road:geo:-114.057275,46.8394228
END:VEVENT
BEGIN:VEVENT
DTSTART;TZID=America/Denver:20260705T090000
DTEND;TZID=America/Denver:20260705T110000
DTSTAMP:20260420T204015
CREATED:20260327T191427Z
LAST-MODIFIED:20260327T191427Z
UID:10003403-1783242000-1783249200@www.montananaturalist.org
SUMMARY:Volunteering at Fort Missoula Native Plant Garden
DESCRIPTION:Dates: Select Sundays\, May-August \nTime: 9:00 a.m.-11:00 a.m.\nLocation: Fort Missoula Native Plant Garden \nThe beautiful Native Plant Garden at Fort Missoula could use volunteers to weed\, transplant plants out of the walkways and prune shrubs. Volunteering is available most Sunday mornings from 9:00-11:00 a.m. and you can pop in and out any time during that period. We will supply the gloves and tools but if you have your own feel free to bring them. In addition to working\, you can learn about the plants\, birds and ecology of the garden from Elena Ulev\, the Garden Manager. \nDIG IN! For more information on programs happening at the Fort Missoula Native Plant Garden\, click here!
URL:https://www.montananaturalist.org/event/volunteering-at-fort-missoula-native-plant-garden-6/2026-07-05/
LOCATION:Fort Missoula Native Plant Garden\, 404 H Road\, Missoula\, MT\, 59804\, United States
CATEGORIES:Native Plant Garden Programs,Volunteer Opportunity
ATTACH;FMTTYPE=image/png:https://www.montananaturalist.org/wp-content/uploads/3-4.png
GEO:46.8394228;-114.057275
X-APPLE-STRUCTURED-LOCATION;VALUE=URI;X-ADDRESS=Fort Missoula Native Plant Garden 404 H Road Missoula MT 59804 United States;X-APPLE-RADIUS=500;X-TITLE=404 H Road:geo:-114.057275,46.8394228
END:VEVENT
BEGIN:VEVENT
DTSTART;TZID=America/Denver:20260719T090000
DTEND;TZID=America/Denver:20260719T110000
DTSTAMP:20260420T204015
CREATED:20260327T191427Z
LAST-MODIFIED:20260327T191427Z
UID:10003404-1784451600-1784458800@www.montananaturalist.org
SUMMARY:Volunteering at Fort Missoula Native Plant Garden
DESCRIPTION:Dates: Select Sundays\, May-August \nTime: 9:00 a.m.-11:00 a.m.\nLocation: Fort Missoula Native Plant Garden \nThe beautiful Native Plant Garden at Fort Missoula could use volunteers to weed\, transplant plants out of the walkways and prune shrubs. Volunteering is available most Sunday mornings from 9:00-11:00 a.m. and you can pop in and out any time during that period. We will supply the gloves and tools but if you have your own feel free to bring them. In addition to working\, you can learn about the plants\, birds and ecology of the garden from Elena Ulev\, the Garden Manager. \nDIG IN! For more information on programs happening at the Fort Missoula Native Plant Garden\, click here!
URL:https://www.montananaturalist.org/event/volunteering-at-fort-missoula-native-plant-garden-6/2026-07-19/
LOCATION:Fort Missoula Native Plant Garden\, 404 H Road\, Missoula\, MT\, 59804\, United States
CATEGORIES:Native Plant Garden Programs,Volunteer Opportunity
ATTACH;FMTTYPE=image/png:https://www.montananaturalist.org/wp-content/uploads/3-4.png
GEO:46.8394228;-114.057275
X-APPLE-STRUCTURED-LOCATION;VALUE=URI;X-ADDRESS=Fort Missoula Native Plant Garden 404 H Road Missoula MT 59804 United States;X-APPLE-RADIUS=500;X-TITLE=404 H Road:geo:-114.057275,46.8394228
END:VEVENT
BEGIN:VEVENT
DTSTART;TZID=America/Denver:20260726T090000
DTEND;TZID=America/Denver:20260726T110000
DTSTAMP:20260420T204015
CREATED:20260327T191427Z
LAST-MODIFIED:20260327T191427Z
UID:10003405-1785056400-1785063600@www.montananaturalist.org
SUMMARY:Volunteering at Fort Missoula Native Plant Garden
DESCRIPTION:Dates: Select Sundays\, May-August \nTime: 9:00 a.m.-11:00 a.m.\nLocation: Fort Missoula Native Plant Garden \nThe beautiful Native Plant Garden at Fort Missoula could use volunteers to weed\, transplant plants out of the walkways and prune shrubs. Volunteering is available most Sunday mornings from 9:00-11:00 a.m. and you can pop in and out any time during that period. We will supply the gloves and tools but if you have your own feel free to bring them. In addition to working\, you can learn about the plants\, birds and ecology of the garden from Elena Ulev\, the Garden Manager. \nDIG IN! For more information on programs happening at the Fort Missoula Native Plant Garden\, click here!
URL:https://www.montananaturalist.org/event/volunteering-at-fort-missoula-native-plant-garden-6/2026-07-26/
LOCATION:Fort Missoula Native Plant Garden\, 404 H Road\, Missoula\, MT\, 59804\, United States
CATEGORIES:Native Plant Garden Programs,Volunteer Opportunity
ATTACH;FMTTYPE=image/png:https://www.montananaturalist.org/wp-content/uploads/3-4.png
GEO:46.8394228;-114.057275
X-APPLE-STRUCTURED-LOCATION;VALUE=URI;X-ADDRESS=Fort Missoula Native Plant Garden 404 H Road Missoula MT 59804 United States;X-APPLE-RADIUS=500;X-TITLE=404 H Road:geo:-114.057275,46.8394228
END:VEVENT
BEGIN:VEVENT
DTSTART;TZID=America/Denver:20260802T090000
DTEND;TZID=America/Denver:20260802T110000
DTSTAMP:20260420T204015
CREATED:20260327T191427Z
LAST-MODIFIED:20260327T191427Z
UID:10003406-1785661200-1785668400@www.montananaturalist.org
SUMMARY:Volunteering at Fort Missoula Native Plant Garden
DESCRIPTION:Dates: Select Sundays\, May-August \nTime: 9:00 a.m.-11:00 a.m.\nLocation: Fort Missoula Native Plant Garden \nThe beautiful Native Plant Garden at Fort Missoula could use volunteers to weed\, transplant plants out of the walkways and prune shrubs. Volunteering is available most Sunday mornings from 9:00-11:00 a.m. and you can pop in and out any time during that period. We will supply the gloves and tools but if you have your own feel free to bring them. In addition to working\, you can learn about the plants\, birds and ecology of the garden from Elena Ulev\, the Garden Manager. \nDIG IN! For more information on programs happening at the Fort Missoula Native Plant Garden\, click here!
URL:https://www.montananaturalist.org/event/volunteering-at-fort-missoula-native-plant-garden-6/2026-08-02/
LOCATION:Fort Missoula Native Plant Garden\, 404 H Road\, Missoula\, MT\, 59804\, United States
CATEGORIES:Native Plant Garden Programs,Volunteer Opportunity
ATTACH;FMTTYPE=image/png:https://www.montananaturalist.org/wp-content/uploads/3-4.png
GEO:46.8394228;-114.057275
X-APPLE-STRUCTURED-LOCATION;VALUE=URI;X-ADDRESS=Fort Missoula Native Plant Garden 404 H Road Missoula MT 59804 United States;X-APPLE-RADIUS=500;X-TITLE=404 H Road:geo:-114.057275,46.8394228
END:VEVENT
BEGIN:VEVENT
DTSTART;TZID=America/Denver:20260809T090000
DTEND;TZID=America/Denver:20260809T110000
DTSTAMP:20260420T204015
CREATED:20260327T191427Z
LAST-MODIFIED:20260327T191427Z
UID:10003407-1786266000-1786273200@www.montananaturalist.org
SUMMARY:Volunteering at Fort Missoula Native Plant Garden
DESCRIPTION:Dates: Select Sundays\, May-August \nTime: 9:00 a.m.-11:00 a.m.\nLocation: Fort Missoula Native Plant Garden \nThe beautiful Native Plant Garden at Fort Missoula could use volunteers to weed\, transplant plants out of the walkways and prune shrubs. Volunteering is available most Sunday mornings from 9:00-11:00 a.m. and you can pop in and out any time during that period. We will supply the gloves and tools but if you have your own feel free to bring them. In addition to working\, you can learn about the plants\, birds and ecology of the garden from Elena Ulev\, the Garden Manager. \nDIG IN! For more information on programs happening at the Fort Missoula Native Plant Garden\, click here!
URL:https://www.montananaturalist.org/event/volunteering-at-fort-missoula-native-plant-garden-6/2026-08-09/
LOCATION:Fort Missoula Native Plant Garden\, 404 H Road\, Missoula\, MT\, 59804\, United States
CATEGORIES:Native Plant Garden Programs,Volunteer Opportunity
ATTACH;FMTTYPE=image/png:https://www.montananaturalist.org/wp-content/uploads/3-4.png
GEO:46.8394228;-114.057275
X-APPLE-STRUCTURED-LOCATION;VALUE=URI;X-ADDRESS=Fort Missoula Native Plant Garden 404 H Road Missoula MT 59804 United States;X-APPLE-RADIUS=500;X-TITLE=404 H Road:geo:-114.057275,46.8394228
END:VEVENT
END:VCALENDAR