BEGIN:VCALENDAR
VERSION:2.0
PRODID:-//Montana Natural History Center - ECPv6.15.18//NONSGML v1.0//EN
CALSCALE:GREGORIAN
METHOD:PUBLISH
X-WR-CALNAME:Montana Natural History Center
X-ORIGINAL-URL:https://www.montananaturalist.org
X-WR-CALDESC:Events for Montana Natural History Center
REFRESH-INTERVAL;VALUE=DURATION:PT1H
X-Robots-Tag:noindex
X-PUBLISHED-TTL:PT1H
BEGIN:VTIMEZONE
TZID:America/Denver
BEGIN:DAYLIGHT
TZOFFSETFROM:-0700
TZOFFSETTO:-0600
TZNAME:MDT
DTSTART:20250309T090000
END:DAYLIGHT
BEGIN:STANDARD
TZOFFSETFROM:-0600
TZOFFSETTO:-0700
TZNAME:MST
DTSTART:20251102T080000
END:STANDARD
BEGIN:DAYLIGHT
TZOFFSETFROM:-0700
TZOFFSETTO:-0600
TZNAME:MDT
DTSTART:20260308T090000
END:DAYLIGHT
BEGIN:STANDARD
TZOFFSETFROM:-0600
TZOFFSETTO:-0700
TZNAME:MST
DTSTART:20261101T080000
END:STANDARD
BEGIN:DAYLIGHT
TZOFFSETFROM:-0700
TZOFFSETTO:-0600
TZNAME:MDT
DTSTART:20270314T090000
END:DAYLIGHT
BEGIN:STANDARD
TZOFFSETFROM:-0600
TZOFFSETTO:-0700
TZNAME:MST
DTSTART:20271107T080000
END:STANDARD
END:VTIMEZONE
BEGIN:VEVENT
DTSTART;TZID=America/Denver:20260331T100000
DTEND;TZID=America/Denver:20260331T110000
DTSTAMP:20260424T160701
CREATED:20250728T225016Z
LAST-MODIFIED:20250729T211452Z
UID:10003003-1774951200-1774954800@www.montananaturalist.org
SUMMARY:miniNaturalist Pre-K Program
DESCRIPTION:The miniNaturalist pre-K program encourages curiosity for the natural world.\nDates: Every Tuesday\, September – May\nTime: 10:00-11:00 am\nLocation: Montana Natural History Center\, 120 Hickory Street. \nThe miniNaturalist program encourages curiosity for the natural world through exploration and play. We sing songs\, read books\, play games\, and develop skills with art and science tools. Each program begins with songs\, movement\, and stories. We then provide materials for learner directed discovery in our garden. We look for bugs and birds\, color on rocks\, build with branches\, experiment with science tools and play with a variety of art materials. \nPlease bring clothes for outdoor play! We have some snow clothes to borrow. \nBest for ages 2-4\, though any age is welcome! \nCost: FREE!
URL:https://www.montananaturalist.org/event/mininaturalist-pre-k-program-2/2026-03-31/
LOCATION:Montana Natural History Center
CATEGORIES:Kids' Program,miniNaturalist Pre-K Program
ATTACH;FMTTYPE=image/jpeg:https://www.montananaturalist.org/wp-content/uploads/prek-kids-painting-e1736271114732.jpeg
GEO:46.8706038;-114.0060024
END:VEVENT
BEGIN:VEVENT
DTSTART;TZID=America/Denver:20260331T190000
DTEND;TZID=America/Denver:20260331T210000
DTSTAMP:20260424T160701
CREATED:20260106T192916Z
LAST-MODIFIED:20260107T171115Z
UID:10003347-1774983600-1774990800@www.montananaturalist.org
SUMMARY:Sip & Felt with Claudia Paillao
DESCRIPTION:Date: Tuesday\, March 31\, 2026\nTime: 7:00 – 9:00 p.m.\nLocation: MNHC\nCost: $45 MNHC members/$50 non-members.\nAdd your MNHC membership to your order when you check out! \nREGISTER HERE\nOne of our most popular artists is back with a spring Sip & Felt class! Spend an evening with Claudia Paillao of Patagonian Hands and craft a small\, beautiful Montana bird from wool – a perfect decoration for your home or a unique gift for someone you love. Claudia will instruct you on how to use a special barbed needle and local wool in the needle felting process. Needle felting is the process of using a barbed needle to activate the fibers in the wool\, causing them to compress as you rapidly poke the wool. First you’ll create the shape of the bird\, then finish your piece by layering on colored wool. Claudia will show you how to add just the right details to make your wool creation look like the real thing! Join us for an evening of creating\, relaxing\, and enjoying a beverage (or two). No experience is necessary! \nNote: The bird pictured is an example. The actual species is TBA. \nIncluded: \n\nBarbed needle you get to keep for future projects\nWool\nHandmade creation you bring home\nBeverages – wine\, beer\, cocoa\, tea\, or fizzy water\n\nInstructor: Claudia Paillao is the owner of Patagonian Hands. She is from Coyhaique\, Patagonia\, Chile\, and has been living in Missoula\, Montana\, with her husband Karl since July 2012. She used to be a school teacher in Chile and has become a self-taught fiber artist and jewelry artisan since she moved to the northern hemisphere. Claudia creates animals\, mostly birds\, using only sheep wool that she gets in Hall\, MT\, and some from her family in Chile. She doesn’t use any glues or stitches to keep sculptures together\, but the compression she gets through barbed needles that push the fibers every time she pokes the wool. This process is known as needle felting. \nFAQs\nWhat’s the refund policy? \nThe course fee (minus a 25% administrative fee) is refundable if a cancellation is made up to 7 days before the event. No refunds will be issued for cancellations made after this deadline. See our full refund/cancellation policy here. \nDo I have to bring my printed ticket to the event? \nNope! We will have a list of all the attendees.
URL:https://www.montananaturalist.org/event/sip-and-felt-with-claudia-paillao/
LOCATION:Montana Natural History Center
CATEGORIES:Community Event,Sip & Sketch
ATTACH;FMTTYPE=image/jpeg:https://www.montananaturalist.org/wp-content/uploads/western-bluebird-patagonian-hands-copy-e1767733427207.jpg
GEO:46.8706038;-114.0060024
END:VEVENT
END:VCALENDAR