BEGIN:VCALENDAR
VERSION:2.0
PRODID:-//Montana Natural History Center - ECPv6.15.18//NONSGML v1.0//EN
CALSCALE:GREGORIAN
METHOD:PUBLISH
X-ORIGINAL-URL:https://www.montananaturalist.org
X-WR-CALDESC:Events for Montana Natural History Center
REFRESH-INTERVAL;VALUE=DURATION:PT1H
X-Robots-Tag:noindex
X-PUBLISHED-TTL:PT1H
BEGIN:VTIMEZONE
TZID:America/Denver
BEGIN:DAYLIGHT
TZOFFSETFROM:-0700
TZOFFSETTO:-0600
TZNAME:MDT
DTSTART:20240310T090000
END:DAYLIGHT
BEGIN:STANDARD
TZOFFSETFROM:-0600
TZOFFSETTO:-0700
TZNAME:MST
DTSTART:20241103T080000
END:STANDARD
BEGIN:DAYLIGHT
TZOFFSETFROM:-0700
TZOFFSETTO:-0600
TZNAME:MDT
DTSTART:20250309T090000
END:DAYLIGHT
BEGIN:STANDARD
TZOFFSETFROM:-0600
TZOFFSETTO:-0700
TZNAME:MST
DTSTART:20251102T080000
END:STANDARD
BEGIN:DAYLIGHT
TZOFFSETFROM:-0700
TZOFFSETTO:-0600
TZNAME:MDT
DTSTART:20260308T090000
END:DAYLIGHT
BEGIN:STANDARD
TZOFFSETFROM:-0600
TZOFFSETTO:-0700
TZNAME:MST
DTSTART:20261101T080000
END:STANDARD
END:VTIMEZONE
BEGIN:VEVENT
DTSTART;TZID=America/Denver:20251013T180000
DTEND;TZID=America/Denver:20251013T200000
DTSTAMP:20260423T034106
CREATED:20250917T195718Z
LAST-MODIFIED:20250917T195720Z
UID:10002879-1760378400-1760385600@www.montananaturalist.org
SUMMARY:Nature Writing "Hush Hour(s)"
DESCRIPTION:Date: Second Monday of the Month\nTime: 6:00 p.m. – 8:00 p.m.\nLocation: Montana Natural History Center\nCost: Free\, but please register \nREGISTER HERE\nWhatever genre you prefer — poetry\, essay\, prose\, flash\, etc. — writing can help us connect with and reflect on our natural surroundings in deeply personal\, unexpected\, rewarding ways. But finding the time to write can often be challenging. This writing “hush hour(s)” is designed to provide nature writers with a quiet\, supportive setting to work on your craft. This isn’t a workshop; this is space to write. \nIn this group\, we’ll spend roughly the first 20 minutes inviting individuals to share what projects you’re working on\, questions you might have about your work\, suggest resources\, any hurdles or writing blocks\, and writing successes! Then we’ll write\, write\, write. \nBring your notebook\, journal\, or computer. Writing prompts will be available if you’re feeling stuck\, or just want to play with words. Your MNHC group leaders are Allison De Jong (Montana Naturalist magazine editor and MNHC Field Notes instructor\, and writer) and Beth Conway (Events and Marketing Coordinator\, and writer). \nFeel free to BYOB and snacks. We’ll have light refreshments available.
URL:https://www.montananaturalist.org/event/nature-writing-hush-hours-5-6/
LOCATION:Montana Natural History Center
CATEGORIES:Community Event,Evening Programs
ATTACH;FMTTYPE=image/png:https://www.montananaturalist.org/wp-content/uploads/nature-writing-2.png
GEO:46.8706038;-114.0060024
END:VEVENT
BEGIN:VEVENT
DTSTART;TZID=America/Denver:20251013T183000
DTEND;TZID=America/Denver:20251013T203000
DTSTAMP:20260423T034106
CREATED:20250812T183018Z
LAST-MODIFIED:20260106T190209Z
UID:10003027-1760380200-1760387400@www.montananaturalist.org
SUMMARY:Virtual Naturalist Book Club #2
DESCRIPTION:Date: Monthly\, on the second Monday of the month (except January\, June\, July\, and August)\nTime: 6:30 p.m.\nLocation/Platform: Virtual Zoom Classroom \nThe only thing better than reading a fascinating natural history book (and there are so many of them!) is getting to discuss it with a wonderful group of like-minded people. We can help you do that! Join one of our free naturalist book clubs\, where you can read and discuss a great new book each month\, enjoying various perspectives and insights\, all from the comfort of your own home. (Cozy pjs are perfectly acceptable attire.) This book club meets September-May and breaks for the summer. \nBook List \nSeptember: Light Eaters\nOctober: The Serviceberry\nNovember: The Stubborn Light of Things\nDecember: Flight Paths\nJanuary: no meeting this month\nFebruary: Woman Among Wolves\nMarch:  What an Owl Knows\nApril: Restoring the Kinship Worldview                                                                                                                May: Tenacious Beasts \nYour hosts will be Sherry Staub and Cas Kendley. Sherry has led the Sacajawea book club for over two years in Bozeman and has extensively read in the nature book genre. Cas started and led a book club as a UM student and is looking forward to starting an advanced degree in forestry at the UM. \nYou will need a computer that can access the internet and Zoom platform in order to participate. \nInterested in joining? There are spaces available! Email Christine at cmorris [at] montananaturalist [dot] org to sign up. \nGroup is limited to 10 participants.
URL:https://www.montananaturalist.org/event/naturalist-book-club-2/2025-10-13/
LOCATION:Virtual Zoom Classroom
CATEGORIES:Community Event,Evening Programs
ATTACH;FMTTYPE=image/jpeg:https://www.montananaturalist.org/wp-content/uploads/depositphotos_219045558-stock-photo-reading-outdoor-theme-image-open-e1760043072780.jpg
END:VEVENT
BEGIN:VEVENT
DTSTART;TZID=America/Denver:20251014T100000
DTEND;TZID=America/Denver:20251014T110000
DTSTAMP:20260423T034106
CREATED:20250728T225016Z
LAST-MODIFIED:20250729T211452Z
UID:10002979-1760436000-1760439600@www.montananaturalist.org
SUMMARY:miniNaturalist Pre-K Program
DESCRIPTION:The miniNaturalist pre-K program encourages curiosity for the natural world.\nDates: Every Tuesday\, September – May\nTime: 10:00-11:00 am\nLocation: Montana Natural History Center\, 120 Hickory Street. \nThe miniNaturalist program encourages curiosity for the natural world through exploration and play. We sing songs\, read books\, play games\, and develop skills with art and science tools. Each program begins with songs\, movement\, and stories. We then provide materials for learner directed discovery in our garden. We look for bugs and birds\, color on rocks\, build with branches\, experiment with science tools and play with a variety of art materials. \nPlease bring clothes for outdoor play! We have some snow clothes to borrow. \nBest for ages 2-4\, though any age is welcome! \nCost: FREE!
URL:https://www.montananaturalist.org/event/mininaturalist-pre-k-program-2/2025-10-14/
LOCATION:Montana Natural History Center
CATEGORIES:Kids' Program,miniNaturalist Pre-K Program
ATTACH;FMTTYPE=image/jpeg:https://www.montananaturalist.org/wp-content/uploads/prek-kids-painting-e1736271114732.jpeg
GEO:46.8706038;-114.0060024
END:VEVENT
BEGIN:VEVENT
DTSTART;TZID=America/Denver:20251014T183000
DTEND;TZID=America/Denver:20251014T203000
DTSTAMP:20260423T034106
CREATED:20231214T180948Z
LAST-MODIFIED:20250107T173314Z
UID:10001313-1760466600-1760473800@www.montananaturalist.org
SUMMARY:Virtual Naturalist Book Club #1
DESCRIPTION:Date: Monthly\, on the second Tuesday of the month  \nTime: 6:30 p.m. \nLocation/Platform: Virtual Zoom Classroom \nThe only thing better than reading a fascinating natural history book (and there are so many of them!) is getting to discuss it with a wonderful group of like-minded people. We can help you do that! Join one of our free naturalist book clubs\, where you can read and discuss a great new book each month\, enjoying various perspectives and insights\, all from the comfort of your own home. (Cozy pjs are perfectly acceptable attire.) \nYour hosts are Master Naturalist Suzanne Hendrich and Deborah Drain. \nYou will need a computer that can access the internet and Zoom platform in order to participate. \nThere are some spaces available in this book club. Contact cmorris (at) montananaturalist.org to sign up.  \nGroup is limited to 10 participants.
URL:https://www.montananaturalist.org/event/virtual-naturalist-book-club-1-2/2025-10-14/
LOCATION:Virtual Zoom Classroom
CATEGORIES:Community Event,Evening Programs,Virtual Class
ATTACH;FMTTYPE=image/jpeg:https://www.montananaturalist.org/wp-content/uploads/book-and-cup-of-coffee-in-hands-of-girl-on-winter-evening-near-picture-id909045284-e1736271185658.jpg
END:VEVENT
BEGIN:VEVENT
DTSTART;TZID=America/Denver:20251016T180000
DTEND;TZID=America/Denver:20251016T200000
DTSTAMP:20260423T034106
CREATED:20250929T173055Z
LAST-MODIFIED:20250929T173142Z
UID:10002415-1760637600-1760644800@www.montananaturalist.org
SUMMARY:Scavengers Photography Club
DESCRIPTION:Dates: Third Thursday of the Month\nTime: 6:00 – 8:00 p.m.\nLocation: Montana Natural History Center \nCome find community and inspiration for your nature photography passion at our Scavengers Photography Club! Everyone is welcome – hobbyists\, enthusiasts\, professionals\, and new beginners! Peggy Christian\, artist\, author\, and Master Naturalist\, hosts this unique club. \nAt each session we will share our photos (up to 6 per person) and discuss current projects\, interests\, successes\, and challenges. Some sessions will feature a guest presentation on an aspect of photography. \nFor our October session\, Kathy Eyster\, a photography teacher for more than 25 years\, will discuss creating effective black and white photos using either a smartphone or digital camera. Kathy will also demonstrate how to change color photos into strong black & white images. Anyone curious about what makes a successful black and white photo will benefit from this presentation. \nNote: Please bring your photos to share on a thumb drive to use in our computer. \n“A great photograph is one that fully expresses what one feels\, in the deepest sense\, about what is being photographed.”\n― Ansel Adams \nShare your perspective and connection to nature through photography!
URL:https://www.montananaturalist.org/event/scavengers-photography-club-3-2-2-2-3-5/
LOCATION:Montana Natural History Center
CATEGORIES:Community Event,Discovery Day,Presentation
ATTACH;FMTTYPE=image/jpeg:https://www.montananaturalist.org/wp-content/uploads/DSCN7866-3-Edit-e1745957299415.jpg
GEO:46.8706038;-114.0060024
END:VEVENT
BEGIN:VEVENT
DTSTART;TZID=America/Denver:20251018T130000
DTEND;TZID=America/Denver:20251018T150000
DTSTAMP:20260423T034106
CREATED:20250919T185228Z
LAST-MODIFIED:20250930T044842Z
UID:10003107-1760792400-1760799600@www.montananaturalist.org
SUMMARY:Saturday Kids' Activity: Spooky Skeletons!
DESCRIPTION:Date: Saturday\, October 18\nTime: 1:00-3:00 p.m.\nLocation: Montana Natural History Center\nCost: Free with membership/cost of admission \nJoin us for exciting and educational Saturdays filled with delightful activities designed to captivate young minds and inspire a love for nature! \nOur drop-in Saturday programs feature activities\, art\, science experiments\, and more. Stop in anytime between 1:00 p.m. and 3:00 p.m. for the fun! Kids might look for Osprey with binoculars\, dissect owl pellets\, or walk a model of the solar system. Every month features a new topic. The whole family can be involved\, as the exploration and activities are suitable for a wide age range. \nOn Saturday\, October 18th\, we’ll have fun with spooky skeletons! \nSaturday Kids’ Activities are great for kids ages pre-k through elementary school.
URL:https://www.montananaturalist.org/event/saturday-kids-activity-spooky-skeletons/
LOCATION:Montana Natural History Center
CATEGORIES:Kids' Program,Saturday Kids' Activities
ATTACH;FMTTYPE=image/png:https://www.montananaturalist.org/wp-content/uploads/Untitled-design-98-e1759207716437.png
GEO:46.8706038;-114.0060024
END:VEVENT
BEGIN:VEVENT
DTSTART;TZID=America/Denver:20251019T090000
DTEND;TZID=America/Denver:20251019T110000
DTSTAMP:20260423T034106
CREATED:20250929T155925Z
LAST-MODIFIED:20250929T155925Z
UID:10003116-1760864400-1760871600@www.montananaturalist.org
SUMMARY:Volunteering at Fort Missoula Native Plant Garden
DESCRIPTION:Dates: Sundays\, October 5 & 19\, 2025\nTime: 9:00 a.m.-11:00 a.m.\nLocation: Fort Missoula Native Plant Garden \nThe beautiful Native Plant Garden at Fort Missoula could use volunteers to weed\, transplant plants out of the walkways and prune shrubs. Volunteering is available most Sunday mornings from 9:00-11:00 a.m. and you can pop in and out any time during that period. We will supply the gloves and tools but if you have your own feel free to bring them. In addition to working\, you can learn about the plants\, birds and ecology of the garden from Elena Ulev\, the Garden Manager. \nDIG IN! For more information on programs happening at the Fort Missoula Native Plant Garden\, click here!
URL:https://www.montananaturalist.org/event/volunteering-at-fort-missoula-native-plant-garden-5/2025-10-19/
LOCATION:Montana Natural History Center
CATEGORIES:Native Plant Garden Programs,Volunteer Opportunity
ATTACH;FMTTYPE=image/png:https://www.montananaturalist.org/wp-content/uploads/3-4.png
GEO:46.8706038;-114.0060024
END:VEVENT
END:VCALENDAR