BEGIN:VCALENDAR
VERSION:2.0
PRODID:-//Montana Natural History Center - ECPv6.15.18//NONSGML v1.0//EN
CALSCALE:GREGORIAN
METHOD:PUBLISH
X-WR-CALNAME:Montana Natural History Center
X-ORIGINAL-URL:https://www.montananaturalist.org
X-WR-CALDESC:Events for Montana Natural History Center
REFRESH-INTERVAL;VALUE=DURATION:PT1H
X-Robots-Tag:noindex
X-PUBLISHED-TTL:PT1H
BEGIN:VTIMEZONE
TZID:America/Denver
BEGIN:DAYLIGHT
TZOFFSETFROM:-0700
TZOFFSETTO:-0600
TZNAME:MDT
DTSTART:20240310T090000
END:DAYLIGHT
BEGIN:STANDARD
TZOFFSETFROM:-0600
TZOFFSETTO:-0700
TZNAME:MST
DTSTART:20241103T080000
END:STANDARD
BEGIN:DAYLIGHT
TZOFFSETFROM:-0700
TZOFFSETTO:-0600
TZNAME:MDT
DTSTART:20250309T090000
END:DAYLIGHT
BEGIN:STANDARD
TZOFFSETFROM:-0600
TZOFFSETTO:-0700
TZNAME:MST
DTSTART:20251102T080000
END:STANDARD
BEGIN:DAYLIGHT
TZOFFSETFROM:-0700
TZOFFSETTO:-0600
TZNAME:MDT
DTSTART:20260308T090000
END:DAYLIGHT
BEGIN:STANDARD
TZOFFSETFROM:-0600
TZOFFSETTO:-0700
TZNAME:MST
DTSTART:20261101T080000
END:STANDARD
END:VTIMEZONE
BEGIN:VEVENT
DTSTART;TZID=America/Denver:20250819T090000
DTEND;TZID=America/Denver:20250819T110000
DTSTAMP:20260422T061847
CREATED:20250721T190405Z
LAST-MODIFIED:20250721T191516Z
UID:10002896-1755594000-1755601200@www.montananaturalist.org
SUMMARY:Dig Your Own Native Shrub Sale
DESCRIPTION:Date: Tuesday\, August 19\nTime: 9:00-11:00 a.m.\nLocation: Native Plant Garden at Fort Missoula\nCost: $30 MNHC members/$35 non-members\n(children 17 and under are free when accompanied by a ticketed adult) \nREGISTER HERE!\nThis class includes instruction for successful transplanting\, and as many chokecherry\, snowberry\, golden currant seedlings as you like! Bring a bucket or several large plastic bags for your new plants! \nDIG IN! For more information on programs happening at the Fort Missoula Native Plant Garden\, click here! \nFAQs\nWhat’s the refund policy? \nThe course fee (minus a 25% administrative fee) is refundable if a cancellation is made up to 7 days before the event. No refunds will be issued for cancellations made after this deadline. See our full refund/cancellation policy here. \nDo I have to bring my printed ticket to the event? \nNope! We will have a list of all the attendees.
URL:https://www.montananaturalist.org/event/dig-your-own-native-shrub-sale/
LOCATION:Montana Natural History Center
CATEGORIES:Native Plant Garden Programs
ATTACH;FMTTYPE=image/png:https://www.montananaturalist.org/wp-content/uploads/1-6.png
GEO:46.8706038;-114.0060024
END:VEVENT
BEGIN:VEVENT
DTSTART;TZID=America/Denver:20250819T190000
DTEND;TZID=America/Denver:20250819T210000
DTSTAMP:20260422T061847
CREATED:20250620T184525Z
LAST-MODIFIED:20250626T180857Z
UID:10002886-1755630000-1755637200@www.montananaturalist.org
SUMMARY:FUNdraising with the PaddleHeads!
DESCRIPTION:Date: Tuesday\, August 19\nTime: Gates open at 6:00 p.m.\, first pitch at 7:05 p.m.\nLocation: Ogren Park at Allegiance Field\nCost: Ticket prices vary\, depending on seat ($9-$50) \nGather your friends\, family\, and fellow supporters\, and let’s fill the stands to support MNHC! \nWe are excited to invite you to a special night at the ballpark in support of the Montana Natural History Center! Join us at the Missoula PaddleHeads game on August 19th as we come together for a fun-filled evening while raising funds for MNHC. \nPaddleHeads Community Tuesdays at the ballpark are a celebration\, recognition\, and educational opportunity focused on nonprofits in Missoula for all who attend. \n50% of every ticket purchased through this link goes directly to supporting MNHC and our mission to connect people with nature. The Missoula PaddleHeads ownership will then match that 50%! Meaning 100% of the ticket revenue will go back to supporting our organization! This is a fantastic way to enjoy a great game at an affordable price while making a difference in our community! \nGET YOUR TICKETS TODAY and help us knock this fundraiser out of the park!
URL:https://www.montananaturalist.org/event/fundraising-with-the-paddleheads/
LOCATION:Montana Natural History Center
CATEGORIES:Community Event,Fundraiser
ATTACH;FMTTYPE=image/png:https://www.montananaturalist.org/wp-content/uploads/Untitled-design-75-e1750961331730.png
GEO:46.8706038;-114.0060024
END:VEVENT
BEGIN:VEVENT
DTSTART;TZID=America/Denver:20250821T180000
DTEND;TZID=America/Denver:20250821T200000
DTSTAMP:20260422T061847
CREATED:20250728T220633Z
LAST-MODIFIED:20250728T220634Z
UID:10002413-1755799200-1755806400@www.montananaturalist.org
SUMMARY:Scavengers Photography Club
DESCRIPTION:Dates: Third Thursday of the Month\nTime: 6:00 – 8:00 p.m.\nLocation: Montana Natural History Center \nCome find community and inspiration for your nature photography passion at our Scavengers Photography Club! Everyone is welcome – hobbyists\, enthusiasts\, professionals\, and new beginners! Peggy Christian\, artist\, author\, and Master Naturalist\, hosts this unique club. \nAt each session we will share our photos (up to 6 per person) and discuss current projects\, interests\, successes\, and challenges. Some sessions will feature a guest presentation on an aspect of photography. \nPhoto by Forest Chaput de Saintonge \nFor August’s meeting we are joined by Forest Chaput de Saintonge\, former director of Rocky Mountain School of Photography\, who will outline a step-by-step workflow to take you from your first star trail photo to capturing a deep-sky image of a galaxy or nebula in just five nights of shooting. Included are making star trails and pinpoint stars\, finding faint objects\, and photographing them with a long lens. Anyone new to astrophotography or curious about the topic will enjoy this presentation. \nNote: Please bring your photos to share on a thumb drive to use in our computer. \n“A great photograph is one that fully expresses what one feels\, in the deepest sense\, about what is being photographed.”\n― Ansel Adams \nShare your perspective and connection to nature through photography!
URL:https://www.montananaturalist.org/event/scavengers-photography-club-3-2-2-2-3-3/
LOCATION:Montana Natural History Center
CATEGORIES:Community Event,Discovery Day,Presentation
ATTACH;FMTTYPE=image/jpeg:https://www.montananaturalist.org/wp-content/uploads/DSCN7866-3-Edit-e1745957299415.jpg
GEO:46.8706038;-114.0060024
END:VEVENT
END:VCALENDAR