BEGIN:VCALENDAR
VERSION:2.0
PRODID:-//Montana Natural History Center - ECPv6.15.18//NONSGML v1.0//EN
CALSCALE:GREGORIAN
METHOD:PUBLISH
X-WR-CALNAME:Montana Natural History Center
X-ORIGINAL-URL:https://www.montananaturalist.org
X-WR-CALDESC:Events for Montana Natural History Center
REFRESH-INTERVAL;VALUE=DURATION:PT1H
X-Robots-Tag:noindex
X-PUBLISHED-TTL:PT1H
BEGIN:VTIMEZONE
TZID:America/Denver
BEGIN:DAYLIGHT
TZOFFSETFROM:-0700
TZOFFSETTO:-0600
TZNAME:MDT
DTSTART:20240310T090000
END:DAYLIGHT
BEGIN:STANDARD
TZOFFSETFROM:-0600
TZOFFSETTO:-0700
TZNAME:MST
DTSTART:20241103T080000
END:STANDARD
BEGIN:DAYLIGHT
TZOFFSETFROM:-0700
TZOFFSETTO:-0600
TZNAME:MDT
DTSTART:20250309T090000
END:DAYLIGHT
BEGIN:STANDARD
TZOFFSETFROM:-0600
TZOFFSETTO:-0700
TZNAME:MST
DTSTART:20251102T080000
END:STANDARD
BEGIN:DAYLIGHT
TZOFFSETFROM:-0700
TZOFFSETTO:-0600
TZNAME:MDT
DTSTART:20260308T090000
END:DAYLIGHT
BEGIN:STANDARD
TZOFFSETFROM:-0600
TZOFFSETTO:-0700
TZNAME:MST
DTSTART:20261101T080000
END:STANDARD
END:VTIMEZONE
BEGIN:VEVENT
DTSTART;TZID=America/Denver:20250811T180000
DTEND;TZID=America/Denver:20250811T200000
DTSTAMP:20260422T061837
CREATED:20250722T215714Z
LAST-MODIFIED:20250729T173431Z
UID:10002877-1754935200-1754942400@www.montananaturalist.org
SUMMARY:Nature Writing "Hush Hour(s)"
DESCRIPTION:Date: Second Monday of the Month\nTime: 6:00 p.m. – 8:00 p.m.\nLocation: Montana Natural History Center\nCost: Free\, but please register \nREGISTER HERE.\nWhatever genre you prefer — poetry\, essay\, prose\, flash\, etc. — writing can help us connect with and reflect on our natural surroundings in deeply personal\, unexpected\, rewarding ways. But finding the time to write can often be challenging. This writing “hush hour(s)” is designed to provide nature writers with a quiet\, supportive setting to work on your craft. This isn’t a workshop; this is space to write. \nIn this group\, we’ll spend roughly the first 20 minutes inviting individuals to share what projects you’re working on\, questions you might have about your work\, suggest resources\, any hurdles or writing blocks\, and writing successes! Then we’ll write\, write\, write. \nBring your notebook\, journal\, or computer. Writing prompts will be available if you’re feeling stuck\, or just want to play with words. Your MNHC group leaders are Allison De Jong (Montana Naturalist magazine editor and MNHC Field Notes instructor\, and writer) and Beth Conway (Events and Marketing Coordinator\, and writer). \nFeel free to BYOB and snacks. We’ll have light refreshments available.
URL:https://www.montananaturalist.org/event/nature-writing-hush-hours-5-4/
LOCATION:Montana Natural History Center
CATEGORIES:Community Event,Evening Programs
ATTACH;FMTTYPE=image/png:https://www.montananaturalist.org/wp-content/uploads/nature-writing-2.png
GEO:46.8706038;-114.0060024
END:VEVENT
BEGIN:VEVENT
DTSTART;TZID=America/Denver:20250812T090000
DTEND;TZID=America/Denver:20250812T110000
DTSTAMP:20260422T061837
CREATED:20250721T172705Z
LAST-MODIFIED:20250805T193627Z
UID:10002895-1754989200-1754996400@www.montananaturalist.org
SUMMARY:Twenty Native Plants for Food\, Medicine\, and More
DESCRIPTION:Date: Tuesday\, August 12\nTime: 9:00-11:00 a.m.\nLocation: Native Plant Garden at Fort Missoula\nCost: $30 MNHC members/$35 non-members\n(children 17 and under are free when accompanied by a ticketed adult) \nIn this class\, we will stroll around the Native Plant Garden and adjacent floodplain to find at least 20 species of native plants that can be used for food\, medicine\, dye\, cordage and more! From yarrow and black cottonwood to golden currant and Oregon grape\, so many plants have useful and wonderful qualities. \nREGISTER HERE!\nDIG IN! For more information on programs happening at the Fort Missoula Native Plant Garden\, click here! \nFAQs\nWhat’s the refund policy? \nThe course fee (minus a 25% administrative fee) is refundable if a cancellation is made up to 7 days before the event. No refunds will be issued for cancellations made after this deadline. See our full refund/cancellation policy here. \nDo I have to bring my printed ticket to the event? \nNope! We will have a list of all the attendees.
URL:https://www.montananaturalist.org/event/twenty-native-plants-for-food-medicine-and-more/
LOCATION:Montana Natural History Center
CATEGORIES:Native Plant Garden Programs
ATTACH;FMTTYPE=image/png:https://www.montananaturalist.org/wp-content/uploads/Untitled-design-81-e1754422581138.png
GEO:46.8706038;-114.0060024
END:VEVENT
BEGIN:VEVENT
DTSTART;TZID=America/Denver:20250812T183000
DTEND;TZID=America/Denver:20250812T203000
DTSTAMP:20260422T061837
CREATED:20231214T180948Z
LAST-MODIFIED:20250107T173314Z
UID:10001311-1755023400-1755030600@www.montananaturalist.org
SUMMARY:Virtual Naturalist Book Club #1
DESCRIPTION:Date: Monthly\, on the second Tuesday of the month  \nTime: 6:30 p.m. \nLocation/Platform: Virtual Zoom Classroom \nThe only thing better than reading a fascinating natural history book (and there are so many of them!) is getting to discuss it with a wonderful group of like-minded people. We can help you do that! Join one of our free naturalist book clubs\, where you can read and discuss a great new book each month\, enjoying various perspectives and insights\, all from the comfort of your own home. (Cozy pjs are perfectly acceptable attire.) \nYour hosts are Master Naturalist Suzanne Hendrich and Deborah Drain. \nYou will need a computer that can access the internet and Zoom platform in order to participate. \nThere are some spaces available in this book club. Contact cmorris (at) montananaturalist.org to sign up.  \nGroup is limited to 10 participants.
URL:https://www.montananaturalist.org/event/virtual-naturalist-book-club-1-2/2025-08-12/
LOCATION:Virtual Zoom Classroom
CATEGORIES:Community Event,Evening Programs,Virtual Class
ATTACH;FMTTYPE=image/jpeg:https://www.montananaturalist.org/wp-content/uploads/book-and-cup-of-coffee-in-hands-of-girl-on-winter-evening-near-picture-id909045284-e1736271185658.jpg
END:VEVENT
BEGIN:VEVENT
DTSTART;TZID=America/Denver:20250815T090000
DTEND;TZID=America/Denver:20250815T120000
DTSTAMP:20260422T061837
CREATED:20250707T175504Z
LAST-MODIFIED:20250708T221728Z
UID:10002891-1755248400-1755259200@www.montananaturalist.org
SUMMARY:Confident Color Mixing for Nature Journaling with Nancy Seiler
DESCRIPTION:Date: Friday\, August 15\, 2025\nTime: 9:00 a.m. – 12:00 p.m.\nLocation: Meet at Greenough Park (the site with the picnic pavillion and playground)\nCost: $50\, $45 MNHC members \nREGISTER HERE\nMaster color mixing with artist Nancy Seiler! \nHave you been nature journaling for a while and feel a bit overwhelmed when mixing colors? This class is for you! Nancy will help you understand how to choose colors to match the natural objects that you see. She’ll explain pigments so that you will come away understanding how to obtain bright and dull colors\, use complimentary colors\, mix grays\, and utilize whatever watercolors you have on hand. \nNancy will be teaching from the QoR Mini 12-pigment set. We’ll start with swatching to understand the pigments you have\, tricks for blending and layering color\, and how values play a big part of helping your drawings pop. The first two hours will be teaching and working with your pigments. The last hour will be color mixing on your own from objects you find at site with Nancy there to help you achieve color matches. \nNancy Seiler received her Visual Communications degree from The Art Institute of Pittsburgh in 1981. As a Golden Working Artist for Golden Artist Colors she presents lectures\, demonstrations\, and workshops in acrylics\, watercolors\, and oils in Southern California and Montana. She has taught classical botanical illustration and nature journaling since 2003. Her work is represented by Frame of Reference Fine Art in Whitefish and Bigfork\, Montana. \nWhat to Bring: \n\nwater/snacks\nclothes for changing Montana weather conditions – layers\, sunscreen\, hat\nyour watercolor set\nwatercolor paper or watercolor/mixed media journal\n#8 round brush or similar\ngraphite pencil and eraser\nmicro pen (any size point)\nanything you may need to be comfortable sitting and journaling outside for 3 hours. There are picnic tables\, but you may want your own chair\, or pillow\, or whatever you use when journaling.\n\nFAQs\nWhat’s the refund policy? \nThe course fee (minus a 25% administrative fee) is refundable if a cancellation is made up to 7 days before the event. No refunds will be issued for cancellations made after this deadline. See our full refund/cancellation policy here. \nDo I have to bring my printed ticket to the event? \nNope! We will have a list of all the attendees.
URL:https://www.montananaturalist.org/event/confident-color-mixing-for-nature-journaling-with-nancy-seiler/
LOCATION:Montana Natural History Center
CATEGORIES:Community Event,Naturalist Field Experience
ATTACH;FMTTYPE=image/jpeg:https://www.montananaturalist.org/wp-content/uploads/unnamed-13-e1751915756960.jpg
GEO:46.8706038;-114.0060024
END:VEVENT
END:VCALENDAR