BEGIN:VCALENDAR
VERSION:2.0
PRODID:-//Montana Natural History Center - ECPv6.15.18//NONSGML v1.0//EN
CALSCALE:GREGORIAN
METHOD:PUBLISH
X-WR-CALNAME:Montana Natural History Center
X-ORIGINAL-URL:https://www.montananaturalist.org
X-WR-CALDESC:Events for Montana Natural History Center
REFRESH-INTERVAL;VALUE=DURATION:PT1H
X-Robots-Tag:noindex
X-PUBLISHED-TTL:PT1H
BEGIN:VTIMEZONE
TZID:America/Denver
BEGIN:DAYLIGHT
TZOFFSETFROM:-0700
TZOFFSETTO:-0600
TZNAME:MDT
DTSTART:20240310T090000
END:DAYLIGHT
BEGIN:STANDARD
TZOFFSETFROM:-0600
TZOFFSETTO:-0700
TZNAME:MST
DTSTART:20241103T080000
END:STANDARD
BEGIN:DAYLIGHT
TZOFFSETFROM:-0700
TZOFFSETTO:-0600
TZNAME:MDT
DTSTART:20250309T090000
END:DAYLIGHT
BEGIN:STANDARD
TZOFFSETFROM:-0600
TZOFFSETTO:-0700
TZNAME:MST
DTSTART:20251102T080000
END:STANDARD
BEGIN:DAYLIGHT
TZOFFSETFROM:-0700
TZOFFSETTO:-0600
TZNAME:MDT
DTSTART:20260308T090000
END:DAYLIGHT
BEGIN:STANDARD
TZOFFSETFROM:-0600
TZOFFSETTO:-0700
TZNAME:MST
DTSTART:20261101T080000
END:STANDARD
END:VTIMEZONE
BEGIN:VEVENT
DTSTART;TZID=America/Denver:20250714T180000
DTEND;TZID=America/Denver:20250714T200000
DTSTAMP:20260420T065354
CREATED:20250613T200840Z
LAST-MODIFIED:20250613T200842Z
UID:10002876-1752516000-1752523200@www.montananaturalist.org
SUMMARY:Nature Writing "Hush Hour(s)"
DESCRIPTION:Date: Second Monday of the Month\nTime: 6:00 p.m. – 8:00 p.m.\nLocation: Montana Natural History Center\nCost: Free\, but please register \nREGISTER HERE\nWhatever genre you prefer — poetry\, essay\, prose\, flash\, etc. — writing can help us connect with and reflect on our natural surroundings in deeply personal\, unexpected\, rewarding ways. But finding the time to write can often be challenging. This writing “hush hour(s)” is designed to provide nature writers with a quiet\, supportive setting to work on your craft. This isn’t a workshop; this is space to write. \nIn this group\, we’ll spend roughly the first 20 minutes inviting individuals to share what projects you’re working on\, questions you might have about your work\, suggest resources\, any hurdles or writing blocks\, and writing successes! Then we’ll write\, write\, write. \nBring your notebook\, journal\, or computer. Writing prompts will be available if you’re feeling stuck\, or just want to play with words. Your MNHC group leaders are Allison De Jong (Montana Naturalist magazine editor and MNHC Field Notes instructor\, and writer) and Beth Conway (Events and Marketing Coordinator\, and writer). \nFeel free to BYOB and snacks. We’ll have light refreshments available.
URL:https://www.montananaturalist.org/event/nature-writing-hush-hours-5-3/
LOCATION:Montana Natural History Center
CATEGORIES:Community Event,Evening Programs
ATTACH;FMTTYPE=image/png:https://www.montananaturalist.org/wp-content/uploads/nature-writing-2.png
GEO:46.8706038;-114.0060024
END:VEVENT
BEGIN:VEVENT
DTSTART;TZID=America/Denver:20250715T090000
DTEND;TZID=America/Denver:20250715T110000
DTSTAMP:20260420T065354
CREATED:20250613T190447Z
LAST-MODIFIED:20250707T213141Z
UID:10002884-1752570000-1752577200@www.montananaturalist.org
SUMMARY:Birding at the Fort Garden and River
DESCRIPTION:Date: Tuesday\, July 15\nTime: 9:00-11:00 a.m.\nLocation: Native Plant Garden at Fort Missoula\nCost: $30 MNHC members/$35 non-members\n(children 17 and under are free when accompanied by a ticketed adult) \nREGISTER HERE.\nThe migratory birds have returned to Missoula! It’s breeding season and the garden and the adjacent river habitat have a wonderful symphony of sounds. One can easily hear and see 30 species of birds here\, including a nesting osprey and house wrens\, gray catbirds and warblers. We will bird in the garden then walk down to the river to see waterfowl\, raptors and woodpeckers. \nDIG IN! For more information on programs happening at the Fort Missoula Native Plant Garden\, click here! \nFAQs\nWhat’s the refund policy? \nThe course fee (minus a 25% administrative fee) is refundable if a cancellation is made up to 7 days before the event. No refunds will be issued for cancellations made after this deadline. See our full refund/cancellation policy here. \nDo I have to bring my printed ticket to the event? \nNope! We will have a list of all the attendees.
URL:https://www.montananaturalist.org/event/birding-at-the-fort-garden-and-river/
LOCATION:Montana Natural History Center
CATEGORIES:Community Event,Native Plant Garden Programs
ATTACH;FMTTYPE=image/png:https://www.montananaturalist.org/wp-content/uploads/Untitled-design-72-e1750961535675.png
GEO:46.8706038;-114.0060024
END:VEVENT
BEGIN:VEVENT
DTSTART;TZID=America/Denver:20250716T100000
DTEND;TZID=America/Denver:20250716T113000
DTSTAMP:20260420T065354
CREATED:20250612T153838Z
LAST-MODIFIED:20250626T175759Z
UID:10002882-1752660000-1752665400@www.montananaturalist.org
SUMMARY:Get into Rockhounding!
DESCRIPTION:Date: Wednesday\, July  16\, 2025\nTime: 10:00-11:30 a.m.\nLocation: Montana Natural History Center\nCost: Free for members\, $5 individual/$10 family non-members \nGet into rockhounding this summer! \nREGISTER HERE!\nIn this show-and-tell program we will share the best resources to use to find amazing rocks\, safety tips\, rules and regulations\, the clubs to join for group rockhounding – and how to identify our local rocks! \nYou can travel far or rockhound in your own backyard – amazing rocks are everywhere! In Western Montana you can find quartz crystals\, fluorite\, garnet\, jasper\, agate\, evidence of Glacial Lake Missoula\, nice examples of gneiss\, calcite\, and much more! Our friendly geologists and rock club members will share places they love and how these rocks fit into the fascinating geologic history of Montana. \nIf the weather is nice (gneiss?) we will meet in the Nature Adventure Garden at the east end of the Montana Natural History Center building\, otherwise we will meet indoors.
URL:https://www.montananaturalist.org/event/get-into-rockhounding/
LOCATION:Montana Natural History Center
CATEGORIES:Community Event,Naturalist Field Experience
ATTACH;FMTTYPE=image/png:https://www.montananaturalist.org/wp-content/uploads/Untitled-design-70-e1750960673770.png
GEO:46.8706038;-114.0060024
END:VEVENT
BEGIN:VEVENT
DTSTART;TZID=America/Denver:20250717T180000
DTEND;TZID=America/Denver:20250717T200000
DTSTAMP:20260420T065354
CREATED:20250625T201401Z
LAST-MODIFIED:20250625T201407Z
UID:10002412-1752775200-1752782400@www.montananaturalist.org
SUMMARY:Scavengers Photography Club
DESCRIPTION:Dates: Third Thursday of the Month\nTime: 6:00 – 8:00 p.m.\nLocation: Montana Natural History Center \nPhoto by Kristi DuBois \nCome find community and inspiration for your nature photography passion at our Scavengers Photography Club! Everyone is welcome – hobbyists\, enthusiasts\, professionals\, and new beginners! Peggy Christian\, artist\, author\, and Master Naturalist\, hosts this unique club. \nAt each session we will share our photos (up to 6 per person) and discuss current projects\, interests\, successes\, and challenges. Some sessions will feature a guest presentation on an aspect of photography. \nAt July’s meeting\, retired wildlife biologist Kristi DuBois will talk about macro photography of insects and other bugs. She will cover exposure and lighting techniques along with equipment that can be helpful for successful macro pictures. From aphids and bees to dragonflies\, come and celebrate our little neighbors that run the world. \nNote: Please bring your photos to share on a thumb drive to use in our computer. \n“A great photograph is one that fully expresses what one feels\, in the deepest sense\, about what is being photographed.”\n― Ansel Adams \nShare your perspective and connection to nature through photography!
URL:https://www.montananaturalist.org/event/scavengers-photography-club-3-2-2-2-3-2/
LOCATION:Montana Natural History Center
CATEGORIES:Community Event,Discovery Day,Presentation
ATTACH;FMTTYPE=image/jpeg:https://www.montananaturalist.org/wp-content/uploads/DSCN7866-3-Edit-e1745957299415.jpg
GEO:46.8706038;-114.0060024
END:VEVENT
END:VCALENDAR