BEGIN:VCALENDAR
VERSION:2.0
PRODID:-//Montana Natural History Center - ECPv6.15.18//NONSGML v1.0//EN
CALSCALE:GREGORIAN
METHOD:PUBLISH
X-ORIGINAL-URL:https://www.montananaturalist.org
X-WR-CALDESC:Events for Montana Natural History Center
REFRESH-INTERVAL;VALUE=DURATION:PT1H
X-Robots-Tag:noindex
X-PUBLISHED-TTL:PT1H
BEGIN:VTIMEZONE
TZID:America/Denver
BEGIN:DAYLIGHT
TZOFFSETFROM:-0700
TZOFFSETTO:-0600
TZNAME:MDT
DTSTART:20240310T090000
END:DAYLIGHT
BEGIN:STANDARD
TZOFFSETFROM:-0600
TZOFFSETTO:-0700
TZNAME:MST
DTSTART:20241103T080000
END:STANDARD
BEGIN:DAYLIGHT
TZOFFSETFROM:-0700
TZOFFSETTO:-0600
TZNAME:MDT
DTSTART:20250309T090000
END:DAYLIGHT
BEGIN:STANDARD
TZOFFSETFROM:-0600
TZOFFSETTO:-0700
TZNAME:MST
DTSTART:20251102T080000
END:STANDARD
BEGIN:DAYLIGHT
TZOFFSETFROM:-0700
TZOFFSETTO:-0600
TZNAME:MDT
DTSTART:20260308T090000
END:DAYLIGHT
BEGIN:STANDARD
TZOFFSETFROM:-0600
TZOFFSETTO:-0700
TZNAME:MST
DTSTART:20261101T080000
END:STANDARD
END:VTIMEZONE
BEGIN:VEVENT
DTSTART;TZID=America/Denver:20250421T100000
DTEND;TZID=America/Denver:20250421T110000
DTSTAMP:20260425T074054
CREATED:20240909T160032Z
LAST-MODIFIED:20250107T173203Z
UID:10002248-1745229600-1745233200@www.montananaturalist.org
SUMMARY:miniNaturalist Pre-K Program
DESCRIPTION:The miniNaturalist pre-K program encourages curiosity for the natural world.\nDates: Every Monday\, September – May\nTime: 10:00-11:00 am\nLocation: Montana Natural History Center\, 120 Hickory Street. \nThe miniNaturalist program encourages curiosity for the natural world through exploration and play. We sing songs\, read books\, play games\, and develop skills with art and science tools. Each program begins with songs\, movement\, and stories. We then provide materials for learner directed discovery in our garden. We look for bugs and birds\, color on rocks\, build with branches\, experiment with science tools and play with a variety of art materials. \nPlease bring clothes for outdoor play! We have some snow clothes to borrow. \nBest for ages 2-4\, though any age is welcome! \nCost: FREE!
URL:https://www.montananaturalist.org/event/mininaturalist-pre-k-program/2025-04-21/
LOCATION:Montana Natural History Center
CATEGORIES:Kids' Program,miniNaturalist Pre-K Program
ATTACH;FMTTYPE=image/jpeg:https://www.montananaturalist.org/wp-content/uploads/prek-kids-painting-e1736271114732.jpeg
GEO:46.8706038;-114.0060024
END:VEVENT
BEGIN:VEVENT
DTSTART;TZID=America/Denver:20250422T090000
DTEND;TZID=America/Denver:20250422T110000
DTSTAMP:20260425T074054
CREATED:20250304T212805Z
LAST-MODIFIED:20250324T165800Z
UID:10002832-1745312400-1745319600@www.montananaturalist.org
SUMMARY:Earth Day Garden Tour
DESCRIPTION:Date: Tuesday\, April 22\nTime: 9:00-11:00 a.m.\nLocation: Native Plant Garden at Fort Missoula\nCost: $10 suggested donation \nREGISTER HERE.\nCelebrate Earth Day with a tour of the Native Plant Garden at Fort Missoula with Garden Manager and Montana Master Naturalist\, Elena Ulev. We’ll check out what’s popped up after our long winter\, listen for migratory birds that have just arrived and discuss numerous upcoming classes and opportunities for volunteering in the garden. Cookies and drinks provided. \nDIG IN! For more information on programs happening at the Fort Missoula Native Plant Garden\, click here!
URL:https://www.montananaturalist.org/event/earth-day-garden-tour/
LOCATION:Montana Natural History Center
CATEGORIES:Native Plant Garden Programs
ATTACH;FMTTYPE=image/png:https://www.montananaturalist.org/wp-content/uploads/2-4.png
GEO:46.8706038;-114.0060024
END:VEVENT
BEGIN:VEVENT
DTSTART;VALUE=DATE:20250423
DTEND;VALUE=DATE:20250427
DTSTAMP:20260425T074054
CREATED:20250321T204857Z
LAST-MODIFIED:20250327T185442Z
UID:10002854-1745366400-1745711999@www.montananaturalist.org
SUMMARY:Stories on the Landscape: National Association of Interpretation Workshop
DESCRIPTION:Date: April 23-26 (You can register for a one-day event\, or join us for the full workshop.)\nLocation: Holiday Inn Downtown Missoula + Field Trips\nCost: Day price: $175. Week price: $350 for members\, $425 for non-members\nPrice includes all food\, experiences\, materials\, transportation\, swag\, a t-shirt \nCLICK HERE TO REGISTER\nDiscover\, Explore\, and Connect at the NAI Heartland Region Workshop in Missoula!\nJoin us for an unforgettable experience at the NAI Heartland Region Workshop\, April 23-26\, 2025\, in the heart of Missoula! Whether you’re a nature enthusiast\, educator\, or simply love exploring Montana’s rich landscapes and stories\, this event is packed with engaging activities\, expert-led sessions\, immersive field trips\, and dynamic keynote speakers designed for all. \nYou don’t have to be an interpreter to enjoy this workshop—you just have to love nature\, history\, and adventure! Teachers\, scientists\, artists\, or anyone who loves exploring Montana are invited to this unique event to experience fascinating field days\, thought-provoking discussions\, and meaningful connections. \nWhy Stories on the Landscape?: Our region’s landscape is rich in stories that provide context for the way the world looks today. The mountains\, waterways\, ecosystems\, habitats\, flora\, and fauna we see around us are all shaped by these stories. These elements of the landscape\, in turn\, influence humans: where we live\, how we travel and recreate\, and the history of our settlements. Just as learning our family history can inform our sense of self\, learning the stories of our region can provide the foundation for understanding our landscape\, its plant and animal communities\, and our place within it. \nWhy Attend? \n\nInspiring Keynotes: Hear from Mariah Gladstone\, founder of IndigiKitchen\, on Indigenous foodways and landscape interpretation\, and Kallie Moore\, paleontologist and PBS Eons co-host\, as she uncovers Missoula’s prehistoric past.\nHands-On Learning: Engage in expert-led concurrent sessions on Thursday and Saturday\, covering interpretation\, storytelling\, and conservation topics. Plus\, browse exhibits from over a dozen organizations providing tools and services for educators and outdoor professionals.\nImmersive Field Trips: Friday’s trips include exploring Indigenous food traditions\, visiting ranching heritage sites\, uncovering Missoula’s unseen history\, and experiencing the Bison Range and conservation work on the Flathead Reservation.\n\nSpecial Film & Discussion Night – Wednesday\nKick off the workshop with a screening of Life in the Land: The Seeley-Swan Region\, a powerful film about rural Montana communities collaborating on conservation and land management. Filmmaker Lara Tomov will lead a discussion on ethical storytelling and working with communities to honor their message. \nEvening Adventures in Missoula – Thursday Night\nFrom a pub crawl and mural scavenger hunt to a Sip & Sketch rooftop session and a screening of the 1955 Western classic Timberjack\, there’s something for everyone! Plus\, your registration includes a ticket to the International Wildlife Film Festival\, featuring stunning nature films at the historic Roxy Theater. \nForestry Day at Fort Missoula – Saturday\nExperience the 28th Annual Forestry Day at Historic Fort Missoula\, where you’ll see expert competitors take on axe throwing\, log rolling\, pole climbing\, and more! Enjoy antique logging equipment demonstrations\, a beer garden\, food trucks\, and a live steam-powered sawmill in action—all included with your registration. \nClosing Banquet & Celebration – Friday Night\nWrap up the week with a lively banquet featuring an auction\, local craft brews\, and live music—a true Montana send-off! \nCLICK HERE TO REGISTER\nFor those who want to volunteer\, you can get $50 off their registration price. \nFor those out coming from outside of Missoula\, you can book a stay at the Holiday Inn Downtown Missoula. Government employees even get a room discount! \n_______________________\n \nRegistration Instructions\nWhile MNHC is hosting this amazing workshop\, the leading organization behind the event is the National Association of Interpretation. As such\, we ask interested participants and our members to register through their platform. We’ve included instructions for how to do so. If there are any questions upon registering\, please reach out to workshop chair Jennifer Robinson at jrobinson@montananaturalist.org. \n1. You must create an account through the National Association of Interpretation in order to register for the workshop. To create an account\, click here. Fill in the required fields. \n2. Once you have a user name and password\, make sure you are logged in and navigate to the registration page of this workshop\, which is hosted online by the National Association of Interpretation. You know you are logged in if you are not prompted to log in once you are at the registration page. \n3. Scroll down the page\, and select whether you would like to register for the full workshop (Wednesday – Saturday)\, or just a single day. Make your selection. \n\nFull registration for NAI members is $350.\nIf you are not a member\, registering for the workshop includes a discounted membership. The $425 fee includes a 1 year membership to NAI plus full workshop registration.\nA single day registration for an NAI member is $130.\nA single day registration for a non-member is $175.\n\n4. What comes with registration? Full registration includes all meals\, experiences\, gifts\, transportation\, supplies\, and materials from Wednesday – Saturday. Single day registration includes all meals\, experiences\, gifts\, transportation\, supplies\, and materials for the day you register for. \n5. Fill out the fields for dietary restrictions (if applicable for you)\, emergency contact\, and check the buttons for events you plan to attend if you are a full workshop recipient. If you are only registering for a single day\, check the correct buttons for the day you are registering. \n6. Look to the bottom right of the screen. Click on the blue button to save your responses. If you do not save your responses and try to navigate to the next screen\, your responses will be reset and you will have to fill out the fields again. \n7. After saving your responses\, scroll down again. There is an optional donation section. Under that\, you may select an off-site field trip experience if your registration includes Friday\, April 25th. Full registration includes a field trip on Friday. If you sign up for a single day and that day is Friday\, please ensure to select your field trip choice. \n8. Choose your meal option for the field trip day if applicable. \n9. Scroll back up the page and click on the blue button to continue your registration and submit payment.
URL:https://www.montananaturalist.org/event/stories-on-the-landscape-national-association-of-interpretation-workshop/
LOCATION:Montana Natural History Center
CATEGORIES:Conference
ATTACH;FMTTYPE=image/png:https://www.montananaturalist.org/wp-content/uploads/Screenshot-2025-03-21-at-2.49.47 PM.png
GEO:46.8706038;-114.0060024
END:VEVENT
BEGIN:VEVENT
DTSTART;TZID=America/Denver:20250427T090000
DTEND;TZID=America/Denver:20250427T110000
DTSTAMP:20260425T074054
CREATED:20250306T235535Z
LAST-MODIFIED:20250307T000223Z
UID:10002837-1745744400-1745751600@www.montananaturalist.org
SUMMARY:Volunteering at Fort Missoula Native Plant Garden
DESCRIPTION:Dates: Sundays\, starting April 27-July 13\n(There is no volunteering on the dates June 1\, June 22\, and July 6th)\nTime: 9:00 a.m.-11:00 a.m.\nLocation: Fort Missoula Native Plant Garden\nNote: Free\, all ages welcomed\, no dogs please \nThe beautiful Native Plant Garden at Fort Missoula could use volunteers to weed\, transplant plants out of the walkways and prune shrubs. Volunteering is available Sunday mornings from 9:00-11:00 a.m. and you can pop in and out any time during that period. We will supply the gloves and tools but if you have your own feel free to bring them. In addition to working\, you can learn about the plants\, birds and ecology of the garden from Elena Ulev\, the Garden Manager. \nVolunteer days begin April 27th and will be most Sundays until July 13. After July 13th\, volunteering will start back up again in the fall\, depending on conditions. Stay tuned for updates.  \nAPRIL 27th is Volunteer Kick Off! A new growing season has begun and there are lots of ways to help out in the beautiful and tranquil Native Plant Garden at Fort Missoula. We will meet at the garden to see what projects need to be done for the next several months from pruning shrubs to transplanting plants and weeding. \nDIG IN! For more information on programs happening at the Fort Missoula Native Plant Garden\, click here!
URL:https://www.montananaturalist.org/event/volunteering-at-fort-missoula-native-plant-garden-2/
LOCATION:Montana Natural History Center
CATEGORIES:Native Plant Garden Programs,Volunteer Opportunity
ATTACH;FMTTYPE=image/png:https://www.montananaturalist.org/wp-content/uploads/3-4.png
GEO:46.8706038;-114.0060024
END:VEVENT
END:VCALENDAR