BEGIN:VCALENDAR
VERSION:2.0
PRODID:-//Montana Natural History Center - ECPv6.15.18//NONSGML v1.0//EN
CALSCALE:GREGORIAN
METHOD:PUBLISH
X-WR-CALNAME:Montana Natural History Center
X-ORIGINAL-URL:https://www.montananaturalist.org
X-WR-CALDESC:Events for Montana Natural History Center
REFRESH-INTERVAL;VALUE=DURATION:PT1H
X-Robots-Tag:noindex
X-PUBLISHED-TTL:PT1H
BEGIN:VTIMEZONE
TZID:America/Denver
BEGIN:DAYLIGHT
TZOFFSETFROM:-0700
TZOFFSETTO:-0600
TZNAME:MDT
DTSTART:20240310T090000
END:DAYLIGHT
BEGIN:STANDARD
TZOFFSETFROM:-0600
TZOFFSETTO:-0700
TZNAME:MST
DTSTART:20241103T080000
END:STANDARD
BEGIN:DAYLIGHT
TZOFFSETFROM:-0700
TZOFFSETTO:-0600
TZNAME:MDT
DTSTART:20250309T090000
END:DAYLIGHT
BEGIN:STANDARD
TZOFFSETFROM:-0600
TZOFFSETTO:-0700
TZNAME:MST
DTSTART:20251102T080000
END:STANDARD
BEGIN:DAYLIGHT
TZOFFSETFROM:-0700
TZOFFSETTO:-0600
TZNAME:MDT
DTSTART:20260308T090000
END:DAYLIGHT
BEGIN:STANDARD
TZOFFSETFROM:-0600
TZOFFSETTO:-0700
TZNAME:MST
DTSTART:20261101T080000
END:STANDARD
END:VTIMEZONE
BEGIN:VEVENT
DTSTART;TZID=America/Denver:20250127T100000
DTEND;TZID=America/Denver:20250127T110000
DTSTAMP:20260422T061817
CREATED:20240909T160032Z
LAST-MODIFIED:20250107T173203Z
UID:10002236-1737972000-1737975600@www.montananaturalist.org
SUMMARY:miniNaturalist Pre-K Program
DESCRIPTION:The miniNaturalist pre-K program encourages curiosity for the natural world.\nDates: Every Monday\, September – May\nTime: 10:00-11:00 am\nLocation: Montana Natural History Center\, 120 Hickory Street. \nThe miniNaturalist program encourages curiosity for the natural world through exploration and play. We sing songs\, read books\, play games\, and develop skills with art and science tools. Each program begins with songs\, movement\, and stories. We then provide materials for learner directed discovery in our garden. We look for bugs and birds\, color on rocks\, build with branches\, experiment with science tools and play with a variety of art materials. \nPlease bring clothes for outdoor play! We have some snow clothes to borrow. \nBest for ages 2-4\, though any age is welcome! \nCost: FREE!
URL:https://www.montananaturalist.org/event/mininaturalist-pre-k-program/2025-01-27/
LOCATION:Montana Natural History Center
CATEGORIES:Kids' Program,miniNaturalist Pre-K Program
ATTACH;FMTTYPE=image/jpeg:https://www.montananaturalist.org/wp-content/uploads/prek-kids-painting-e1736271114732.jpeg
GEO:46.8706038;-114.0060024
END:VEVENT
BEGIN:VEVENT
DTSTART;TZID=America/Denver:20250128T113000
DTEND;TZID=America/Denver:20250128T130000
DTSTAMP:20260422T061817
CREATED:20250102T182610Z
LAST-MODIFIED:20250107T195153Z
UID:10002406-1738063800-1738069200@www.montananaturalist.org
SUMMARY:Drop-In Nature Journaling at MNHC
DESCRIPTION:Date: Tuesday\, January 28\, 2025\nTime: 11:30 a.m. – 1:00 p.m.\nLocation: Montana Natural History Center\nCost: Free with admission/membership! \nFellow naturalists! Are you looking for community\, accountability\, inspiration\, and more in the new year? We’re excited to offer monthly drop-in nature journaling / phenology wheel / nature writing sessions this year. Bring your nature journals\, phenology wheels\, pens\, pencils\, and paints\, and have fun crafting your observations in community. We’ll have some supplies available (colored pencils\, micron pens\, watercolor pencils\, etc.)\, as well as field guides and specimens\, and we’ll provide a fun journal prompt\, too! For those working on phenology wheels – whether daily\, monthly\, or seasonal – this is a great time to work on your wheel template for the next month or catch up on your daily or monthly observations. \nScheduled over the lunch hour\, this is a perfect mid-day break; please feel free to bring lunch or snacks. \nThis program is FREE with admission/membership! \nCome join us for fun\, creativity\, and naturalist exploration!
URL:https://www.montananaturalist.org/event/drop-in-nature-journaling-at-mnhc/
LOCATION:Montana Natural History Center
CATEGORIES:Drop in With a Naturalist
ATTACH;FMTTYPE=image/jpeg:https://www.montananaturalist.org/wp-content/uploads/IMG_1790-scaled-e1736271673320.jpg
GEO:46.8706038;-114.0060024
END:VEVENT
BEGIN:VEVENT
DTSTART;TZID=America/Denver:20250129T190000
DTEND;TZID=America/Denver:20250129T200000
DTSTAMP:20260422T061817
CREATED:20241217T181319Z
LAST-MODIFIED:20250107T174309Z
UID:10002373-1738177200-1738180800@www.montananaturalist.org
SUMMARY:Cabin Fever Lecture! New Interpretations of Old Strandlines: How Many Times Did Glacial Lake Missoula Fill and Fail?
DESCRIPTION:Date: Wednesday\, January 29\nTime: 7:00 – 8:00 p.m.\nLocation: Montana Natural History Center\nCost: Free! Donations accepted. \nIt’s that time of the year! Time to contemplate ice ages and glacial lakes.Time for the Glacial Lake Missoula Chapter of the Ice Age Floods Institute’s Cabin Fever Lecture!  Warm up your curiosity about those iconic strandlines we can see from town with a lecture from renowned geologist James W. Sears. \nNew “LiDAR ” mapping techniques may imply that the famous Lake Missoula strandlines on Mount Sentinel and Mount Jumbo record only one draining of the ice-age lake. The draining coincided with massive erosion at the bottom of the lake\, but passive lowering of lake level at the top\, marked by short-term strandlines cut a few inches into thin colluvial soil on the mountainsides. \nAbout the Instructor: Dr. James W. Sears received his PhD from Queen’s University\, Canada\, in 1979\, and has taught at the University of Montana since 1982. He researches the structure and tectonics of the Rocky Mountain region. Jim has authored dozens of publications and geologic maps.
URL:https://www.montananaturalist.org/event/cabin-fever-lecture/
LOCATION:Montana Natural History Center
CATEGORIES:Community Event,Evening Programs
ATTACH;FMTTYPE=image/png:https://www.montananaturalist.org/wp-content/uploads/unnamed-4-e1736271771884.png
GEO:46.8706038;-114.0060024
END:VEVENT
BEGIN:VEVENT
DTSTART;TZID=America/Denver:20250130T190000
DTEND;TZID=America/Denver:20250130T210000
DTSTAMP:20260422T061817
CREATED:20250106T185531Z
LAST-MODIFIED:20250107T174439Z
UID:10002419-1738263600-1738270800@www.montananaturalist.org
SUMMARY:Naturalist Trivia Night!
DESCRIPTION:Date: January 30\, 2025\nTime: 7:00 p.m. – 9:00 p.m.\nLocation: Montana Natural History Center \nShow off your skills or come to learn something new—trivia nights are fun for any background level. Join a team when you arrive or bring a crew to compete in Naturalist Trivia Night. The night’s theme is Urban Ecology. MNHC teaching naturalist Ryan Mahar is running the show and is excited to host another fun trivia night. \nThis is a FREE event\, but registration is required so we don’t overcrowd the space! \nREGISTER HERE. \nBYOB and snacks. \nHow does Naturalist Trivia Work?\nCome with a team or join up with new friends when you arrive. MNHC staff will help you find a table. \nThere are usually 4 rounds of questions each frequently on a common theme such as “Montana cats” or “poisonous plants.” Some rounds are verbal\, others are visual\, or auditory (guess that bird call!). \nAfter each round the answers are divulged and a score for each team is displayed. \nTwo hours later there will be a winner!
URL:https://www.montananaturalist.org/event/naturalist-trivia-night/
LOCATION:Montana Natural History Center
CATEGORIES:Community Event,Evening Programs,Naturalist Trivia Night
ATTACH;FMTTYPE=image/png:https://www.montananaturalist.org/wp-content/uploads/Untitled-6-x-4-in-e1736271867540.png
GEO:46.8706038;-114.0060024
END:VEVENT
END:VCALENDAR