BEGIN:VCALENDAR
VERSION:2.0
PRODID:-//Montana Natural History Center - ECPv6.15.18//NONSGML v1.0//EN
CALSCALE:GREGORIAN
METHOD:PUBLISH
X-ORIGINAL-URL:https://www.montananaturalist.org
X-WR-CALDESC:Events for Montana Natural History Center
REFRESH-INTERVAL;VALUE=DURATION:PT1H
X-Robots-Tag:noindex
X-PUBLISHED-TTL:PT1H
BEGIN:VTIMEZONE
TZID:America/Denver
BEGIN:DAYLIGHT
TZOFFSETFROM:-0700
TZOFFSETTO:-0600
TZNAME:MDT
DTSTART:20230312T090000
END:DAYLIGHT
BEGIN:STANDARD
TZOFFSETFROM:-0600
TZOFFSETTO:-0700
TZNAME:MST
DTSTART:20231105T080000
END:STANDARD
BEGIN:DAYLIGHT
TZOFFSETFROM:-0700
TZOFFSETTO:-0600
TZNAME:MDT
DTSTART:20240310T090000
END:DAYLIGHT
BEGIN:STANDARD
TZOFFSETFROM:-0600
TZOFFSETTO:-0700
TZNAME:MST
DTSTART:20241103T080000
END:STANDARD
BEGIN:DAYLIGHT
TZOFFSETFROM:-0700
TZOFFSETTO:-0600
TZNAME:MDT
DTSTART:20250309T090000
END:DAYLIGHT
BEGIN:STANDARD
TZOFFSETFROM:-0600
TZOFFSETTO:-0700
TZNAME:MST
DTSTART:20251102T080000
END:STANDARD
END:VTIMEZONE
BEGIN:VEVENT
DTSTART;TZID=America/Denver:20241007T100000
DTEND;TZID=America/Denver:20241007T110000
DTSTAMP:20260420T233447
CREATED:20240909T160032Z
LAST-MODIFIED:20250107T173203Z
UID:10002220-1728295200-1728298800@www.montananaturalist.org
SUMMARY:miniNaturalist Pre-K Program
DESCRIPTION:The miniNaturalist pre-K program encourages curiosity for the natural world.\nDates: Every Monday\, September – May\nTime: 10:00-11:00 am\nLocation: Montana Natural History Center\, 120 Hickory Street. \nThe miniNaturalist program encourages curiosity for the natural world through exploration and play. We sing songs\, read books\, play games\, and develop skills with art and science tools. Each program begins with songs\, movement\, and stories. We then provide materials for learner directed discovery in our garden. We look for bugs and birds\, color on rocks\, build with branches\, experiment with science tools and play with a variety of art materials. \nPlease bring clothes for outdoor play! We have some snow clothes to borrow. \nBest for ages 2-4\, though any age is welcome! \nCost: FREE!
URL:https://www.montananaturalist.org/event/mininaturalist-pre-k-program/2024-10-07/
LOCATION:Montana Natural History Center
CATEGORIES:Kids' Program,miniNaturalist Pre-K Program
ATTACH;FMTTYPE=image/jpeg:https://www.montananaturalist.org/wp-content/uploads/prek-kids-painting-e1736271114732.jpeg
GEO:46.8706038;-114.0060024
END:VEVENT
BEGIN:VEVENT
DTSTART;TZID=America/Denver:20241008T100000
DTEND;TZID=America/Denver:20241008T120000
DTSTAMP:20260420T233447
CREATED:20240903T160055Z
LAST-MODIFIED:20240306T192158Z
UID:10001504-1728381600-1728388800@www.montananaturalist.org
SUMMARY:Fall 2024 Online Master Naturalist Course
DESCRIPTION:Are you a self-directed\, curious learner\, eager to explore your natural surroundings? Our immersive online certification course will help you develop naturalist skills and a deeper understanding of the natural world through a blend of live online classes\, recorded lectures\, guided independent study\, and an in-person field weekend. \nFall Online Certification Course 2024 \nTuesdays\, September 3rd – November 19\, 2024\n10:00 a.m.-noon MDT \nField Weekend\, September 21-22 \nEngage with the course anytime\, anywhere. The online format can fit your schedule. Though attending the field weekend and live online classes is highly encouraged\, they will be recorded and supplemental material can be provided. This class works best for independent learners who can complete activities outside of the traditional classroom format. Your instructors will be available throughout the course for one-on-one guidance and mentorship. \nREGISTER HERE \nTaught by MNHC Naturalist Christine Morris\, this class includes: \n\na live Zoom or recorded lecture once per week for 12 weeks. 6 classes are live\, 6 are recorded lectures.\nweekly assignments\nin-person weekend field experience in Missoula on September 21-22\ncourse workbook\nan online classroom platform to engage with instructors and fellow students throughout the course\n\n\nWe’ll cover a wide breadth of topics with the goal of giving you a foundation of naturalist skills and knowledge on which you can build. Learn how to identify common birds\, plants\, butterflies\, insects\, mammal tracks\, and more. From landscape processes to lichen we will look at specific details and how each part contributes to the greater ecology. \nKnowledgeable guest instructors include Missoula College instructor and botanist Greg Peters\, botanist and author Peter Lesica\, MNHC communications coordinator Allison De Jong\, BLM Fuels Geoff Farinholt\, artist and naturalist Jenah Mead\, and Philip L. Wright Zoological Museum Curator Angela Hornsby. \nView the course syllabus (some elements may be subject to change).  \nUpon course completion\, students: \n\nWill receive a Master Naturalist certificate and pin\nBe a part of an engaged and curious Master Naturalist community\nHave the knowledge and skills to perform environmental stewardship\n\nTo complete this certification course\, students are expected to attend classes/view recorded lectures\, complete weekly self-guided study assignments\, keep a nature journal\, and complete a final class project. \nPlan on putting in about 5-6 hours per week including class time\, independent study assignments\, nature journaling\, and final assignment. \nMaster Naturalist Certification is maintained by completing 20 hours of volunteer service and 8 hours of continuing education each year. You will receive a new pin each year you certify! \nRecommended Materials: \n\nbinoculars\nhand lens or loupe\nblank journal (required)\nmicron or small sharpie pen\ncolored pencils or watercolor pencils\nbird guide such as Sibley’s Field Guide to Birds of Western North America\nBotany in a Day by Thomas J. Elpel\nplant/flower guide such as Plants of the Rocky Mountains or Wildflowers of Montana (depending on what you can find in print)\n\nRegistration Information: \n\nCost: $355/$325 members\nFull payment due upon registration. The course fee (minus a $100 administrative fee) is refundable ONLY if a cancellation is made 30 days before the first day of class. No refunds will be issued for cancellations made after this deadline. Read our full refund/cancellation policy.\nSome scholarships are available! Please contact cmorris@montananaturalist.or for more information
URL:https://www.montananaturalist.org/event/fall-2024-online-master-naturalist-course/2024-10-08/
LOCATION:Virtual Zoom Classroom
CATEGORIES:Master Naturalist Class,Multi-Part Class,Virtual Class
ATTACH;FMTTYPE=image/jpeg:https://www.montananaturalist.org/wp-content/uploads/Birding-at-Lee-Metcalf.jpg
END:VEVENT
BEGIN:VEVENT
DTSTART;TZID=America/Denver:20241008T183000
DTEND;TZID=America/Denver:20241008T203000
DTSTAMP:20260420T233447
CREATED:20231214T180948Z
LAST-MODIFIED:20250107T173314Z
UID:10001301-1728412200-1728419400@www.montananaturalist.org
SUMMARY:Virtual Naturalist Book Club #1
DESCRIPTION:Date: Monthly\, on the second Tuesday of the month  \nTime: 6:30 p.m. \nLocation/Platform: Virtual Zoom Classroom \nThe only thing better than reading a fascinating natural history book (and there are so many of them!) is getting to discuss it with a wonderful group of like-minded people. We can help you do that! Join one of our free naturalist book clubs\, where you can read and discuss a great new book each month\, enjoying various perspectives and insights\, all from the comfort of your own home. (Cozy pjs are perfectly acceptable attire.) \nYour hosts are Master Naturalist Suzanne Hendrich and Deborah Drain. \nYou will need a computer that can access the internet and Zoom platform in order to participate. \nThere are some spaces available in this book club. Contact cmorris (at) montananaturalist.org to sign up.  \nGroup is limited to 10 participants.
URL:https://www.montananaturalist.org/event/virtual-naturalist-book-club-1-2/2024-10-08/
LOCATION:Virtual Zoom Classroom
CATEGORIES:Community Event,Evening Programs,Virtual Class
ATTACH;FMTTYPE=image/jpeg:https://www.montananaturalist.org/wp-content/uploads/book-and-cup-of-coffee-in-hands-of-girl-on-winter-evening-near-picture-id909045284-e1736271185658.jpg
END:VEVENT
BEGIN:VEVENT
DTSTART;TZID=America/Denver:20241009T190000
DTEND;TZID=America/Denver:20241009T200000
DTSTAMP:20260420T233447
CREATED:20240924T153217Z
LAST-MODIFIED:20241006T154439Z
UID:10002348-1728500400-1728504000@www.montananaturalist.org
SUMMARY:Allosaurus and Other Jurassic Finds in the Bighorn Basin of Montana
DESCRIPTION:Date: Wednesday\, October 9\nTime: 7:00 p.m. – 8:00 p.m.\nLocation: Montana Natural History Center\n$10 for MNHC members\, $15 for non-members \nREGISTER HERE!\nMNHC has partnered with Elevation Science Institute to prepare and conserve dinosaur fossils collected by their paleontologists and citizen-scientists each summer in southern Montana. These fossils come from the world-famous Morrison Formation of southern Montana\, rocks dating back over 150 million years! \nCome and learn about this new project that includes the famous Allosaurus\, known for a complicated history of discovery and its ferocious lifestyle — and its dozens of serrated teeth! Living in the Late Jurassic\, Allosaurus was a top predator coming in at an average of 28 ft. in length. This fascinating bipedal dinosaur fed on herbivorous species and possibly other predators. Jason Poole of the Elevation Science Institute will present an overview of discoveries\, current work\, and the new Allosaurus project happening now at MNHC. \nInstructor: Jason C. Poole has worn many hats\, Adjunct Professor of Paleontology\, Scientific Illustrator\, art teacher\, and Paleontology field instructor. Jason has excavated dinosaurs on three continents\, including Africa\, South and North America. Paralititan\, Dreadnoughtus and Suuwassea are three dinosaurs worked on by Poole\, all were new to science when discovered and two of which are supermassive titanosaurs. Poole is also a Paleontological Artist who has published in National Geographic and whose art work appears in many museum and private collections. Jason resides in Missoula\, Montana and can often be found sketching in the studio and the great outdoors. \nWhat’s the refund policy? \nThe course fee (minus a 25% administrative fee) is refundable if a cancellation is made up to 7 days before the event. No refunds will be issued for cancellations made after this deadline. See our full refund/cancellation policy here. \nDo I have to bring my printed ticket to the event? \nNope! We will have a list of all the attendees.
URL:https://www.montananaturalist.org/event/allosaurus-and-other-jurassic-finds-in-the-bighorn-basin-of-montana/
LOCATION:Montana Natural History Center
CATEGORIES:Evening Lecture,Evening Programs
ATTACH;FMTTYPE=image/heic:https://www.montananaturalist.org/wp-content/uploads/IMG_9248-3.heic
GEO:46.8706038;-114.0060024
END:VEVENT
END:VCALENDAR