BEGIN:VCALENDAR
VERSION:2.0
PRODID:-//Montana Natural History Center - ECPv6.15.18//NONSGML v1.0//EN
CALSCALE:GREGORIAN
METHOD:PUBLISH
X-ORIGINAL-URL:https://www.montananaturalist.org
X-WR-CALDESC:Events for Montana Natural History Center
REFRESH-INTERVAL;VALUE=DURATION:PT1H
X-Robots-Tag:noindex
X-PUBLISHED-TTL:PT1H
BEGIN:VTIMEZONE
TZID:America/Denver
BEGIN:DAYLIGHT
TZOFFSETFROM:-0700
TZOFFSETTO:-0600
TZNAME:MDT
DTSTART:20230312T090000
END:DAYLIGHT
BEGIN:STANDARD
TZOFFSETFROM:-0600
TZOFFSETTO:-0700
TZNAME:MST
DTSTART:20231105T080000
END:STANDARD
BEGIN:DAYLIGHT
TZOFFSETFROM:-0700
TZOFFSETTO:-0600
TZNAME:MDT
DTSTART:20240310T090000
END:DAYLIGHT
BEGIN:STANDARD
TZOFFSETFROM:-0600
TZOFFSETTO:-0700
TZNAME:MST
DTSTART:20241103T080000
END:STANDARD
BEGIN:DAYLIGHT
TZOFFSETFROM:-0700
TZOFFSETTO:-0600
TZNAME:MDT
DTSTART:20250309T090000
END:DAYLIGHT
BEGIN:STANDARD
TZOFFSETFROM:-0600
TZOFFSETTO:-0700
TZNAME:MST
DTSTART:20251102T080000
END:STANDARD
END:VTIMEZONE
BEGIN:VEVENT
DTSTART;TZID=America/Denver:20240903T100000
DTEND;TZID=America/Denver:20240903T120000
DTSTAMP:20260422T015427
CREATED:20240903T160055Z
LAST-MODIFIED:20240306T192158Z
UID:10001499-1725357600-1725364800@www.montananaturalist.org
SUMMARY:Fall 2024 Online Master Naturalist Course
DESCRIPTION:Are you a self-directed\, curious learner\, eager to explore your natural surroundings? Our immersive online certification course will help you develop naturalist skills and a deeper understanding of the natural world through a blend of live online classes\, recorded lectures\, guided independent study\, and an in-person field weekend. \nFall Online Certification Course 2024 \nTuesdays\, September 3rd – November 19\, 2024\n10:00 a.m.-noon MDT \nField Weekend\, September 21-22 \nEngage with the course anytime\, anywhere. The online format can fit your schedule. Though attending the field weekend and live online classes is highly encouraged\, they will be recorded and supplemental material can be provided. This class works best for independent learners who can complete activities outside of the traditional classroom format. Your instructors will be available throughout the course for one-on-one guidance and mentorship. \nREGISTER HERE \nTaught by MNHC Naturalist Christine Morris\, this class includes: \n\na live Zoom or recorded lecture once per week for 12 weeks. 6 classes are live\, 6 are recorded lectures.\nweekly assignments\nin-person weekend field experience in Missoula on September 21-22\ncourse workbook\nan online classroom platform to engage with instructors and fellow students throughout the course\n\n\nWe’ll cover a wide breadth of topics with the goal of giving you a foundation of naturalist skills and knowledge on which you can build. Learn how to identify common birds\, plants\, butterflies\, insects\, mammal tracks\, and more. From landscape processes to lichen we will look at specific details and how each part contributes to the greater ecology. \nKnowledgeable guest instructors include Missoula College instructor and botanist Greg Peters\, botanist and author Peter Lesica\, MNHC communications coordinator Allison De Jong\, BLM Fuels Geoff Farinholt\, artist and naturalist Jenah Mead\, and Philip L. Wright Zoological Museum Curator Angela Hornsby. \nView the course syllabus (some elements may be subject to change).  \nUpon course completion\, students: \n\nWill receive a Master Naturalist certificate and pin\nBe a part of an engaged and curious Master Naturalist community\nHave the knowledge and skills to perform environmental stewardship\n\nTo complete this certification course\, students are expected to attend classes/view recorded lectures\, complete weekly self-guided study assignments\, keep a nature journal\, and complete a final class project. \nPlan on putting in about 5-6 hours per week including class time\, independent study assignments\, nature journaling\, and final assignment. \nMaster Naturalist Certification is maintained by completing 20 hours of volunteer service and 8 hours of continuing education each year. You will receive a new pin each year you certify! \nRecommended Materials: \n\nbinoculars\nhand lens or loupe\nblank journal (required)\nmicron or small sharpie pen\ncolored pencils or watercolor pencils\nbird guide such as Sibley’s Field Guide to Birds of Western North America\nBotany in a Day by Thomas J. Elpel\nplant/flower guide such as Plants of the Rocky Mountains or Wildflowers of Montana (depending on what you can find in print)\n\nRegistration Information: \n\nCost: $355/$325 members\nFull payment due upon registration. The course fee (minus a $100 administrative fee) is refundable ONLY if a cancellation is made 30 days before the first day of class. No refunds will be issued for cancellations made after this deadline. Read our full refund/cancellation policy.\nSome scholarships are available! Please contact cmorris@montananaturalist.or for more information
URL:https://www.montananaturalist.org/event/fall-2024-online-master-naturalist-course/2024-09-03/
LOCATION:Virtual Zoom Classroom
CATEGORIES:Master Naturalist Class,Multi-Part Class,Virtual Class
ATTACH;FMTTYPE=image/jpeg:https://www.montananaturalist.org/wp-content/uploads/Birding-at-Lee-Metcalf.jpg
END:VEVENT
BEGIN:VEVENT
DTSTART;TZID=America/Denver:20240905T123000
DTEND;TZID=America/Denver:20240905T140000
DTSTAMP:20260422T015427
CREATED:20240905T183027Z
LAST-MODIFIED:20240813T153438Z
UID:10002042-1725539400-1725544800@www.montananaturalist.org
SUMMARY:Rattlesnake Dam Removal Tour: Bring On the Trout!
DESCRIPTION:Date: Thursday\, September 5\nTime: 12:30-2:00 p.m.\nLocation: Meet at the parking area at the north end of Duncan Drive – click here for map. Look for Duncan drive in the lower left corner. Follow it to the green parking emblam on the map. Travel north on Duncan Drive\, which is on the west side of Rattlesnake creek. Go past the Waterworks trailhead turnoff and past the North Hills trailhead parking. Park at the end of Duncan Drive at the power station. \nRegister now \nIn 2020 the Rattlesnake Creek dam was removed and the floodplain restored\, creating a functional and natural connection between the headwaters of Rattlesnake Creek and the Clark Fork River for the first time in 115 years. That project resulted in more than 10 stream miles reconnected for native fish; five acres of wetland and floodplain restoration and preservation\, .5 miles of stream reconstruction\, and 16\,000 planted trees and shrubs. \nTake a tour with Rob Roberts\, Trout Unlimited’s senior project manager\, to learn about the history of Missoula’s water supply\, the results of the lower dam removal\, and future work to improve the fishery and recreation through the removal and management of 10 dams in the Rattlesnake Wilderness Area. This is your chance to find out how those cool alpine waters benefit our westslope cutthroat trout\, bull trout\, and so much more! \nInstructor: Like many Trout Unlimited staff\, Rob followed a nontraditional path in his career development\, graduating from college with a degree in psychology and then honing his community development skills in the Peace Corps in Madagascar. Rob initially spearheaded TU’s national youth education program before moving west in 2004 to start TU’s growing western mine reclamation and watershed restoration program. Rob has worked as a project manager for TU out of the Missoula office for almost 20 years\, with one hiatus to sail across the Pacific Ocean. Rob is typically responsible for overall project management and stakeholder coordination and takes the lead role in grant development\, contracting for planning and investigation\, permitting and stream restoration design. When not at work\, you’ll find him paragliding\, hunting for wild mushrooms\, and scuba diving in Montana’s lakes and rivers. \nActivity Level: .8 mile walking each way. Moderate. \nWhat to Bring: \n\nClothes appropriate for changing Montana weather conditions – layers are good!\nWater & snacks\nWalking shoes or boots\nSunhat\, sunscreen\, sunglasses\nAnything you need to be comfortable walking and standing outside for 1.5 hours\n\n 
URL:https://www.montananaturalist.org/event/rattlesnake-dam-removal-tour-bring-on-the-trout/
LOCATION:Rattlesnake Greenway Trailhead and Parking
CATEGORIES:Community Event,Naturalist Field Experience
ATTACH;FMTTYPE=image/jpeg:https://www.montananaturalist.org/wp-content/uploads/5258200962_794864c8b6_z.jpg
END:VEVENT
END:VCALENDAR