BEGIN:VCALENDAR
VERSION:2.0
PRODID:-//Montana Natural History Center - ECPv6.15.18//NONSGML v1.0//EN
CALSCALE:GREGORIAN
METHOD:PUBLISH
X-ORIGINAL-URL:https://www.montananaturalist.org
X-WR-CALDESC:Events for Montana Natural History Center
REFRESH-INTERVAL;VALUE=DURATION:PT1H
X-Robots-Tag:noindex
X-PUBLISHED-TTL:PT1H
BEGIN:VTIMEZONE
TZID:America/Denver
BEGIN:DAYLIGHT
TZOFFSETFROM:-0700
TZOFFSETTO:-0600
TZNAME:MDT
DTSTART:20240310T090000
END:DAYLIGHT
BEGIN:STANDARD
TZOFFSETFROM:-0600
TZOFFSETTO:-0700
TZNAME:MST
DTSTART:20241103T080000
END:STANDARD
BEGIN:DAYLIGHT
TZOFFSETFROM:-0700
TZOFFSETTO:-0600
TZNAME:MDT
DTSTART:20250309T090000
END:DAYLIGHT
BEGIN:STANDARD
TZOFFSETFROM:-0600
TZOFFSETTO:-0700
TZNAME:MST
DTSTART:20251102T080000
END:STANDARD
BEGIN:DAYLIGHT
TZOFFSETFROM:-0700
TZOFFSETTO:-0600
TZNAME:MDT
DTSTART:20260308T090000
END:DAYLIGHT
BEGIN:STANDARD
TZOFFSETFROM:-0600
TZOFFSETTO:-0700
TZNAME:MST
DTSTART:20261101T080000
END:STANDARD
END:VTIMEZONE
BEGIN:VEVENT
DTSTART;TZID=America/Denver:20250208T130000
DTEND;TZID=America/Denver:20250208T150000
DTSTAMP:20260421T125637
CREATED:20250107T165257Z
LAST-MODIFIED:20250107T224641Z
UID:10002420-1739019600-1739026800@www.montananaturalist.org
SUMMARY:Poets in the 'Root
DESCRIPTION:Date: February 8\, 2025\nTime: 1:00-3:00 p.m.\nLocation: The Barn at Teller\, 1180 Chaffin Ln Corvallis\, Montana\nCost: FREE \nJoin MNHC and Teller Wildlife Refuge for Poets in the ‘Root! \nNature in nearly all manifestations has inspired poets since there were poets! And at least since the Roman poet Horace wrote Ars Poetica or the Art of Poetry in 19BC\, literature\, including poetry\, sought to both instruct and delight. \nPoets in the ‘Root combines these two aims in an uncommon but simple way. One person reads a poem or part of a poem that uses an element of nature to convey its message. Then\, the same or another person gives an explanation (5 minutes max) of some aspect of that nature element. The explanation focuses on nature interpretation\, not literary interpretation. Listeners get a bit of poetry and a bit of natural history. \nThis is a FREE event\, but registration is required. \nWe’ll have refreshments\, including coffee\, tea\, wine\, and snacks! \nAnyone can volunteer to read poetry and/or offer the nature interpretation. This is a fun way for Master Naturalists to earn credit towards their certification. Free and open to the public. \nTo volunteer or to ask questions\, please contact Micki Long at mickilong@gmail.com\n*art by Deb Goslin
URL:https://www.montananaturalist.org/event/72933/
LOCATION:Montana Natural History Center
CATEGORIES:Community Event
ATTACH;FMTTYPE=image/png:https://www.montananaturalist.org/wp-content/uploads/Poets-in-the-Root-e1736272690214.png
GEO:46.8706038;-114.0060024
END:VEVENT
END:VCALENDAR