BEGIN:VCALENDAR
VERSION:2.0
PRODID:-//Montana Natural History Center - ECPv6.15.18//NONSGML v1.0//EN
CALSCALE:GREGORIAN
METHOD:PUBLISH
X-ORIGINAL-URL:https://www.montananaturalist.org
X-WR-CALDESC:Events for Montana Natural History Center
REFRESH-INTERVAL;VALUE=DURATION:PT1H
X-Robots-Tag:noindex
X-PUBLISHED-TTL:PT1H
BEGIN:VTIMEZONE
TZID:America/Denver
BEGIN:DAYLIGHT
TZOFFSETFROM:-0700
TZOFFSETTO:-0600
TZNAME:MDT
DTSTART:20250309T090000
END:DAYLIGHT
BEGIN:STANDARD
TZOFFSETFROM:-0600
TZOFFSETTO:-0700
TZNAME:MST
DTSTART:20251102T080000
END:STANDARD
BEGIN:DAYLIGHT
TZOFFSETFROM:-0700
TZOFFSETTO:-0600
TZNAME:MDT
DTSTART:20260308T090000
END:DAYLIGHT
BEGIN:STANDARD
TZOFFSETFROM:-0600
TZOFFSETTO:-0700
TZNAME:MST
DTSTART:20261101T080000
END:STANDARD
BEGIN:DAYLIGHT
TZOFFSETFROM:-0700
TZOFFSETTO:-0600
TZNAME:MDT
DTSTART:20270314T090000
END:DAYLIGHT
BEGIN:STANDARD
TZOFFSETFROM:-0600
TZOFFSETTO:-0700
TZNAME:MST
DTSTART:20271107T080000
END:STANDARD
END:VTIMEZONE
BEGIN:VEVENT
DTSTART;TZID=America/Denver:20260318T180000
DTEND;TZID=America/Denver:20260318T193000
DTSTAMP:20260421T032408
CREATED:20251216T185151Z
LAST-MODIFIED:20260129T174948Z
UID:10003339-1773856800-1773862200@www.montananaturalist.org
SUMMARY:Jurassic Park: Fact or Fiction? with Kallie Moore
DESCRIPTION:Date: Wednesday\, March 18\nTime: 6:00 – 7:30 p.m.\nLocation: Montana Natural History Center\nCost: $10 MNHC members/$15 non-members \nREGISTER HERE \nJoin UM Paleo Collections Manager and PBS Eons co-host\, Kallie Moore for a night of fossil facts and fiction! When the original Jurassic Park movie came out in 1993\, it gave the most up-to-date look at dinosaurs and their behaviors. But we’ve learned a lot over the past 30 years. Join us to find out what still holds up\, what doesn’t\, and how close we are to using ancient DNA to create a real-life Jurassic Park! \nFAQs:\nWhat’s the refund policy? \nThe course fee (minus a 25% administrative fee) is refundable if a cancellation is made up to 7 days before the event. No refunds will be issued for cancellations made after this deadline. See our full refund/cancellation policy here. \nDo I have to bring my printed ticket to the event?\nNope! We will have a list of all the attendees.
URL:https://www.montananaturalist.org/event/jurassic-park-fact-or-fiction-with-kallie-moore/
LOCATION:Montana Natural History Center
CATEGORIES:Community Event,Evening Lecture,Evening Programs
ATTACH;FMTTYPE=image/jpeg:https://www.montananaturalist.org/wp-content/uploads/Kallie-Moore-small.jpg
GEO:46.8706038;-114.0060024
END:VEVENT
END:VCALENDAR