BEGIN:VCALENDAR
VERSION:2.0
PRODID:-//Montana Natural History Center - ECPv6.15.18//NONSGML v1.0//EN
CALSCALE:GREGORIAN
METHOD:PUBLISH
X-WR-CALNAME:Montana Natural History Center
X-ORIGINAL-URL:https://www.montananaturalist.org
X-WR-CALDESC:Events for Montana Natural History Center
REFRESH-INTERVAL;VALUE=DURATION:PT1H
X-Robots-Tag:noindex
X-PUBLISHED-TTL:PT1H
BEGIN:VTIMEZONE
TZID:America/Denver
BEGIN:DAYLIGHT
TZOFFSETFROM:-0700
TZOFFSETTO:-0600
TZNAME:MDT
DTSTART:20240310T090000
END:DAYLIGHT
BEGIN:STANDARD
TZOFFSETFROM:-0600
TZOFFSETTO:-0700
TZNAME:MST
DTSTART:20241103T080000
END:STANDARD
BEGIN:DAYLIGHT
TZOFFSETFROM:-0700
TZOFFSETTO:-0600
TZNAME:MDT
DTSTART:20250309T090000
END:DAYLIGHT
BEGIN:STANDARD
TZOFFSETFROM:-0600
TZOFFSETTO:-0700
TZNAME:MST
DTSTART:20251102T080000
END:STANDARD
BEGIN:DAYLIGHT
TZOFFSETFROM:-0700
TZOFFSETTO:-0600
TZNAME:MDT
DTSTART:20260308T090000
END:DAYLIGHT
BEGIN:STANDARD
TZOFFSETFROM:-0600
TZOFFSETTO:-0700
TZNAME:MST
DTSTART:20261101T080000
END:STANDARD
END:VTIMEZONE
BEGIN:VEVENT
DTSTART;VALUE=DATE:20251225
DTEND;VALUE=DATE:20251230
DTSTAMP:20260420T111146
CREATED:20251210T184739Z
LAST-MODIFIED:20251222T215834Z
UID:10003256-1766620800-1767052799@www.montananaturalist.org
SUMMARY:MNHC Holiday Closure
DESCRIPTION:MNHC is closed December 25\, 26\, 27\, 28\, 29th and January 1st so our staff can celebrate the holidays with their families! \nMNHC will be OPEN during our regular hours (10:00 a.m.-4:00 p.m.) on December 30th and 31st. \nHappy Holidays!
URL:https://www.montananaturalist.org/event/mnhc-holiday-closure/
LOCATION:Montana Natural History Center
ATTACH;FMTTYPE=image/png:https://www.montananaturalist.org/wp-content/uploads/MNHC-is-CLOSED-for-the.png
GEO:46.8706038;-114.0060024
END:VEVENT
END:VCALENDAR