BEGIN:VCALENDAR
VERSION:2.0
PRODID:-//Montana Natural History Center - ECPv6.15.18//NONSGML v1.0//EN
CALSCALE:GREGORIAN
METHOD:PUBLISH
X-ORIGINAL-URL:https://www.montananaturalist.org
X-WR-CALDESC:Events for Montana Natural History Center
REFRESH-INTERVAL;VALUE=DURATION:PT1H
X-Robots-Tag:noindex
X-PUBLISHED-TTL:PT1H
BEGIN:VTIMEZONE
TZID:America/Denver
BEGIN:DAYLIGHT
TZOFFSETFROM:-0700
TZOFFSETTO:-0600
TZNAME:MDT
DTSTART:20240310T090000
END:DAYLIGHT
BEGIN:STANDARD
TZOFFSETFROM:-0600
TZOFFSETTO:-0700
TZNAME:MST
DTSTART:20241103T080000
END:STANDARD
BEGIN:DAYLIGHT
TZOFFSETFROM:-0700
TZOFFSETTO:-0600
TZNAME:MDT
DTSTART:20250309T090000
END:DAYLIGHT
BEGIN:STANDARD
TZOFFSETFROM:-0600
TZOFFSETTO:-0700
TZNAME:MST
DTSTART:20251102T080000
END:STANDARD
BEGIN:DAYLIGHT
TZOFFSETFROM:-0700
TZOFFSETTO:-0600
TZNAME:MDT
DTSTART:20260308T090000
END:DAYLIGHT
BEGIN:STANDARD
TZOFFSETFROM:-0600
TZOFFSETTO:-0700
TZNAME:MST
DTSTART:20261101T080000
END:STANDARD
END:VTIMEZONE
BEGIN:VEVENT
DTSTART;TZID=America/Denver:20250429T160000
DTEND;TZID=America/Denver:20250429T180000
DTSTAMP:20260420T042426
CREATED:20250401T030750Z
LAST-MODIFIED:20250428T183834Z
UID:10002862-1745942400-1745949600@www.montananaturalist.org
SUMMARY:Open AIR Artist Presentation: Amanda Baker
DESCRIPTION:Date: Tuesday\, April 29th\nTime: 4:00-6:00 p.m.\nLocation: Montana Natural History Center\nCost: FREE\, but registration is appreciated. \nMNHC is excited to host Open Air Artist Amanda Baker! Amanda will be in residence at MNHC starting in early April until early May. \nAmanda Baker (b.1994) is a Brooklyn-based interdisciplinary artist and educator. She received an MFA in printmaking from Pratt Institute in 2024\, and a BFA from Massachusetts College of Art and Design in 2016. Her work investigates 19th-century naturalist illustration through a contemporary print-based lens. Amanda has been a former artist in residence at COPE NYC\, has curated and shown work in numerous group exhibitions\, and was a 2023 Pratt Graduate Student Engagement Fund recipient. She also participates in various NYC-based bird and wildlife conservation advocacy groups and teaches community printmaking workshops. \nARTIST PRESENTATION\nJoin Amanda at MNHC for a presentation on Tuesday\, April 29th from 4:00-6:00 p.m. This presentation is followed by refreshments and is a chance to mingle and meet the artist. This event is free and open to the public. Registration is appreciated. Click here for registration details.
URL:https://www.montananaturalist.org/event/open-air-artist-presentation-amanda-baker/
LOCATION:Montana Natural History Center
CATEGORIES:Evening Programs,Open AIR Artist Presentation,Presentation
ATTACH;FMTTYPE=image/png:https://www.montananaturalist.org/wp-content/uploads/Lets-13.png
GEO:46.8706038;-114.0060024
END:VEVENT
END:VCALENDAR