BEGIN:VCALENDAR
VERSION:2.0
PRODID:-//Montana Natural History Center - ECPv6.15.18//NONSGML v1.0//EN
CALSCALE:GREGORIAN
METHOD:PUBLISH
X-WR-CALNAME:Montana Natural History Center
X-ORIGINAL-URL:https://www.montananaturalist.org
X-WR-CALDESC:Events for Montana Natural History Center
REFRESH-INTERVAL;VALUE=DURATION:PT1H
X-Robots-Tag:noindex
X-PUBLISHED-TTL:PT1H
BEGIN:VTIMEZONE
TZID:America/Denver
BEGIN:DAYLIGHT
TZOFFSETFROM:-0700
TZOFFSETTO:-0600
TZNAME:MDT
DTSTART:20230312T090000
END:DAYLIGHT
BEGIN:STANDARD
TZOFFSETFROM:-0600
TZOFFSETTO:-0700
TZNAME:MST
DTSTART:20231105T080000
END:STANDARD
BEGIN:DAYLIGHT
TZOFFSETFROM:-0700
TZOFFSETTO:-0600
TZNAME:MDT
DTSTART:20240310T090000
END:DAYLIGHT
BEGIN:STANDARD
TZOFFSETFROM:-0600
TZOFFSETTO:-0700
TZNAME:MST
DTSTART:20241103T080000
END:STANDARD
BEGIN:DAYLIGHT
TZOFFSETFROM:-0700
TZOFFSETTO:-0600
TZNAME:MDT
DTSTART:20250309T090000
END:DAYLIGHT
BEGIN:STANDARD
TZOFFSETFROM:-0600
TZOFFSETTO:-0700
TZNAME:MST
DTSTART:20251102T080000
END:STANDARD
END:VTIMEZONE
BEGIN:VEVENT
DTSTART;TZID=America/Denver:20241222T150000
DTEND;TZID=America/Denver:20241222T170000
DTSTAMP:20260425T173622
CREATED:20241202T220007Z
LAST-MODIFIED:20241210T225259Z
UID:10001943-1734879600-1734886800@www.montananaturalist.org
SUMMARY:Native Plant Garden Immersion - Winter Session
DESCRIPTION:Date: Sunday\, December 22\nTime: 3:00-5:00 p.m.\nLocation: Fort Missoula Native Plant Garden\nCost: $15 MNHC members\, $20 non-members \nResting. Pausing. Stillness. Immerse your senses into nature’s capacity for restoration and renewal. Notice what winter feels\, smells\, sounds\, and looks like at the Native Plant Garden. \nYou may have visited the Native Plant Garden\, but have you experienced it?\nYou may have seen it\, but have you smelled\, heard\, touched\, and tasted it?\nYou may have walked around\, but have you simply sat in it to connect to the land and restore your physical\, mental\, and spiritual health? \nCertified Nature and Forest Therapy Guide Sylke Laine invites us to come to our senses and follow our natural curiosity in the Native Plant Garden. As we slow down to give our thinking minds a break\, we’ll not only experience plants in a sensual\, intuitive way\, but all beings that reside\, from birds to bugs to boulders. And humans\, of course. \nWe’ll light a fire and warm ourselves in its glow and reflect on the solstice and this special time of year. And we will close with a series of mindful invitations inspired by the Japanese practice of Forest Bathing\, Shinrin-Yoku. \nREGISTER HERE \n\n \nFAQs \nWhat’s the refund policy?\nThe course fee (minus a 25% administrative fee) is refundable if a cancellation is made up to 7 days before the event. No refunds will be issued for cancellations made after this deadline. See our full refund/cancellation policy here. \nDo I have to bring my printed ticket to the event?\nNope! We will have a list of all the attendees.
URL:https://www.montananaturalist.org/event/native-plant-garden-immersion-winter-session/
LOCATION:Montana Natural History Center
CATEGORIES:Community Event,Discovery Day,Native Plant Garden Programs,Naturalist Field Experience
ATTACH;FMTTYPE=image/jpeg:https://www.montananaturalist.org/wp-content/uploads/wood-snow-snow-scene-ddf159-1024.jpg
GEO:46.8706038;-114.0060024
END:VEVENT
END:VCALENDAR