BEGIN:VCALENDAR
VERSION:2.0
PRODID:-//Montana Natural History Center - ECPv6.15.18//NONSGML v1.0//EN
CALSCALE:GREGORIAN
METHOD:PUBLISH
X-WR-CALNAME:Montana Natural History Center
X-ORIGINAL-URL:https://www.montananaturalist.org
X-WR-CALDESC:Events for Montana Natural History Center
REFRESH-INTERVAL;VALUE=DURATION:PT1H
X-Robots-Tag:noindex
X-PUBLISHED-TTL:PT1H
BEGIN:VTIMEZONE
TZID:America/Denver
BEGIN:DAYLIGHT
TZOFFSETFROM:-0700
TZOFFSETTO:-0600
TZNAME:MDT
DTSTART:20230312T090000
END:DAYLIGHT
BEGIN:STANDARD
TZOFFSETFROM:-0600
TZOFFSETTO:-0700
TZNAME:MST
DTSTART:20231105T080000
END:STANDARD
BEGIN:DAYLIGHT
TZOFFSETFROM:-0700
TZOFFSETTO:-0600
TZNAME:MDT
DTSTART:20240310T090000
END:DAYLIGHT
BEGIN:STANDARD
TZOFFSETFROM:-0600
TZOFFSETTO:-0700
TZNAME:MST
DTSTART:20241103T080000
END:STANDARD
BEGIN:DAYLIGHT
TZOFFSETFROM:-0700
TZOFFSETTO:-0600
TZNAME:MDT
DTSTART:20250309T090000
END:DAYLIGHT
BEGIN:STANDARD
TZOFFSETFROM:-0600
TZOFFSETTO:-0700
TZNAME:MST
DTSTART:20251102T080000
END:STANDARD
END:VTIMEZONE
BEGIN:VEVENT
DTSTART;TZID=America/Denver:20240815T130000
DTEND;TZID=America/Denver:20240815T150000
DTSTAMP:20260424T202809
CREATED:20240815T190048Z
LAST-MODIFIED:20240328T185028Z
UID:10001949-1723726800-1723734000@www.montananaturalist.org
SUMMARY:Berry Wander on the River Trail
DESCRIPTION:Date: Thursday\, August 15\nTime: 1:00 – 3:00 p.m.\nLocation: Montana Natural History Center \nREGISTER HERE \nJoin Sydney Morical and Cathryn Rann of Wild Wanders as we travel along the Clark Fork River Trail at the peak of Montana berry season. We’ll be delving into various edible and medicinal plants\, their properties\, and how we enjoy them. We won’t be going far on this wander (we never do) but we will be meeting many plant friends along the way so bring your plant guides\, notebook\, and pen if you’d like. There may be opportunities to harvest\, so bring a little bag just in case. \nWe’ll start off by sharing a bit about who we are and why wild food and medicine is such an important part of our lives before letting the rest of the group introduce themselves. After some brief housekeeping we will start our wander which will be under one mile in total. We generally discuss 20-30 different plants and fungi on our wanders and only harvest as a group when populations are abundant enough to support it. \nInstructors: Sydney Morical and Cathryn Raan are both passionate and longtime gatherers of wild food and medicine. They have also served on the Board of Directors for the Western Montana Mycological Association since 2018\, planning events\, teaching a wide variety of mushroom classes and keeping the fungal community engaged and connected. They both have experience in herbal medicine and agriculture (they will teach you about all the wonderful “weeds” around town)\, and a deep love of this land and all the plants living in their midst. They are humbled and delighted to be two of many on a long strand of plant-loving humans sharing their experience and knowledge with others. \nCost: $30 MNHC members\, $35 non-members\nKids welcome free of charge \n\n \nFAQs: \nWhat’s the refund policy? \nThe course fee (minus a 25% administrative fee) is refundable if a cancellation is made up to 7 days before the event. No refunds will be issued for cancellations made after this deadline. See our full refund/cancellation policy here. \nDo I have to bring my printed ticket to the event? \nNope! We will have a list of all the attendees.
URL:https://www.montananaturalist.org/event/berry-wander-river-trail/
LOCATION:Montana Natural History Center
CATEGORIES:Community Event,Discovery Day,Naturalist Field Experience
ATTACH;FMTTYPE=image/jpeg:https://www.montananaturalist.org/wp-content/uploads/IMG_9344-scaled-e1711651806443.jpg
GEO:46.8706038;-114.0060024
END:VEVENT
END:VCALENDAR