BEGIN:VCALENDAR
VERSION:2.0
PRODID:-//Montana Natural History Center - ECPv6.15.18//NONSGML v1.0//EN
CALSCALE:GREGORIAN
METHOD:PUBLISH
X-WR-CALNAME:Montana Natural History Center
X-ORIGINAL-URL:https://www.montananaturalist.org
X-WR-CALDESC:Events for Montana Natural History Center
REFRESH-INTERVAL;VALUE=DURATION:PT1H
X-Robots-Tag:noindex
X-PUBLISHED-TTL:PT1H
BEGIN:VTIMEZONE
TZID:America/Denver
BEGIN:DAYLIGHT
TZOFFSETFROM:-0700
TZOFFSETTO:-0600
TZNAME:MDT
DTSTART:20250309T090000
END:DAYLIGHT
BEGIN:STANDARD
TZOFFSETFROM:-0600
TZOFFSETTO:-0700
TZNAME:MST
DTSTART:20251102T080000
END:STANDARD
BEGIN:DAYLIGHT
TZOFFSETFROM:-0700
TZOFFSETTO:-0600
TZNAME:MDT
DTSTART:20260308T090000
END:DAYLIGHT
BEGIN:STANDARD
TZOFFSETFROM:-0600
TZOFFSETTO:-0700
TZNAME:MST
DTSTART:20261101T080000
END:STANDARD
BEGIN:DAYLIGHT
TZOFFSETFROM:-0700
TZOFFSETTO:-0600
TZNAME:MDT
DTSTART:20270314T090000
END:DAYLIGHT
BEGIN:STANDARD
TZOFFSETFROM:-0600
TZOFFSETTO:-0700
TZNAME:MST
DTSTART:20271107T080000
END:STANDARD
END:VTIMEZONE
BEGIN:VEVENT
DTSTART;TZID=America/Denver:20260305T180000
DTEND;TZID=America/Denver:20260305T190000
DTSTAMP:20260421T223108
CREATED:20260210T205423Z
LAST-MODIFIED:20260212T155636Z
UID:10003384-1772733600-1772737200@www.montananaturalist.org
SUMMARY:iNaturalist Workshop
DESCRIPTION:Date: Thursday\, March 5th\nTime: 6:00 – 7:00 p.m.\nLocation: Montana Natural History Center\nCost: FREE\, but please register \nREGISTER HERE \nSnap a photo of your nature observations wherever you roam to conserve our state’s remarkable wild diversity!  \nCan using a phone app help scientists with conservation work? Bryce Maxell\,  program director at the Montana Natural Heritage Program\, will show you how to collect and access information on Montana’s plants and animals using iNaturalist. He’ll also explain how agencies use your data to inform conservation of native species and control of invasive species. Come learn about this fun interactive learning tool! \nThe Montana Natural Heritage Program (MTNHP) is Montana’s source for reliable and objective information on over 18\,000 different species and habitats that occur in Montana\, emphasizing those of conservation concern. The MTNHP has centralized over 6.1 million observation records and over 515\,000 surveys for species\, assigned conservation status ranks to over 5\,000 species\, constructed predicted habitat suitability models for over 2\,300 species\, and created predicted biodiversity layers for vertebrates\, species of conservation concern\, and noxious weeds. This and other information the MTNHP manages informs stakeholders in a variety of environmental review\, permitting\, and planning processes and it can be easily accessed by anyone on the program’s Montana Field Guide\, Map Viewer\, Species Snapshot\, and other web pages. \niNaturalist is an online social network of people sharing biodiversity information to help each other learn about nature. iNaturalist helps you identify the plants and animals around you while generating data for science and conservation. Get connected with a community of millions scientists and naturalists who can help you learn more about nature! What’s more\, by recording and sharing your observations\, you’ll create research-quality data for scientists working to better understand and protect nature. \nInstructor: Bryce Maxell (PhD in Fish and Wildlife Biology from the University of Montana) is the Program Coordinator with the Montana Natural Heritage Program. He has worked with the MTNHP in various capacities dating back to 1996 and has led the program in since 2015. Bryce has conducted research on seaweeds in the Puget Sound\, a number of species in Australia and New Zealand\, and Harlequin Ducks\, amphibians\, reptiles\, bats\, and invasive species in Montana.
URL:https://www.montananaturalist.org/event/inaturalist-workshop/
LOCATION:Montana Natural History Center
CATEGORIES:Community Event,Educator Program,Evening Programs,Naturalist Field Experience,Presentation
ATTACH;FMTTYPE=image/jpeg:https://www.montananaturalist.org/wp-content/uploads/a-student-gets-a-closer-look-at-a-plant-and-adds-it-to-inaturalist-on-the-botany-0dad31-1024.jpg
GEO:46.8706038;-114.0060024
END:VEVENT
BEGIN:VEVENT
DTSTART;TZID=America/Denver:20260311T140000
DTEND;TZID=America/Denver:20260311T160000
DTSTAMP:20260421T223108
CREATED:20260225T215847Z
LAST-MODIFIED:20260226T164733Z
UID:10003134-1773237600-1773244800@www.montananaturalist.org
SUMMARY:Master Naturalist Club
DESCRIPTION:Date: Monthly\, on the second Wednesday of the month\nTime: 2:00-4:00 p.m.\nLocation: Various – contact club host \nShare outdoor explorations and learning experiences with other curious naturalists at our monthly Master Naturalist Club! We will connect with experts and hone our skills\, meeting at field locations around Missoula. \nMarch Topic: Uschi Carpenter’s Bird Photography and Presentation \nUrsula “Uschi” Carpenter is a photographer based in Missoula\, Montana. She passionately pursues the alchemy of turning birds into poetry with both images and words. It is her hope to reveal the healing power of birds by showcasing their beauty and to raise awareness for the need to safeguard their future in our wounded world. In her presentation “Savor what Remains – Affirmations of Wonder in a Wounded World\,” Uschi will talk about her approach to nature and bird photography and share with us a selection of her “bird poetry.” \nClub hosts: Master Naturalists Sarah Elsasser\, Bill Buseman\, and Elizabeth Johns \nInterested in joining? There are spaces available! Email Christine at cmorris@montananaturalist.org to sign up.
URL:https://www.montananaturalist.org/event/master-naturalist-club-2/
LOCATION:Montana Natural History Center
CATEGORIES:Community Event,Discovery Day,Drop in With a Naturalist,Naturalist Field Experience
ATTACH;FMTTYPE=image/jpeg:https://www.montananaturalist.org/wp-content/uploads/IMG_2784.jpg
GEO:46.8706038;-114.0060024
END:VEVENT
BEGIN:VEVENT
DTSTART;TZID=America/Denver:20260328T070000
DTEND;TZID=America/Denver:20260328T180000
DTSTAMP:20260421T223108
CREATED:20240322T120025Z
LAST-MODIFIED:20260115T172848Z
UID:10001564-1774681200-1774720800@www.montananaturalist.org
SUMMARY:Naturalist Field Day: Snow Geese Migration at Freezout Lake
DESCRIPTION:Date: Saturday\, March 28\nTime: 7:00 a.m. – 6:00 p.m.\nLocation: Meet at the Montana Natural History Center\, where we will get on the bus to drive to Freezout Lake.\nCost: $100 MNHC members/$110 non-members \nREGISTER HERE\nRegistration closes March 14. \nBirds by the hundreds of thousands and humans by the handful congregate at Freezout Lake to celebrate early spring. It’s a wildlife viewing spectacle that for a few days rivals any natural wonder in the world. Tundra swans\, snow geese\, and 200 other migrating species start in mid-March as they head to northern destinations for feeding and breeding. The snow geese usually reach Freezout in late March\, where they rest up from a nearly 1\,000-mile flight from California. Spend an inspiring day watching thousands of migrating snow geese\, and other birds\, at Freezout Lake. \nYour leaders and drivers will be MNHC teaching naturalist Ryan Mahar\, naturalist Kelly Dix\, and potentially guides from Freezout FWP depending on their availability. \nCost: $100 MNHC members\, $110 non-members. You can add your MNHC membership to your order when you check out.\n\nDetails: \nActivity Level: some walking on uneven ground (less than 1 mile)\, off and on the bus\, limited bathrooms\, lunch on the bus\, potentially cold and windy weather\, long time sitting on the bus (6-7 hours) \n\nBus leaves from the MNHC parking lot at 7:00 a.m. (120 Hickory St. near McCormick Park) and will return about 6:00 p.m.\nMid-morning we’ll arrive at Freezout Lake for an orientation and spend time observing and learning about as many migrating birds as we can!\nParticipants should bring lunch they can eat on the bus\, binoculars\, and spotting scopes if they have them\, plenty of warm clothes/layers\, nature journaling supplies\, and camera.\nMNHC will provide additional binoculars\, field guides\, and spotting scopes.\n\n\n\nFAQ \nWhat’s the refund policy? \nThe course fee (minus a 25% administrative fee) is refundable if a cancellation is made up to 7 days before the event. No refunds will be issued for cancellations made after this deadline. See our full refund/cancellation policy here. \nDo I have to bring my printed ticket to the event? \nNope! We will have a list of all the attendees.
URL:https://www.montananaturalist.org/event/naturalist-field-day-snow-geese-migration-at-freezout-lake-2/
LOCATION:Montana Natural History Center
CATEGORIES:Discovery Day,Naturalist Field Experience
ATTACH;FMTTYPE=image/jpeg:https://www.montananaturalist.org/wp-content/uploads/2015/03/Freezeout-5-by-Rob-Gappert-e1768498122916.jpg
GEO:46.8706038;-114.0060024
END:VEVENT
END:VCALENDAR