BEGIN:VCALENDAR
VERSION:2.0
PRODID:-//Montana Natural History Center - ECPv6.15.18//NONSGML v1.0//EN
CALSCALE:GREGORIAN
METHOD:PUBLISH
X-WR-CALNAME:Montana Natural History Center
X-ORIGINAL-URL:https://www.montananaturalist.org
X-WR-CALDESC:Events for Montana Natural History Center
REFRESH-INTERVAL;VALUE=DURATION:PT1H
X-Robots-Tag:noindex
X-PUBLISHED-TTL:PT1H
BEGIN:VTIMEZONE
TZID:America/Denver
BEGIN:DAYLIGHT
TZOFFSETFROM:-0700
TZOFFSETTO:-0600
TZNAME:MDT
DTSTART:20250309T090000
END:DAYLIGHT
BEGIN:STANDARD
TZOFFSETFROM:-0600
TZOFFSETTO:-0700
TZNAME:MST
DTSTART:20251102T080000
END:STANDARD
BEGIN:DAYLIGHT
TZOFFSETFROM:-0700
TZOFFSETTO:-0600
TZNAME:MDT
DTSTART:20260308T090000
END:DAYLIGHT
BEGIN:STANDARD
TZOFFSETFROM:-0600
TZOFFSETTO:-0700
TZNAME:MST
DTSTART:20261101T080000
END:STANDARD
BEGIN:DAYLIGHT
TZOFFSETFROM:-0700
TZOFFSETTO:-0600
TZNAME:MDT
DTSTART:20270314T090000
END:DAYLIGHT
BEGIN:STANDARD
TZOFFSETFROM:-0600
TZOFFSETTO:-0700
TZNAME:MST
DTSTART:20271107T080000
END:STANDARD
END:VTIMEZONE
BEGIN:VEVENT
DTSTART;TZID=America/Denver:20261214T183000
DTEND;TZID=America/Denver:20261214T203000
DTSTAMP:20260421T040457
CREATED:20250812T183018Z
LAST-MODIFIED:20260106T190209Z
UID:10003041-1797273000-1797280200@www.montananaturalist.org
SUMMARY:Virtual Naturalist Book Club #2
DESCRIPTION:Date: Monthly\, on the second Monday of the month (except January\, June\, July\, and August)\nTime: 6:30 p.m.\nLocation/Platform: Virtual Zoom Classroom \nThe only thing better than reading a fascinating natural history book (and there are so many of them!) is getting to discuss it with a wonderful group of like-minded people. We can help you do that! Join one of our free naturalist book clubs\, where you can read and discuss a great new book each month\, enjoying various perspectives and insights\, all from the comfort of your own home. (Cozy pjs are perfectly acceptable attire.) This book club meets September-May and breaks for the summer. \nBook List \nSeptember: Light Eaters\nOctober: The Serviceberry\nNovember: The Stubborn Light of Things\nDecember: Flight Paths\nJanuary: no meeting this month\nFebruary: Woman Among Wolves\nMarch:  What an Owl Knows\nApril: Restoring the Kinship Worldview                                                                                                                May: Tenacious Beasts \nYour hosts will be Sherry Staub and Cas Kendley. Sherry has led the Sacajawea book club for over two years in Bozeman and has extensively read in the nature book genre. Cas started and led a book club as a UM student and is looking forward to starting an advanced degree in forestry at the UM. \nYou will need a computer that can access the internet and Zoom platform in order to participate. \nInterested in joining? There are spaces available! Email Christine at cmorris [at] montananaturalist [dot] org to sign up. \nGroup is limited to 10 participants.
URL:https://www.montananaturalist.org/event/naturalist-book-club-2/2026-12-14/
LOCATION:Virtual Zoom Classroom
CATEGORIES:Community Event,Evening Programs
ATTACH;FMTTYPE=image/jpeg:https://www.montananaturalist.org/wp-content/uploads/depositphotos_219045558-stock-photo-reading-outdoor-theme-image-open-e1760043072780.jpg
END:VEVENT
BEGIN:VEVENT
DTSTART;TZID=America/Denver:20261217T180000
DTEND;TZID=America/Denver:20261217T200000
DTSTAMP:20260421T040457
CREATED:20260325T181244Z
LAST-MODIFIED:20260325T181244Z
UID:10003381-1797530400-1797537600@www.montananaturalist.org
SUMMARY:Scavengers Photography Club
DESCRIPTION:Dates: Third Thursday of the Month\nTime: 6:00 – 8:00 p.m.\nLocation: Montana Natural History Center \nCome find community and inspiration for your nature photography passion at our Scavengers Photography Club! Everyone is welcome – hobbyists\, enthusiasts\, professionals\, and new beginners! Peggy Christian\, artist\, author\, and Master Naturalist\, hosts this unique club. \nAt each session we will share our photos (up to 6 per person) and discuss current projects\, interests\, successes\, and challenges. Some sessions will feature a guest presentation on an aspect of photography. \nNote: Please bring your photos to share on a thumb drive to use in our computer. \n“A great photograph is one that fully expresses what one feels\, in the deepest sense\, about what is being photographed.”\n― Ansel Adams \nShare your perspective and connection to nature through photography!
URL:https://www.montananaturalist.org/event/scavengers-photography-club-3-2-2-2-3-8-4/2026-12-17/
LOCATION:Montana Natural History Center
CATEGORIES:Community Event,Discovery Day,Presentation
ATTACH;FMTTYPE=image/jpeg:https://www.montananaturalist.org/wp-content/uploads/DSCN7866-3-Edit-e1745957299415.jpg
GEO:46.8706038;-114.0060024
END:VEVENT
END:VCALENDAR