BEGIN:VCALENDAR
VERSION:2.0
PRODID:-//Montana Natural History Center - ECPv6.15.18//NONSGML v1.0//EN
CALSCALE:GREGORIAN
METHOD:PUBLISH
X-WR-CALNAME:Montana Natural History Center
X-ORIGINAL-URL:https://www.montananaturalist.org
X-WR-CALDESC:Events for Montana Natural History Center
REFRESH-INTERVAL;VALUE=DURATION:PT1H
X-Robots-Tag:noindex
X-PUBLISHED-TTL:PT1H
BEGIN:VTIMEZONE
TZID:America/Denver
BEGIN:DAYLIGHT
TZOFFSETFROM:-0700
TZOFFSETTO:-0600
TZNAME:MDT
DTSTART:20250309T090000
END:DAYLIGHT
BEGIN:STANDARD
TZOFFSETFROM:-0600
TZOFFSETTO:-0700
TZNAME:MST
DTSTART:20251102T080000
END:STANDARD
BEGIN:DAYLIGHT
TZOFFSETFROM:-0700
TZOFFSETTO:-0600
TZNAME:MDT
DTSTART:20260308T090000
END:DAYLIGHT
BEGIN:STANDARD
TZOFFSETFROM:-0600
TZOFFSETTO:-0700
TZNAME:MST
DTSTART:20261101T080000
END:STANDARD
BEGIN:DAYLIGHT
TZOFFSETFROM:-0700
TZOFFSETTO:-0600
TZNAME:MDT
DTSTART:20270314T090000
END:DAYLIGHT
BEGIN:STANDARD
TZOFFSETFROM:-0600
TZOFFSETTO:-0700
TZNAME:MST
DTSTART:20271107T080000
END:STANDARD
END:VTIMEZONE
BEGIN:VEVENT
DTSTART;TZID=America/Denver:20260618T180000
DTEND;TZID=America/Denver:20260618T200000
DTSTAMP:20260420T120817
CREATED:20260325T181244Z
LAST-MODIFIED:20260325T181244Z
UID:10003375-1781805600-1781812800@www.montananaturalist.org
SUMMARY:Scavengers Photography Club
DESCRIPTION:Dates: Third Thursday of the Month\nTime: 6:00 – 8:00 p.m.\nLocation: Montana Natural History Center \nCome find community and inspiration for your nature photography passion at our Scavengers Photography Club! Everyone is welcome – hobbyists\, enthusiasts\, professionals\, and new beginners! Peggy Christian\, artist\, author\, and Master Naturalist\, hosts this unique club. \nAt each session we will share our photos (up to 6 per person) and discuss current projects\, interests\, successes\, and challenges. Some sessions will feature a guest presentation on an aspect of photography. \nNote: Please bring your photos to share on a thumb drive to use in our computer. \n“A great photograph is one that fully expresses what one feels\, in the deepest sense\, about what is being photographed.”\n― Ansel Adams \nShare your perspective and connection to nature through photography!
URL:https://www.montananaturalist.org/event/scavengers-photography-club-3-2-2-2-3-8-4/2026-06-18/
LOCATION:Montana Natural History Center
CATEGORIES:Community Event,Discovery Day,Presentation
ATTACH;FMTTYPE=image/jpeg:https://www.montananaturalist.org/wp-content/uploads/DSCN7866-3-Edit-e1745957299415.jpg
GEO:46.8706038;-114.0060024
END:VEVENT
END:VCALENDAR