BEGIN:VCALENDAR
VERSION:2.0
PRODID:-//Montana Natural History Center - ECPv6.15.18//NONSGML v1.0//EN
CALSCALE:GREGORIAN
METHOD:PUBLISH
X-WR-CALNAME:Montana Natural History Center
X-ORIGINAL-URL:https://www.montananaturalist.org
X-WR-CALDESC:Events for Montana Natural History Center
REFRESH-INTERVAL;VALUE=DURATION:PT1H
X-Robots-Tag:noindex
X-PUBLISHED-TTL:PT1H
BEGIN:VTIMEZONE
TZID:America/Denver
BEGIN:DAYLIGHT
TZOFFSETFROM:-0700
TZOFFSETTO:-0600
TZNAME:MDT
DTSTART:20250309T090000
END:DAYLIGHT
BEGIN:STANDARD
TZOFFSETFROM:-0600
TZOFFSETTO:-0700
TZNAME:MST
DTSTART:20251102T080000
END:STANDARD
BEGIN:DAYLIGHT
TZOFFSETFROM:-0700
TZOFFSETTO:-0600
TZNAME:MDT
DTSTART:20260308T090000
END:DAYLIGHT
BEGIN:STANDARD
TZOFFSETFROM:-0600
TZOFFSETTO:-0700
TZNAME:MST
DTSTART:20261101T080000
END:STANDARD
BEGIN:DAYLIGHT
TZOFFSETFROM:-0700
TZOFFSETTO:-0600
TZNAME:MDT
DTSTART:20270314T090000
END:DAYLIGHT
BEGIN:STANDARD
TZOFFSETFROM:-0600
TZOFFSETTO:-0700
TZNAME:MST
DTSTART:20271107T080000
END:STANDARD
END:VTIMEZONE
BEGIN:VEVENT
DTSTART;TZID=America/Denver:20260121T090000
DTEND;TZID=America/Denver:20260121T110000
DTSTAMP:20260425T182413
CREATED:20250929T170421Z
LAST-MODIFIED:20260114T205927Z
UID:10003117-1768986000-1768993200@www.montananaturalist.org
SUMMARY:How to Know the Minerals: Crystallization and Identification
DESCRIPTION:Date: Wednesday\, January 21\, 2026\nTime: 9:00 a.m. – 11:00\nLocation: MNHC\nCost: $20 MNHC members/$25 non-members.\nAdd your MNHC membership to your order when you check out! \nPart 1 of a 2-part course. Sign up for one or both! Learn about part 2 here. \nREGISTER HERE \nHave you ever held a crystal in your hand and wondered how it formed?  \nQuartz\, jasper\, agate and chalcedony are all formed from the same elements\, silicon and oxygen\, yet they display wonderful variation in form and color. The science behind crystal formation and the chemical composition of minerals is a fascinating exploration of our earth’s treasures. Join geologist Bruce Baty and his extensive collection of mineral specimens to learn how to identify minerals and to find out how and why crystals form. \nInstructor: Bruce Baty graduated from Bowling Green State University in 1967 with a major in geology. In September of 1967 he enrolled in a master’s graduate program in geology at the University of Montana. While there\, he taught some undergraduate geology lab courses and enjoyed the challenge of designing course work\, tests\, and working with students. As a result of those experiences\, Bruce graduated with a master’s degree in geology with a teaching endorsement in earth science. He taught geology and earth science at Hellgate High School for the next thirty years\, retiring from teaching in 2001. \nFAQs\nWhat’s the refund policy? \nThe course fee (minus a 25% administrative fee) is refundable if a cancellation is made up to 7 days before the event. No refunds will be issued for cancellations made after this deadline. See our full refund/cancellation policy here. \nDo I have to bring my printed ticket to the event? \nNope! We will have a list of all the attendees.
URL:https://www.montananaturalist.org/event/how-to-know-the-minerals-crystallization-and-identification/
LOCATION:Montana Natural History Center
CATEGORIES:Community Event,Discovery Day,Naturalist Field Experience,Presentation
ATTACH;FMTTYPE=image/jpeg:https://www.montananaturalist.org/wp-content/uploads/Agate-__quartz-lined_geode_Dryhead_Montana_USA_2_31912720794-scaled-e1759165085203.jpg
GEO:46.8706038;-114.0060024
END:VEVENT
BEGIN:VEVENT
DTSTART;TZID=America/Denver:20260122T190000
DTEND;TZID=America/Denver:20260122T210000
DTSTAMP:20260425T182413
CREATED:20251212T232956Z
LAST-MODIFIED:20251231T203345Z
UID:10003260-1769108400-1769115600@www.montananaturalist.org
SUMMARY:Naturalist Trivia Night - Winter Ecology!
DESCRIPTION:Date: Thursday\, January 22\nTime: 7:00 – 9:00 p.m.\nLocation: Montana Natural History Center\nCost: Free and open to the public. $5 suggested donation. \nShow off your skills or come to learn something new—trivia nights are fun for any background level. Join a team when you arrive or bring a crew to compete in Naturalist Trivia Night. This month’s theme is Winter Ecology. MNHC teaching naturalist Ryan Mahar is running the show. We’re excited to bring you another fun trivia night! \nThis is a FREE event\, but registration is required so we don’t overcrowd the space! \nREGISTER HERE\nBYOB and snacks. \nHow does Naturalist Trivia work? \nCome with a team or join up with new friends when you arrive. MNHC staff will help you find a table. There are usually 4 rounds of questions each frequently on a common theme such as “Montana cats” or “poisonous plants.” Some rounds are verbal\, others are visual\, or auditory (such as “guess that bird call”!). \nAfter each round the answers are divulged and each team’s score is displayed.\nTwo hours later there will be a winner! \nTrivia nights this season are: \nNovember 19th (Wednesday)\nDecember 16th (Tuesday)\nJanuary 22nd (Thursday)\nFebruary 18th (Wednesday – WILD LOVE TRIVIA!)\nMarch 26th (Thursday) \nRegister here:
URL:https://www.montananaturalist.org/event/naturalist-trivia-night-7/
LOCATION:Montana Natural History Center
CATEGORIES:Community Event,Evening Programs,Naturalist Trivia Night
ATTACH;FMTTYPE=image/png:https://www.montananaturalist.org/wp-content/uploads/Untitled-design-45.png
GEO:46.8706038;-114.0060024
END:VEVENT
BEGIN:VEVENT
DTSTART;TZID=America/Denver:20260123T180000
DTEND;TZID=America/Denver:20260123T210000
DTSTAMP:20260425T182413
CREATED:20251223T232306Z
LAST-MODIFIED:20260102T184506Z
UID:10003341-1769191200-1769202000@www.montananaturalist.org
SUMMARY:Winter Fireside Storytelling with Chris La Tray
DESCRIPTION:Date: Friday\, January 23\, 2026\nTime: 6:00-9:00 p.m.\nLocation: The Native Plant Garden at Fort Missoula (directions)\nCost: $10 MNHC members/$15 non-members\nFree for Native peoples. \nREGISTER HERE!\nFor millennia\, Indigenous people passed the winter telling stories. Some stories – particularly trickster stories – were allowed to be told only in winter\, or when the land was covered with snow. This winter\, spend an evening with Anishinaabe/Métis storyteller and 11th Montana poet laureate Chris La Tray and the Montana Natural History Center in\ndipping our toes fireside into this ancient\, inter-tribal tradition. \nTHIS IS AN OUTDOOR\, WINTER EVENT\nThis is an evening\, wintry\, outdoor event – there will be cold and snow. Please dress for the weather and note that there will be very limited artificial light. There will be an outdoor bonfire to keep us warm and light our way. Guests should bring their own camp chairs (MNHC will NOT be providing). A porta potty will be onsite and available for use. \nIncludes hot beverages (such as cider and hot chocolate). \nAbout Chris La Tray: Chris La Tray is a Métis storyteller\, a descendent of the Pembina Band of the mighty Red River of the North and a citizen of the Little Shell Tribe of Chippewa Indians. His third book\, Becoming Little Shell: A Landless Indian’s Journey Home\, was published by Milkweed Editions on August 20\, 2024 and has received a number of accolades including a Pacific Northwest Book Award and a Writing the West Award\, and Best Memoir of the Year selections from both People and Esquire magazines. His first book\, One-Sentence Journal: Short Poems and Essays from the World at Large won the 2018 Montana Book Award and a 2019 High Plains Book Award. His book of haiku and haibun poetry\, Descended from a Travel-worn Satchel\, was published in 2021 by Foothills Publishing. Chris served as the 2025 Kittredge Distinguished Visiting Writer at the University of Montana and was awarded the 2025 Montana Heritage Keeper Award by the Montana Historical Society. Chris writes the weekly newsletter “An Irritable Métis” and lives near Frenchtown\, Montana. He was the 11th Montana Poet Laureate\, holding that post for 2023–2025. \nwww.chrislatray.com\nhttps://chrislatray.substack.com \n\n \nFAQ \nWhat’s the refund policy? \nThe course fee (minus a 25% administrative fee) is refundable if a cancellation is made up to 7 days before the event. No refunds will be issued for cancellations made after this deadline. See our full refund/cancellation policy here. \nDo I have to bring my printed ticket to the event? \nNope! We will have a list of all the attendees.
URL:https://www.montananaturalist.org/event/winter-fireside-storytelling-with-chris-la-tray/
LOCATION:Montana Natural History Center
CATEGORIES:Community Event,Evening Programs
ATTACH;FMTTYPE=image/png:https://www.montananaturalist.org/wp-content/uploads/Chris_La_Tray.png
GEO:46.8706038;-114.0060024
END:VEVENT
END:VCALENDAR