BEGIN:VCALENDAR
VERSION:2.0
PRODID:-//Montana Natural History Center - ECPv6.15.18//NONSGML v1.0//EN
CALSCALE:GREGORIAN
METHOD:PUBLISH
X-WR-CALNAME:Montana Natural History Center
X-ORIGINAL-URL:https://www.montananaturalist.org
X-WR-CALDESC:Events for Montana Natural History Center
REFRESH-INTERVAL;VALUE=DURATION:PT1H
X-Robots-Tag:noindex
X-PUBLISHED-TTL:PT1H
BEGIN:VTIMEZONE
TZID:America/Denver
BEGIN:DAYLIGHT
TZOFFSETFROM:-0700
TZOFFSETTO:-0600
TZNAME:MDT
DTSTART:20240310T090000
END:DAYLIGHT
BEGIN:STANDARD
TZOFFSETFROM:-0600
TZOFFSETTO:-0700
TZNAME:MST
DTSTART:20241103T080000
END:STANDARD
BEGIN:DAYLIGHT
TZOFFSETFROM:-0700
TZOFFSETTO:-0600
TZNAME:MDT
DTSTART:20250309T090000
END:DAYLIGHT
BEGIN:STANDARD
TZOFFSETFROM:-0600
TZOFFSETTO:-0700
TZNAME:MST
DTSTART:20251102T080000
END:STANDARD
BEGIN:DAYLIGHT
TZOFFSETFROM:-0700
TZOFFSETTO:-0600
TZNAME:MDT
DTSTART:20260308T090000
END:DAYLIGHT
BEGIN:STANDARD
TZOFFSETFROM:-0600
TZOFFSETTO:-0700
TZNAME:MST
DTSTART:20261101T080000
END:STANDARD
END:VTIMEZONE
BEGIN:VEVENT
DTSTART;TZID=America/Denver:20251008T180000
DTEND;TZID=America/Denver:20251008T193000
DTSTAMP:20260424T074820
CREATED:20250919T203118Z
LAST-MODIFIED:20250924T201034Z
UID:10003112-1759946400-1759951800@www.montananaturalist.org
SUMMARY:Our Sacred Objects\, The Long Trip Home with Tyson and Lona Running Wolf
DESCRIPTION:Date: Wednesday\, October 8\nTime: 6:00-7:30 p.m.\nLocation: Montana Natural History Center\nCost: $10 MNHC members/$15 non-members\nFree for Native people. \nREGISTER HERE\nJoin MNHC\, and Tyson and Lona Running Wolf of Blackfeet ECO Knowledge\, as they share their work to recover Blackfeet sacred objects from museums in the United States and abroad. Tyson and Lona are based in Browning — their reputations as educators\, outfitters\, and policy makers reach across Montana. \nAbout Blackfeet ECO Knowledge: Blackfeet ECO Knowledge’s mission is to revive\, preserve\, and promote Indigenous traditional knowledge systems. We focus on the reciprocal relationships between bio-cultural diversity\, where people and the environment work together for environmental sustainability for future generations. The goals are to ensure cultural perpetuity\, pass on knowledge to future generations\, and protect the environment in ways aligned with our cultural principles. We seek to share this knowledge with the world to develop a better understanding of the importance of balanced and respectful human-environment interactions. https://www.blackfeetecoknowledge.org/ \nLight refreshments provided. \nFAQs\nWhat’s the refund policy? \nThe course fee (minus a 25% administrative fee) is refundable if a cancellation is made up to 7 days before the event. No refunds will be issued for cancellations made after this deadline. See our full refund/cancellation policy here. \nDo I have to bring my printed ticket to the event? \nNope! We will have a list of all the attendees.
URL:https://www.montananaturalist.org/event/our-sacred-objects-the-long-trip-home-with-tyson-and-lona-running-wolf/
LOCATION:Montana Natural History Center
CATEGORIES:Community Event,Evening Lecture,Evening Programs
ATTACH;FMTTYPE=image/png:https://www.montananaturalist.org/wp-content/uploads/Untitled-design-105-e1758744622877.png
GEO:46.8706038;-114.0060024
END:VEVENT
END:VCALENDAR