BEGIN:VCALENDAR
VERSION:2.0
PRODID:-//Montana Natural History Center - ECPv6.15.18//NONSGML v1.0//EN
CALSCALE:GREGORIAN
METHOD:PUBLISH
X-WR-CALNAME:Montana Natural History Center
X-ORIGINAL-URL:https://www.montananaturalist.org
X-WR-CALDESC:Events for Montana Natural History Center
REFRESH-INTERVAL;VALUE=DURATION:PT1H
X-Robots-Tag:noindex
X-PUBLISHED-TTL:PT1H
BEGIN:VTIMEZONE
TZID:America/Denver
BEGIN:DAYLIGHT
TZOFFSETFROM:-0700
TZOFFSETTO:-0600
TZNAME:MDT
DTSTART:20240310T090000
END:DAYLIGHT
BEGIN:STANDARD
TZOFFSETFROM:-0600
TZOFFSETTO:-0700
TZNAME:MST
DTSTART:20241103T080000
END:STANDARD
BEGIN:DAYLIGHT
TZOFFSETFROM:-0700
TZOFFSETTO:-0600
TZNAME:MDT
DTSTART:20250309T090000
END:DAYLIGHT
BEGIN:STANDARD
TZOFFSETFROM:-0600
TZOFFSETTO:-0700
TZNAME:MST
DTSTART:20251102T080000
END:STANDARD
BEGIN:DAYLIGHT
TZOFFSETFROM:-0700
TZOFFSETTO:-0600
TZNAME:MDT
DTSTART:20260308T090000
END:DAYLIGHT
BEGIN:STANDARD
TZOFFSETFROM:-0600
TZOFFSETTO:-0700
TZNAME:MST
DTSTART:20261101T080000
END:STANDARD
END:VTIMEZONE
BEGIN:VEVENT
DTSTART;TZID=America/Denver:20250805T090000
DTEND;TZID=America/Denver:20250805T110000
DTSTAMP:20260425T133431
CREATED:20250721T170211Z
LAST-MODIFIED:20250721T170734Z
UID:10002894-1754384400-1754391600@www.montananaturalist.org
SUMMARY:Birding at the Fort Garden and River
DESCRIPTION:Date: Tuesday\, August 5\nTime: 9:00-11:00 a.m.\nLocation: Native Plant Garden at Fort Missoula\nCost: $30 MNHC members/$35 non-members\n(children 17 and under are free when accompanied by a ticketed adult) \nREGISTER HERE.\nThe migratory birds have returned to Missoula! It’s breeding season and the garden and adjacent river is a symphony of songs. One can easily hear 30 species of birds here\, including a nesting osprey and house wrens\, gray catbirds and warblers. We will bird in the garden then walk down to the river to see waterfowl\, raptors and woodpeckers. \nDIG IN! For more information on programs happening at the Fort Missoula Native Plant Garden\, click here! \nFAQs\nWhat’s the refund policy? \nThe course fee (minus a 25% administrative fee) is refundable if a cancellation is made up to 7 days before the event. No refunds will be issued for cancellations made after this deadline. See our full refund/cancellation policy here. \nDo I have to bring my printed ticket to the event? \nNope! We will have a list of all the attendees.
URL:https://www.montananaturalist.org/event/birding-at-the-fort-garden-and-river-2/
LOCATION:Montana Natural History Center
CATEGORIES:Community Event,Native Plant Garden Programs
ATTACH;FMTTYPE=image/png:https://www.montananaturalist.org/wp-content/uploads/Untitled-design-55-1.png
GEO:46.8706038;-114.0060024
END:VEVENT
END:VCALENDAR