BEGIN:VCALENDAR
VERSION:2.0
PRODID:-//Montana Natural History Center - ECPv6.15.18//NONSGML v1.0//EN
CALSCALE:GREGORIAN
METHOD:PUBLISH
X-WR-CALNAME:Montana Natural History Center
X-ORIGINAL-URL:https://www.montananaturalist.org
X-WR-CALDESC:Events for Montana Natural History Center
REFRESH-INTERVAL;VALUE=DURATION:PT1H
X-Robots-Tag:noindex
X-PUBLISHED-TTL:PT1H
BEGIN:VTIMEZONE
TZID:America/Denver
BEGIN:DAYLIGHT
TZOFFSETFROM:-0700
TZOFFSETTO:-0600
TZNAME:MDT
DTSTART:20230312T090000
END:DAYLIGHT
BEGIN:STANDARD
TZOFFSETFROM:-0600
TZOFFSETTO:-0700
TZNAME:MST
DTSTART:20231105T080000
END:STANDARD
BEGIN:DAYLIGHT
TZOFFSETFROM:-0700
TZOFFSETTO:-0600
TZNAME:MDT
DTSTART:20240310T090000
END:DAYLIGHT
BEGIN:STANDARD
TZOFFSETFROM:-0600
TZOFFSETTO:-0700
TZNAME:MST
DTSTART:20241103T080000
END:STANDARD
BEGIN:DAYLIGHT
TZOFFSETFROM:-0700
TZOFFSETTO:-0600
TZNAME:MDT
DTSTART:20250309T090000
END:DAYLIGHT
BEGIN:STANDARD
TZOFFSETFROM:-0600
TZOFFSETTO:-0700
TZNAME:MST
DTSTART:20251102T080000
END:STANDARD
END:VTIMEZONE
BEGIN:VEVENT
DTSTART;TZID=America/Denver:20241112T183000
DTEND;TZID=America/Denver:20241112T203000
DTSTAMP:20260419T190158
CREATED:20231214T180948Z
LAST-MODIFIED:20250107T173314Z
UID:10001302-1731436200-1731443400@www.montananaturalist.org
SUMMARY:Virtual Naturalist Book Club #1
DESCRIPTION:Date: Monthly\, on the second Tuesday of the month  \nTime: 6:30 p.m. \nLocation/Platform: Virtual Zoom Classroom \nThe only thing better than reading a fascinating natural history book (and there are so many of them!) is getting to discuss it with a wonderful group of like-minded people. We can help you do that! Join one of our free naturalist book clubs\, where you can read and discuss a great new book each month\, enjoying various perspectives and insights\, all from the comfort of your own home. (Cozy pjs are perfectly acceptable attire.) \nYour hosts are Master Naturalist Suzanne Hendrich and Deborah Drain. \nYou will need a computer that can access the internet and Zoom platform in order to participate. \nThere are some spaces available in this book club. Contact cmorris (at) montananaturalist.org to sign up.  \nGroup is limited to 10 participants.
URL:https://www.montananaturalist.org/event/virtual-naturalist-book-club-1-2/2024-11-12/
LOCATION:Virtual Zoom Classroom
CATEGORIES:Community Event,Evening Programs,Virtual Class
ATTACH;FMTTYPE=image/jpeg:https://www.montananaturalist.org/wp-content/uploads/book-and-cup-of-coffee-in-hands-of-girl-on-winter-evening-near-picture-id909045284-e1736271185658.jpg
END:VEVENT
BEGIN:VEVENT
DTSTART;TZID=America/Denver:20241116T130000
DTEND;TZID=America/Denver:20241116T150000
DTSTAMP:20260419T190158
CREATED:20240924T151722Z
LAST-MODIFIED:20240926T151135Z
UID:10002280-1731762000-1731769200@www.montananaturalist.org
SUMMARY:Nature Journal Book Binding
DESCRIPTION:Date: Saturday\, November 16\nTime: 1:00-3:00 p.m.\nLocation: Montana Natural History Center\nCost: $20 MNHC members\, $25 non-members \nREGISTER HERE!\n \nCreate a blank nature journal with simple Japanese-style stitch binding. \nNature Journals record our observations\, reflections\, and natural phenomena. And they are works of art in their own right. Accentuate this role of ‘journal as art piece’ by choosing your covers and binding the pages yourself with an elegant stitch pattern. Japanese binding is a centuries old book making form where sheets are folded down the center\, hole punched\, and sewn along the spine. Keep this journal for recording the upcoming year\, or give it as a gift to a naturlist in your life this holiday season. Each book will have 12 watercolor pages\, one for each month of the year. You can use white paper or colored pages. \nMaterials included: \n\nMixed media paper\nWatercolor paper\nCardstock\nEmbroidery needles\nEmbroidery thread\nHot cocoa or La Croix\n\nInstructor: Michele Esser is a 5-year Missoula resident and mixed media artist who completed her Master Naturalist certification in 2020. Professionally\, Michele is a Technology Training Manager with an 18-year career in software training. When she is not working or making art\, Michele is skiing and hiking\, as well as volunteering at the MNHC or exploring a naturalist topic of interest. \nWhat’s the refund policy? \nThe course fee (minus a 25% administrative fee) is refundable if a cancellation is made up to 7 days before the event. No refunds will be issued for cancellations made after this deadline. See our full refund/cancellation policy here. \nDo I have to bring my printed ticket to the event? \nNope! We will have a list of all the attendees.
URL:https://www.montananaturalist.org/event/nature-journal-book-binding/
LOCATION:Montana Natural History Center
CATEGORIES:Community Event,Naturalist Field Experience,Sip & Sketch
ATTACH;FMTTYPE=image/png:https://www.montananaturalist.org/wp-content/uploads/journal-3.png
GEO:46.8706038;-114.0060024
END:VEVENT
END:VCALENDAR