BEGIN:VCALENDAR
VERSION:2.0
PRODID:-//Montana Natural History Center - ECPv6.15.18//NONSGML v1.0//EN
CALSCALE:GREGORIAN
METHOD:PUBLISH
X-WR-CALNAME:Montana Natural History Center
X-ORIGINAL-URL:https://www.montananaturalist.org
X-WR-CALDESC:Events for Montana Natural History Center
REFRESH-INTERVAL;VALUE=DURATION:PT1H
X-Robots-Tag:noindex
X-PUBLISHED-TTL:PT1H
BEGIN:VTIMEZONE
TZID:America/Denver
BEGIN:DAYLIGHT
TZOFFSETFROM:-0700
TZOFFSETTO:-0600
TZNAME:MDT
DTSTART:20240310T090000
END:DAYLIGHT
BEGIN:STANDARD
TZOFFSETFROM:-0600
TZOFFSETTO:-0700
TZNAME:MST
DTSTART:20241103T080000
END:STANDARD
BEGIN:DAYLIGHT
TZOFFSETFROM:-0700
TZOFFSETTO:-0600
TZNAME:MDT
DTSTART:20250309T090000
END:DAYLIGHT
BEGIN:STANDARD
TZOFFSETFROM:-0600
TZOFFSETTO:-0700
TZNAME:MST
DTSTART:20251102T080000
END:STANDARD
BEGIN:DAYLIGHT
TZOFFSETFROM:-0700
TZOFFSETTO:-0600
TZNAME:MDT
DTSTART:20260308T090000
END:DAYLIGHT
BEGIN:STANDARD
TZOFFSETFROM:-0600
TZOFFSETTO:-0700
TZNAME:MST
DTSTART:20261101T080000
END:STANDARD
END:VTIMEZONE
BEGIN:VEVENT
DTSTART;TZID=America/Denver:20250414T180000
DTEND;TZID=America/Denver:20250414T200000
DTSTAMP:20260424T094002
CREATED:20250401T033034Z
LAST-MODIFIED:20250414T181305Z
UID:10002824-1744653600-1744660800@www.montananaturalist.org
SUMMARY:CANCELED - Nature Writing "Hush Hour(s)"
DESCRIPTION:Date: Second Monday of the Month*\nTime: 6:00 p.m. – 8:00 p.m.\nLocation: Montana Natural History Center\nCost: Free\, but please register \n*Due to illness\, April 14th’s Nature Writing “Hush Hour(s)” is canceled. We apologize for any inconvenience and hope to see you at the next session! \nREGISTER HERE \nWhatever genre you prefer — poetry\, essay\, prose\, flash\, etc. — writing can help us connect with and reflect on our natural surroundings in deeply personal\, unexpected\, rewarding ways. But finding the time to write can often be challenging. This writing “hush hour(s)” is designed to provide nature writers with a quiet\, supportive setting to work on your craft. This isn’t a workshop; this is space to write. \nIn this group\, we’ll spend roughly the first 20 minutes inviting individuals to share what projects you’re working on\, questions you might have about your work\, suggest resources\, any hurdles or writing blocks\, and writing successes! Then we’ll write\, write\, write. \nBring your notebook\, journal\, or computer. Writing prompts will be available if you’re feeling stuck\, or just want to play with words. Your MNHC group leaders are Allison De Jong (Montana Naturalist magazine editor and MNHC Field Notes instructor\, and writer) and Beth Conway (Events and Marketing Coordinator\, and writer). \nFeel free to BYOB and snacks. We’ll have light refreshments available.
URL:https://www.montananaturalist.org/event/nature-writing-hush-hours-4/
LOCATION:Montana Natural History Center
CATEGORIES:Community Event,Evening Programs
ATTACH;FMTTYPE=image/png:https://www.montananaturalist.org/wp-content/uploads/nature-writing-2.png
GEO:46.8706038;-114.0060024
END:VEVENT
END:VCALENDAR