BEGIN:VCALENDAR
VERSION:2.0
PRODID:-//Montana Natural History Center - ECPv6.15.18//NONSGML v1.0//EN
CALSCALE:GREGORIAN
METHOD:PUBLISH
X-WR-CALNAME:Montana Natural History Center
X-ORIGINAL-URL:https://www.montananaturalist.org
X-WR-CALDESC:Events for Montana Natural History Center
REFRESH-INTERVAL;VALUE=DURATION:PT1H
X-Robots-Tag:noindex
X-PUBLISHED-TTL:PT1H
BEGIN:VTIMEZONE
TZID:America/Denver
BEGIN:DAYLIGHT
TZOFFSETFROM:-0700
TZOFFSETTO:-0600
TZNAME:MDT
DTSTART:20230312T090000
END:DAYLIGHT
BEGIN:STANDARD
TZOFFSETFROM:-0600
TZOFFSETTO:-0700
TZNAME:MST
DTSTART:20231105T080000
END:STANDARD
BEGIN:DAYLIGHT
TZOFFSETFROM:-0700
TZOFFSETTO:-0600
TZNAME:MDT
DTSTART:20240310T090000
END:DAYLIGHT
BEGIN:STANDARD
TZOFFSETFROM:-0600
TZOFFSETTO:-0700
TZNAME:MST
DTSTART:20241103T080000
END:STANDARD
BEGIN:DAYLIGHT
TZOFFSETFROM:-0700
TZOFFSETTO:-0600
TZNAME:MDT
DTSTART:20250309T090000
END:DAYLIGHT
BEGIN:STANDARD
TZOFFSETFROM:-0600
TZOFFSETTO:-0700
TZNAME:MST
DTSTART:20251102T080000
END:STANDARD
END:VTIMEZONE
BEGIN:VEVENT
DTSTART;TZID=America/Denver:20241109T130000
DTEND;TZID=America/Denver:20241109T150000
DTSTAMP:20260419T192759
CREATED:20240924T155402Z
LAST-MODIFIED:20241014T180103Z
UID:10002349-1731157200-1731164400@www.montananaturalist.org
SUMMARY:Felted Animal Portraits with Melissa Thompson
DESCRIPTION:Date: Saturday\, November 9\nTime: 1:00 p.m. – 3:00 p.m.\nLocation: Montana Natural History Center\n$30 for MNHC member\, $35 for non-members \nREGISTER HERE!\nJoin artist and previous MNHC Artist in Residence\, Melissa Thompson\, for a unique animal portrait art class at MNHC! Take inspiration from our vast collection of specimens to create an animal portrait using the wet felting process. You will cut and layer pre-felted pieces. Water\, soap\, and agitation felt the wool fibers together creating an amazing work of art! These textural pieces can combine the character of the animal along with evocative artistic elements of shape and color. Bring an animal of your choice to life through art. The animals can be full body silhouettes with shapes or faces or even imaginary animals. \nThis class is great for ages 8 and up! \nInstructor: Melissa Thompson is a Missoula based multi-media artist. She received her BFA in drawing from the University of Montana in 1996. She has been a tattoo artist for 24 years\, and in addition\, she is a faux taxidermy maker\, body painter and special effects makeup artist. She received her MA in Prosthetic Effects in 2022 from Falmouth University in Cornwall England. She occasionally teaches these various skills around Missoula\, and exhibits work throughout the country. She owns Pomegranate Ink\, an appointment only tattoo studio in Missoula. \nMaterials Included: \n\npre-felted pieces\nHot cocoa or La Croix\n\nFAQs: \nWhat’s the refund policy? \nThe course fee (minus a 25% administrative fee) is refundable if a cancellation is made up to 7 days before the event. No refunds will be issued for cancellations made after this deadline. See our full refund/cancellation policy here. \nDo I have to bring my printed ticket to the event? \nNope! We will have a list of all the attendees.
URL:https://www.montananaturalist.org/event/felted-animal-portraits-with-melissa-thompson/
LOCATION:Montana Natural History Center
CATEGORIES:Community Event,Sip & Sketch
ATTACH;FMTTYPE=image/png:https://www.montananaturalist.org/wp-content/uploads/felting.png
GEO:46.8706038;-114.0060024
END:VEVENT
END:VCALENDAR