BEGIN:VCALENDAR
VERSION:2.0
PRODID:-//Montana Natural History Center - ECPv6.15.18//NONSGML v1.0//EN
CALSCALE:GREGORIAN
METHOD:PUBLISH
X-WR-CALNAME:Montana Natural History Center
X-ORIGINAL-URL:https://www.montananaturalist.org
X-WR-CALDESC:Events for Montana Natural History Center
REFRESH-INTERVAL;VALUE=DURATION:PT1H
X-Robots-Tag:noindex
X-PUBLISHED-TTL:PT1H
BEGIN:VTIMEZONE
TZID:America/Denver
BEGIN:DAYLIGHT
TZOFFSETFROM:-0700
TZOFFSETTO:-0600
TZNAME:MDT
DTSTART:20230312T090000
END:DAYLIGHT
BEGIN:STANDARD
TZOFFSETFROM:-0600
TZOFFSETTO:-0700
TZNAME:MST
DTSTART:20231105T080000
END:STANDARD
BEGIN:DAYLIGHT
TZOFFSETFROM:-0700
TZOFFSETTO:-0600
TZNAME:MDT
DTSTART:20240310T090000
END:DAYLIGHT
BEGIN:STANDARD
TZOFFSETFROM:-0600
TZOFFSETTO:-0700
TZNAME:MST
DTSTART:20241103T080000
END:STANDARD
BEGIN:DAYLIGHT
TZOFFSETFROM:-0700
TZOFFSETTO:-0600
TZNAME:MDT
DTSTART:20250309T090000
END:DAYLIGHT
BEGIN:STANDARD
TZOFFSETFROM:-0600
TZOFFSETTO:-0700
TZNAME:MST
DTSTART:20251102T080000
END:STANDARD
END:VTIMEZONE
BEGIN:VEVENT
DTSTART;TZID=America/Denver:20240427T100000
DTEND;TZID=America/Denver:20240427T130000
DTSTAMP:20260425T133325
CREATED:20240427T160038Z
LAST-MODIFIED:20240328T174223Z
UID:10001946-1714212000-1714222800@www.montananaturalist.org
SUMMARY:Wild Wander: Springtime at Fort Missoula and Slevin's Island
DESCRIPTION:Date: Saturday\, April 27\nTime: 10:00 a.m. – 1:00 p.m.\nLocation: Fort Missoula Native Plant Garden and Slevin’s Island. Go here for directions to the Fort Missoula Native Plant Garden. \nREGISTER HERE \nJoin Sydney Morical and Cathryn Rann of Wild Wanders as we saunter through the Fort Missoula Native Plant Garden discussing qualities and applications of the various edible and medicinal plants within before skipping down to the secret garden that is Slevin’s Island along the Clark Fork River to greet many a fresh spring green! Feel free to bring your plant guides\, notebook\, and pen\, if you’d like. \nThis little-known park right here in town is such a gem and an incredibly lush location to wander along\, full of fancy forts and hidden bits. We are doing this one early so as to beat the skeeters. A note on accessibility: this wander is 2.5 hours long\, with the first hour taking place within the Native Plant Garden\, which is flat and very accessible for all abilities. As we move down toward the river\, please note that a fair amount of the trail is not recommended for individuals with serious mobility limitations\, as it involves some uneven terrain and other obstacles. We apologize for any inconvenience and appreciate your understanding as we try to keep many of our events accessible to all. \nInstructors: Sydney Morical and Cathryn Raan are both passionate and longtime gatherers of wild food and medicine. They have also served on the Board of Directors for the Western Montana Mycological Association since 2018\, planning events\, teaching a wide variety of mushroom classes\, and keeping the fungal community engaged and connected. They both have experience in herbal medicine and agriculture (they will teach you about all the wonderful “weeds” around town)\, and a deep love of this land and all the plants living in their midst. They are humbled and delighted to be two of many on a long strand of plant-loving humans sharing their experience and knowledge with others. \nCost: $30 MNHC members\, $35 non-members\nKids welcome free of charge. \nRegister here: \n\n \nFAQs: \nWhat’s the refund policy? \nThe course fee (minus a 25% administrative fee) is refundable if a cancellation is made up to 7 days before the event. No refunds will be issued for cancellations made after this deadline. See our full refund/cancellation policy here. \nDo I have to bring my printed ticket to the event? \nNope! We will have a list of all the attendees.
URL:https://www.montananaturalist.org/event/wild-wander-springtime-at-fort-missoula-and-slevins-island/
LOCATION:Montana Natural History Center
CATEGORIES:Community Event,Discovery Day,Native Plant Garden Programs,Naturalist Field Experience
ATTACH;FMTTYPE=image/jpeg:https://www.montananaturalist.org/wp-content/uploads/IMG_7847-rotated.jpg
GEO:46.8706038;-114.0060024
END:VEVENT
END:VCALENDAR