BEGIN:VCALENDAR
VERSION:2.0
PRODID:-//Montana Natural History Center - ECPv6.15.18//NONSGML v1.0//EN
CALSCALE:GREGORIAN
METHOD:PUBLISH
X-ORIGINAL-URL:https://www.montananaturalist.org
X-WR-CALDESC:Events for Montana Natural History Center
REFRESH-INTERVAL;VALUE=DURATION:PT1H
X-Robots-Tag:noindex
X-PUBLISHED-TTL:PT1H
BEGIN:VTIMEZONE
TZID:America/Denver
BEGIN:DAYLIGHT
TZOFFSETFROM:-0700
TZOFFSETTO:-0600
TZNAME:MDT
DTSTART:20230312T090000
END:DAYLIGHT
BEGIN:STANDARD
TZOFFSETFROM:-0600
TZOFFSETTO:-0700
TZNAME:MST
DTSTART:20231105T080000
END:STANDARD
BEGIN:DAYLIGHT
TZOFFSETFROM:-0700
TZOFFSETTO:-0600
TZNAME:MDT
DTSTART:20240310T090000
END:DAYLIGHT
BEGIN:STANDARD
TZOFFSETFROM:-0600
TZOFFSETTO:-0700
TZNAME:MST
DTSTART:20241103T080000
END:STANDARD
BEGIN:DAYLIGHT
TZOFFSETFROM:-0700
TZOFFSETTO:-0600
TZNAME:MDT
DTSTART:20250309T090000
END:DAYLIGHT
BEGIN:STANDARD
TZOFFSETFROM:-0600
TZOFFSETTO:-0700
TZNAME:MST
DTSTART:20251102T080000
END:STANDARD
END:VTIMEZONE
BEGIN:VEVENT
DTSTART;TZID=America/Denver:20241002T090000
DTEND;TZID=America/Denver:20241002T140000
DTSTAMP:20260419T055603
CREATED:20240828T150015Z
LAST-MODIFIED:20240930T154258Z
UID:10002173-1727859600-1727877600@www.montananaturalist.org
SUMMARY:Naturalist Field Day: Explore Primm Meadow
DESCRIPTION:Date: Wednesday\, October 2\nTime: 9:00 a.m. – 2:00 p.m.\nLocation: Meet at the Montana Natural History Center. We’ll travel to Primm Meadow in the MNHC bus. \nFeel the majesty of an old-growth\, open stand of ponderosa pines as you explore the history and magnificent ecology of Primm Meadow. This park-like grove has been carefully utilized and managed by humans for thousands of years. Native Americans and homesteaders practiced understory burns to increase productivity of shrubs and crops. The ponderosas thrived in response\, developing a resiliency to larger wildfires. Surrounded by forest that has been logged and replanted or burned\, Primm Meadow is a window back in time. \nSteven Kloetzel\, Western Land Steward for The Nature Conservancy\, will be our guide as we explore this special place. He will discuss restoration work\, fire ecology\, history\, and more. \nDifficulty: Easy/moderate. We will be driving through the gate right to the grove and walking in a loop. We will be walking/standing for up to 2.5 hours. We will have a picnic lunch\, seated on the ground. No bathrooms. \nWhat to Bring: \n\nClothes appropriate for changing Montana weather conditions – layers\, rain\, sun\nBoots or shoes for walking\nWater\nLunch/snacks\nAnything you need to be comfortable outside for hours and on uneven terrain\nBinoculars (optional\, we have some to borrow)\n\nSome scholarships are available. Please call 406.327.0405 to find out more. \nFAQs: \nWhat’s the refund policy? \nThe course fee (minus a 25% administrative fee) is refundable if a cancellation is made up to 7 days before the event. No refunds will be issued for cancellations made after this deadline. See our full refund/cancellation policy here. \nDo I have to bring my printed ticket to the event? \nNope! We will have a list of all the attendees.
URL:https://www.montananaturalist.org/event/explore-primm-meadow/
LOCATION:Montana Natural History Center
CATEGORIES:Community Event,Discovery Day,Naturalist Field Experience
ATTACH;FMTTYPE=image/png:https://www.montananaturalist.org/wp-content/uploads/Untitled-design-4-e1725386312284.png
GEO:46.8706038;-114.0060024
END:VEVENT
BEGIN:VEVENT
DTSTART;TZID=America/Denver:20241003T120000
DTEND;TZID=America/Denver:20241003T130000
DTSTAMP:20260419T055603
CREATED:20240917T170723Z
LAST-MODIFIED:20240920T200129Z
UID:10002281-1727956800-1727960400@www.montananaturalist.org
SUMMARY:Protecting Pollinators and Native Plants - Lunch & Learn Climate Solutions Week Program
DESCRIPTION:Date: Thursday\, October 3\, 2024\nTime: 12:00-1:00 p.m.\nLocation: Montana Natural History Center\nCost: FREE \nJoin the Montana Natural History Center and Climate Smart Missoula for a Lunch & Learn program\, Protecting Pollinators and Native Plants\, during Climate Solutions Week 2024! \nOur communities thrive with the biodiversity of native plants. Insects\, birds\, and mammals have evolved to rely on our native plant communities. We can support the vibrancy of local habitats and survival of fellow species by planting and caring for native plants. During this program you will learn how to make your own seed balls to distribute native seeds! \nFall is the perfect time for native seed planting. Many require the cold snap of winter to germinate in the spring. Seed balls are easy to transport and can be tossed in a garden patch or abandoned weedy area. We will provide directions on creating them and will have materials available for the first 20 people to make one to take home. \nBring your lunch! \nAfter we make the seed balls we will screen a film about plants and pollinators. Sit back\, eat lunch\, and enjoy the movie! \nPhoto by Kelly Dix
URL:https://www.montananaturalist.org/event/protecting-pollinators-and-native-plants-lunch-and-learn-climate-solutions-week-program/
LOCATION:Montana Natural History Center
CATEGORIES:Community Event,Discovery Day,Educator Program,Naturalist Field Experience
ATTACH;FMTTYPE=image/jpeg:https://www.montananaturalist.org/wp-content/uploads/IMG_3884-fritillary-e1726592748479.jpg
GEO:46.8706038;-114.0060024
END:VEVENT
BEGIN:VEVENT
DTSTART;TZID=America/Denver:20241005T120000
DTEND;TZID=America/Denver:20241005T150000
DTSTAMP:20260419T055603
CREATED:20241005T180017Z
LAST-MODIFIED:20240813T155327Z
UID:10002154-1728129600-1728140400@www.montananaturalist.org
SUMMARY:Curiosity Cabinet Garage Sale
DESCRIPTION:Date: Saturday\, October 5\nTime: 12:00-3:00 p.m.\nLocation: Montana Natural History Center \nShop MNHC’s Curiosity Cabinet Garage Sale for curious naturalist items. Bones\, books\, shells\, art\, rocks and minerals\, and so much more! One day only! \nAre you interested in donating an item? Here are the kinds of curios and curiosities we’re looking for: \n\nNatural history-related books and field guides\nRocks\, minerals\, shells\, pressed plants\nNature-themed art\nClothing featuring flora/fauna\nTaxidermy\, bones\, furs (please see below for restrictions)\nBinoculars\, magnifying lenses\, microscopes\, spotting scopes\, nets\, and loupes\nNature notecards/postcards\nVintage camping gear\nOutdoor gear\nNature journaling supplies\nAnd more!\n\nMNHC reserves the right to keep\, rather than sell\, any item deemed appropriate for programmatic use. \nPlease note our donation guidelines before you drop anything off! Some items we can’t accept (for example – Is it alive? Is it radioactive?). \nPlease NOTHING: \n\nAlive\nIllegal (endangered species\, protected species\, songbird remains/specimens/feathers\, etc.)\nCultural (arrowheads\, etc.)\nStinky/moldy\nUnsafe to handle (hides tanned with arsenic\, radioactive rocks)\nInappropriate\n\nAnd please no: \n\nMagazines\nCalendars\n\nAll garage sale proceeds will support MNHC’s programming for all ages. Join us in the fun\, and thank you for your support! \n 
URL:https://www.montananaturalist.org/event/curiosity-cabinet-garage-sale/
LOCATION:Montana Natural History Center
CATEGORIES:Community Event,Fundraiser
ATTACH;FMTTYPE=image/jpeg:https://www.montananaturalist.org/wp-content/uploads/curiosity-cabinet-garage-sale.jpg
GEO:46.8706038;-114.0060024
END:VEVENT
BEGIN:VEVENT
DTSTART;TZID=America/Denver:20241008T183000
DTEND;TZID=America/Denver:20241008T203000
DTSTAMP:20260419T055603
CREATED:20231214T180948Z
LAST-MODIFIED:20250107T173314Z
UID:10001301-1728412200-1728419400@www.montananaturalist.org
SUMMARY:Virtual Naturalist Book Club #1
DESCRIPTION:Date: Monthly\, on the second Tuesday of the month  \nTime: 6:30 p.m. \nLocation/Platform: Virtual Zoom Classroom \nThe only thing better than reading a fascinating natural history book (and there are so many of them!) is getting to discuss it with a wonderful group of like-minded people. We can help you do that! Join one of our free naturalist book clubs\, where you can read and discuss a great new book each month\, enjoying various perspectives and insights\, all from the comfort of your own home. (Cozy pjs are perfectly acceptable attire.) \nYour hosts are Master Naturalist Suzanne Hendrich and Deborah Drain. \nYou will need a computer that can access the internet and Zoom platform in order to participate. \nThere are some spaces available in this book club. Contact cmorris (at) montananaturalist.org to sign up.  \nGroup is limited to 10 participants.
URL:https://www.montananaturalist.org/event/virtual-naturalist-book-club-1-2/2024-10-08/
LOCATION:Virtual Zoom Classroom
CATEGORIES:Community Event,Evening Programs,Virtual Class
ATTACH;FMTTYPE=image/jpeg:https://www.montananaturalist.org/wp-content/uploads/book-and-cup-of-coffee-in-hands-of-girl-on-winter-evening-near-picture-id909045284-e1736271185658.jpg
END:VEVENT
BEGIN:VEVENT
DTSTART;TZID=America/Denver:20241016T190000
DTEND;TZID=America/Denver:20241016T210000
DTSTAMP:20260419T055603
CREATED:20240812T164225Z
LAST-MODIFIED:20241015T184306Z
UID:10002155-1729105200-1729112400@www.montananaturalist.org
SUMMARY:Sip and Sketch Skulls with Jason C. Poole
DESCRIPTION:Date: Wednesday\, October 16\nTime: 7:00-9:00 p.m.\nLocation: Montana Natural History Center\nCost: $30 MNHC members\, $35 non-members \nREGISTER HERE!\nFind the beauty of line and form in MNHC’s extensive skull collection. You will enjoy access to grizzly bear\, great horned owl\, and Tyrannosaurus rex just to name a few. \nMissoula based artist\, Jason C. Poole will start the class by demonstrating drawing techniques particular to skulls and a discussion of anatomical features. As you begin your own study\, Jason will provide both individual and class-wide pointers. This class is perfect for all skill levels. Enjoy a beverage (beer\, or sparkly water) while you work! \nInstructor: Jason C. Poole has worn many hats\, Adjunct Professor of Paleontology\, Scientific Illustrator\, art teacher\, and Paleontology field instructor. Jason has excavated dinosaurs on three continents\, including Africa\, South and North America. Paralititan\, Dreadnoughtus and Suuwassea are three dinosaurs worked on by Poole\, all were new to science when discovered and two of which are supermassive titanosaurs. Poole is also a Paleontological Artist who has published in National Geographic and whose art work appears in many museum and private collections. \nJason resides in Missoula Montana and can often be found sketching in the studio and the great outdoors. \nWhat to Bring: \n\nH or 2B pencils (we will have plenty to use as well)\nSketch book no larger than 8 1/2 x 11 inches (we will have paper to use as well)\n\n“The skulls were there and I could say something with them. To me they are as beautiful as anything I know. To me they are strangely more living than the animals walking around…” Georgia O’Keefe \nWhat’s the refund policy? \nThe course fee (minus a 25% administrative fee) is refundable if a cancellation is made up to 7 days before the event. No refunds will be issued for cancellations made after this deadline. See our full refund/cancellation policy here. \nDo I have to bring my printed ticket to the event? \nNope! We will have a list of all the attendees.
URL:https://www.montananaturalist.org/event/sip-and-sketch-skulls-with-jason-c-poole/
LOCATION:Montana Natural History Center
CATEGORIES:Community Event,Sip & Sketch
ATTACH;FMTTYPE=image/jpeg:https://www.montananaturalist.org/wp-content/uploads/unnamed-11-scaled-e1723480844338.jpg
GEO:46.8706038;-114.0060024
END:VEVENT
BEGIN:VEVENT
DTSTART;TZID=America/Denver:20241019T150000
DTEND;TZID=America/Denver:20241019T170000
DTSTAMP:20260419T055603
CREATED:20241019T210026Z
LAST-MODIFIED:20240330T154859Z
UID:10001942-1729350000-1729357200@www.montananaturalist.org
SUMMARY:Native Plant Garden Immersion - Fall Session
DESCRIPTION:Date: Saturday\, October 19\nTime: 3:00-5:00 p.m.\nLocation: Fort Missoula Native Plant Garden\nCost: $15 MNHC members\, $20 non-members \nFeel the land transition into autumn. Allow your senses\, rather than your thoughts\, to notice how nature transitions into a season of endings and renewal. \nYou may have visited the Native Plant Garden\, but have you experienced it?\nYou may have seen it\, but have you smelled\, heard\, touched\, and tasted it?\nYou may have walked around\, but have you simply sat in it to connect to the land and restore your physical\, mental\, and spiritual health? \nCertified Nature and Forest Therapy Guide Sylke Laine invites us to come to our senses and follow our natural curiosity in the Native Plant Garden. As we slow down to give our thinking minds a break\, we’ll not only experience plants in a sensual\, intuitive way\, but all beings that reside\, from birds to bugs to boulders. And humans\, of course. \nWe will close with a series of mindful invitations inspired by the Japanese practice of Forest Bathing\, Shinrin-Yoku. \nREGISTER HERE \nSylke will be holding 1 more seasonal nature immersion experience. Join her for: \nWinter: December 22\, 3:00 p.m. – Resting. Pausing. Stillness. Immerse your senses into nature’s capacity for restoration and renewal. Notice what winter feels\, smells\, sounds\, and looks like at the Native Plant Garden. \n\n \nFAQs \nWhat’s the refund policy?\nThe course fee (minus a 25% administrative fee) is refundable if a cancellation is made up to 7 days before the event. No refunds will be issued for cancellations made after this deadline. See our full refund/cancellation policy here. \nDo I have to bring my printed ticket to the event?\nNope! We will have a list of all the attendees.
URL:https://www.montananaturalist.org/event/native-plant-garden-immersion-fall-session/
LOCATION:Montana Natural History Center
CATEGORIES:Community Event,Discovery Day,Native Plant Garden Programs,Naturalist Field Experience
ATTACH;FMTTYPE=image/jpeg:https://www.montananaturalist.org/wp-content/uploads/bdb0d0ab072f9cff512c010b8cdd7d19.jpg
GEO:46.8706038;-114.0060024
END:VEVENT
BEGIN:VEVENT
DTSTART;TZID=America/Denver:20241024T180000
DTEND;TZID=America/Denver:20241024T200000
DTSTAMP:20260419T055603
CREATED:20241002T184434Z
LAST-MODIFIED:20250101T163453Z
UID:10002354-1729792800-1729800000@www.montananaturalist.org
SUMMARY:Scavengers Photography Club
DESCRIPTION:Dates: Last Thursday of the month*\nTime: 6:00 – 8:00 p.m.\nLocation: Montana Natural History Center \nCome find community and inspiration for your nature photography passion at our Scavengers Photography Club! Everyone is welcome – hobbyists\, enthusiasts\, professionals\, and new beginners! Peggy Christian\, artist\, author\, and Master Naturalist\, hosts this unique club. \nAt each session we will share our photos (up to 6 per person) and discuss current projects\, interests\, successes\, and challenges. Some sessions will feature a guest presentation on an aspect of photography. \n*During the holiday season\, photography club has been moved from the last Thursday of the month to Oct 24\, Nov 21\, and Dec 19\, 2024. \nNote: Please bring your photos to share on a thumb drive to use in our computer. \n“A great photograph is one that fully expresses what one feels\, in the deepest sense\, about what is being photographed.”\n― Ansel Adams \nShare your perspective and connection to nature through photography!
URL:https://www.montananaturalist.org/event/scavengers-photography-club-3-2-2/2024-10-24/
LOCATION:Montana Natural History Center
CATEGORIES:Community Event,Discovery Day,Presentation
ATTACH;FMTTYPE=image/jpeg:https://www.montananaturalist.org/wp-content/uploads/DSCN7866-3-Edit-e1745957299415.jpg
GEO:46.8706038;-114.0060024
END:VEVENT
BEGIN:VEVENT
DTSTART;TZID=America/Denver:20241025T170000
DTEND;TZID=America/Denver:20241025T210000
DTSTAMP:20260419T055603
CREATED:20240822T230004Z
LAST-MODIFIED:20241016T172722Z
UID:10001965-1729875600-1729890000@www.montananaturalist.org
SUMMARY:MNHC's Fall Banquet and Auction
DESCRIPTION:Date: Friday\, October 25th\nTime: 5:00-9:00 p.m.\nLocation: University Center Ballroom \nGET YOUR TICKETS TODAY. Click here.\nJoin the Montana Natural History Center for a fun and nature-filled evening at our Fall Banquet and Auction on October 25th\, at the University Center Ballroom! \nGather with us for an evening of food\, drinks\, and fun to support MNHC’s science and nature educational programming for our community\, and support MNHC’s mission of connecting people of all ages to nature. \nWe will begin the evening with a large silent auction\, filled with great items donated by local businesses\, artists\, and friends of MNHC. Grab a drink and mingle as you peruse this diverse array and engage in some fun and fierce bidding all while raising funds for a good cause! Once we have all had a chance to bid (more than once!) we will shift to our main event: the live auction! MNHC’s live auction is full of amazing experiences\, adventures\, and gear—you won’t want to miss it! See our live auction line-up\, here. \nOur emcee for the night is Mark Heyka\, a local familiar favorite who will guide us through the evening. And auctioneer\, Reed Tobol with Rivers West Auction\, will keep the bidding hopping! \nAnd because this is MNHC\, we can’t hold an event without offering opportunities for some nature-learning\, trivia\, and a few surprises. \nThis year we’re making it even easier for patrons to participate in bidding: You’ll have the opportunity to bid & buy early on featured online items\, as well as participate in-person at our exciting silent and live auctions on the night of the event! \nStart browsing the catalog of live auction item now. You can even start your bidding (or buy it now!) on many of our silent auction items. Bring your best bids and a little friendly competition to this rewarding and exciting event! \nGET YOUR TICKETS TODAY. Click here.\nWe’re using the platform ReadySetAuction to manage our ticket sales and auction items this year. When you purchase a ticket\, you’ll be sent an email\, asking to set up an account. Rest assured that any information you supply is for MNHC use only and will not be shared with a third party. \nStay tuned for updates as they come in. MNHC staff\, Board\, and auction committee are working tirelessly to put together the greatest fundraiser yet! \nTHANK YOU!\nA special thank you to our 2024 banquet and auction sponsors. If you are interested in sponsorship opportunities\, please contact our Development Director\, Kellen Beck\, at: kbeck@montananaturalist.org.
URL:https://www.montananaturalist.org/event/mnhcs-fall-banquet-and-auction/
LOCATION:University Center Ballroom\, 32 Campus Drive\, Missoula\, MT\, 59812\, United States
CATEGORIES:Community Event,Fundraiser
ATTACH;FMTTYPE=image/png:https://www.montananaturalist.org/wp-content/uploads/Auction-Banner-915-x-400-px-3.png
GEO:46.8605765;-113.982128
X-APPLE-STRUCTURED-LOCATION;VALUE=URI;X-ADDRESS=University Center Ballroom 32 Campus Drive Missoula MT 59812 United States;X-APPLE-RADIUS=500;X-TITLE=32 Campus Drive:geo:-113.982128,46.8605765
END:VEVENT
BEGIN:VEVENT
DTSTART;TZID=America/Denver:20241031T180000
DTEND;TZID=America/Denver:20241031T200000
DTSTAMP:20260419T055603
CREATED:20241002T184434Z
LAST-MODIFIED:20250101T163453Z
UID:10002389-1730397600-1730404800@www.montananaturalist.org
SUMMARY:Scavengers Photography Club
DESCRIPTION:Dates: Last Thursday of the month*\nTime: 6:00 – 8:00 p.m.\nLocation: Montana Natural History Center \nCome find community and inspiration for your nature photography passion at our Scavengers Photography Club! Everyone is welcome – hobbyists\, enthusiasts\, professionals\, and new beginners! Peggy Christian\, artist\, author\, and Master Naturalist\, hosts this unique club. \nAt each session we will share our photos (up to 6 per person) and discuss current projects\, interests\, successes\, and challenges. Some sessions will feature a guest presentation on an aspect of photography. \n*During the holiday season\, photography club has been moved from the last Thursday of the month to Oct 24\, Nov 21\, and Dec 19\, 2024. \nNote: Please bring your photos to share on a thumb drive to use in our computer. \n“A great photograph is one that fully expresses what one feels\, in the deepest sense\, about what is being photographed.”\n― Ansel Adams \nShare your perspective and connection to nature through photography!
URL:https://www.montananaturalist.org/event/scavengers-photography-club-3-2-2/2024-10-31/
LOCATION:Montana Natural History Center
CATEGORIES:Community Event,Discovery Day,Presentation
ATTACH;FMTTYPE=image/jpeg:https://www.montananaturalist.org/wp-content/uploads/DSCN7866-3-Edit-e1745957299415.jpg
GEO:46.8706038;-114.0060024
END:VEVENT
END:VCALENDAR