BEGIN:VCALENDAR
VERSION:2.0
PRODID:-//Montana Natural History Center - ECPv6.15.18//NONSGML v1.0//EN
CALSCALE:GREGORIAN
METHOD:PUBLISH
X-WR-CALNAME:Montana Natural History Center
X-ORIGINAL-URL:https://www.montananaturalist.org
X-WR-CALDESC:Events for Montana Natural History Center
REFRESH-INTERVAL;VALUE=DURATION:PT1H
X-Robots-Tag:noindex
X-PUBLISHED-TTL:PT1H
BEGIN:VTIMEZONE
TZID:America/Denver
BEGIN:DAYLIGHT
TZOFFSETFROM:-0700
TZOFFSETTO:-0600
TZNAME:MDT
DTSTART:20250309T090000
END:DAYLIGHT
BEGIN:STANDARD
TZOFFSETFROM:-0600
TZOFFSETTO:-0700
TZNAME:MST
DTSTART:20251102T080000
END:STANDARD
BEGIN:DAYLIGHT
TZOFFSETFROM:-0700
TZOFFSETTO:-0600
TZNAME:MDT
DTSTART:20260308T090000
END:DAYLIGHT
BEGIN:STANDARD
TZOFFSETFROM:-0600
TZOFFSETTO:-0700
TZNAME:MST
DTSTART:20261101T080000
END:STANDARD
BEGIN:DAYLIGHT
TZOFFSETFROM:-0700
TZOFFSETTO:-0600
TZNAME:MDT
DTSTART:20270314T090000
END:DAYLIGHT
BEGIN:STANDARD
TZOFFSETFROM:-0600
TZOFFSETTO:-0700
TZNAME:MST
DTSTART:20271107T080000
END:STANDARD
END:VTIMEZONE
BEGIN:VEVENT
DTSTART;TZID=America/Denver:20260415T180000
DTEND;TZID=America/Denver:20260415T193000
DTSTAMP:20260419T141521
CREATED:20251212T220844Z
LAST-MODIFIED:20251213T215011Z
UID:10003258-1776276000-1776281400@www.montananaturalist.org
SUMMARY:After the Fire: Ecological Wonders in Burned Areas
DESCRIPTION:Date: Wednesday\, April 15\nTime: 6:00 – 7:30 p.m.\nLocation: Montana Natural History Center\nCost: $10 MNHC members/$15 non-members \nPlease join MNHC and Jane Kapler Smith for a fascinating look into post-fire landscapes and the wonders you can find there. \nREGISTER HERE. \nEvery square foot of dry land in our region has probably burned in the past thousand years. This heritage of fire has shaped every ecosystem in our wildlands; it has given us much of the diversity in wild landscapes that delights us; and\, over many millennia\, it has shaped our native species themselves. \nSo why not get into a burned area this summer and look for some of the botanical treasures that show up only in the first decade or two after fire? This lecture/demonstration can help you get ready for your summer explorations. Jane will suggest some recent burns to visit\, describe how to recognize differences in fire severity within a burn\, and show how plants can survive a fire and even have their best\, most productive years in the decades that follow. \nLight refreshments provided. \nAbout the instructor: Jane Kapler Smith has an M.S. in Forest Ecology from Colorado State University and a B.A. in English and Theatre from Alverno College\, Milwaukee. She worked in fire control and management in Glacier National Park during the 1970s. In the 1980s\, she completed research on fire effects in quaking aspen stands in northern Colorado. From 1992-2015\, she worked at the Fire Science Laboratory in Missoula\, MT\, developing literature reviews on fire effects (https://www.feis-crs.org/feis/) and an educational curriculum on wildland fire (https://www.frames.gov/fireworks/home). She has been VERY happily retired for 10 years. \nFAQs: \nWhat’s the refund policy?\nThe course fee (minus a 25% administrative fee) is refundable if a cancellation is made up to 7 days before the event. No refunds will be issued for cancellations made after this deadline. See our full refund/cancellation policy here. \nDo I have to bring my printed ticket to the event?\nNope! We will have a list of all the attendees. \nRegister here:
URL:https://www.montananaturalist.org/event/after-the-fire-ecological-wonders-in-burned-areas/
LOCATION:Montana Natural History Center
CATEGORIES:Community Event,Evening Lecture,Evening Programs
ATTACH;FMTTYPE=image/png:https://www.montananaturalist.org/wp-content/uploads/fire_regeneration-e1765662601126.png
GEO:46.8706038;-114.0060024
END:VEVENT
END:VCALENDAR