BEGIN:VCALENDAR
VERSION:2.0
PRODID:-//Montana Natural History Center - ECPv6.15.18//NONSGML v1.0//EN
CALSCALE:GREGORIAN
METHOD:PUBLISH
X-ORIGINAL-URL:https://www.montananaturalist.org
X-WR-CALDESC:Events for Montana Natural History Center
REFRESH-INTERVAL;VALUE=DURATION:PT1H
X-Robots-Tag:noindex
X-PUBLISHED-TTL:PT1H
BEGIN:VTIMEZONE
TZID:America/Denver
BEGIN:DAYLIGHT
TZOFFSETFROM:-0700
TZOFFSETTO:-0600
TZNAME:MDT
DTSTART:20240310T090000
END:DAYLIGHT
BEGIN:STANDARD
TZOFFSETFROM:-0600
TZOFFSETTO:-0700
TZNAME:MST
DTSTART:20241103T080000
END:STANDARD
BEGIN:DAYLIGHT
TZOFFSETFROM:-0700
TZOFFSETTO:-0600
TZNAME:MDT
DTSTART:20250309T090000
END:DAYLIGHT
BEGIN:STANDARD
TZOFFSETFROM:-0600
TZOFFSETTO:-0700
TZNAME:MST
DTSTART:20251102T080000
END:STANDARD
BEGIN:DAYLIGHT
TZOFFSETFROM:-0700
TZOFFSETTO:-0600
TZNAME:MDT
DTSTART:20260308T090000
END:DAYLIGHT
BEGIN:STANDARD
TZOFFSETFROM:-0600
TZOFFSETTO:-0700
TZNAME:MST
DTSTART:20261101T080000
END:STANDARD
END:VTIMEZONE
BEGIN:VEVENT
DTSTART;TZID=America/Denver:20251206T130000
DTEND;TZID=America/Denver:20251206T150000
DTSTAMP:20260421T082156
CREATED:20240912T174101Z
LAST-MODIFIED:20251202T210030Z
UID:10000804-1765026000-1765033200@www.montananaturalist.org
SUMMARY:Make a Mini Wreath at MNHC!
DESCRIPTION:Location: Montana Natural History Center\nDate: Saturday\, December 6\nTime: 1:00-3:00 p.m.\nCost: $20 MNHC members\, $25 nonmembers. You can add your MNHC membership to your order when you register. \nREGISTER HERE!\nGet crafty with natural materials and create your own mini wreath while enjoying beverages such as cocoa\, tea\, and beer. \nMontana Natural History Center naturalists will provide instruction on how to identify our local conifers by needle and cone and how to recognize a variety of shrubs. These will be your materials! \nNext\, learn tips and techniques for attaching boughs and accent materials to your wreath. There are so many creative choices – all conifer boughs and cones\, winding wild rose\, dried grass\, and yarrow\, or a combination! We will have all the materials you need to create an exceptional 6-inch wreath! \nClass Includes: \n\nConifer identification instruction\nWreath-making instruction\nUse of paddle wire\, scissors\, and ribbon\nYour own 6-inch natural wreath frame to take home completed in a bag with hot cocoa and a candy cane\n\nFAQ \nWhat’s the refund policy? \nThe course fee (minus a 25% administrative fee) is refundable if a cancellation is made up to 7 days before the event. No refunds will be issued for cancellations made after this deadline. See our full refund/cancellation policy here. \nDo I have to bring my printed ticket to the event? \nNope! We will have a list of all the attendees.
URL:https://www.montananaturalist.org/event/make-a-mini-wreath-at-western-cider/
LOCATION:Montana Natural History Center
CATEGORIES:Community Event,Naturalist Field Experience,Presentation,Sip & Sketch
ATTACH;FMTTYPE=image/png:https://www.montananaturalist.org/wp-content/uploads/Untitled-design-14-e1753128101865.png
GEO:46.8706038;-114.0060024
END:VEVENT
BEGIN:VEVENT
DTSTART;TZID=America/Denver:20251206T130000
DTEND;TZID=America/Denver:20251206T150000
DTSTAMP:20260421T082156
CREATED:20250919T193238Z
LAST-MODIFIED:20250919T193238Z
UID:10003110-1765026000-1765033200@www.montananaturalist.org
SUMMARY:Saturday Kids' Activity: Snow Science!
DESCRIPTION:Date: Saturday\, December 6\nTime: 1:00-3:00 p.m.\nLocation: Montana Natural History Center\nCost: Free with membership/cost of admission \nJoin us for exciting and educational Saturdays filled with delightful activities designed to captivate young minds and inspire a love for nature! \nOur drop-in Saturday programs feature activities\, art\, science experiments\, and more. Stop in anytime between 1:00 p.m. and 3:00 p.m. for the fun! Kids might look for Osprey with binoculars\, dissect owl pellets\, or walk a model of the solar system. Every month features a new topic. The whole family can be involved\, as the exploration and activities are suitable for a wide age range. \nOn Saturday\, December 6th we’ll explore snow science! \nSaturday Kids’ Activities are great for kids ages pre-k through elementary school.
URL:https://www.montananaturalist.org/event/saturday-kids-activity-snow-science/
LOCATION:Montana Natural History Center
CATEGORIES:Kids' Program,Saturday Kids' Activities
ATTACH;FMTTYPE=image/png:https://www.montananaturalist.org/wp-content/uploads/Untitled-design-102.png
GEO:46.8706038;-114.0060024
END:VEVENT
END:VCALENDAR