BEGIN:VCALENDAR
VERSION:2.0
PRODID:-//Montana Natural History Center - ECPv6.15.18//NONSGML v1.0//EN
CALSCALE:GREGORIAN
METHOD:PUBLISH
X-ORIGINAL-URL:https://www.montananaturalist.org
X-WR-CALDESC:Events for Montana Natural History Center
REFRESH-INTERVAL;VALUE=DURATION:PT1H
X-Robots-Tag:noindex
X-PUBLISHED-TTL:PT1H
BEGIN:VTIMEZONE
TZID:America/Denver
BEGIN:DAYLIGHT
TZOFFSETFROM:-0700
TZOFFSETTO:-0600
TZNAME:MDT
DTSTART:20240310T090000
END:DAYLIGHT
BEGIN:STANDARD
TZOFFSETFROM:-0600
TZOFFSETTO:-0700
TZNAME:MST
DTSTART:20241103T080000
END:STANDARD
BEGIN:DAYLIGHT
TZOFFSETFROM:-0700
TZOFFSETTO:-0600
TZNAME:MDT
DTSTART:20250309T090000
END:DAYLIGHT
BEGIN:STANDARD
TZOFFSETFROM:-0600
TZOFFSETTO:-0700
TZNAME:MST
DTSTART:20251102T080000
END:STANDARD
BEGIN:DAYLIGHT
TZOFFSETFROM:-0700
TZOFFSETTO:-0600
TZNAME:MDT
DTSTART:20260308T090000
END:DAYLIGHT
BEGIN:STANDARD
TZOFFSETFROM:-0600
TZOFFSETTO:-0700
TZNAME:MST
DTSTART:20261101T080000
END:STANDARD
END:VTIMEZONE
BEGIN:VEVENT
DTSTART;TZID=America/Denver:20250929T120000
DTEND;TZID=America/Denver:20250929T130000
DTSTAMP:20260419T174737
CREATED:20250903T144418Z
LAST-MODIFIED:20250915T035619Z
UID:10003101-1759147200-1759150800@www.montananaturalist.org
SUMMARY:Climate Solutions Week: Garden Tour & Seed Ball Workshop
DESCRIPTION:Date: Monday\, September 29th\nTime: 12:00-1:00 p.m.\nLocation: Montana Natural History Center\nCost: Free and open to the public \nThe Montana Natural History Center is honored to participate in Climate Smart Missoula’s Climate Solutions Week again this year! Check out all the great events happening from September 27th to October 5th on their website. \nJoin us at MNHC for a garden tour & seed ball workshop! Come tour our garden to learn tips for attracting pollinators\, the impact of climate on native habitats\, and how creating a native plant garden can help. You’ll take home your own native seed ball to get started!
URL:https://www.montananaturalist.org/event/climate-week-garden-tour-seed-ball-workshop/
LOCATION:Montana Natural History Center
ATTACH;FMTTYPE=image/jpeg:https://www.montananaturalist.org/wp-content/uploads/seed-ball-program.jpg
GEO:46.8706038;-114.0060024
END:VEVENT
END:VCALENDAR