BEGIN:VCALENDAR
VERSION:2.0
PRODID:-//Montana Natural History Center - ECPv6.15.18//NONSGML v1.0//EN
CALSCALE:GREGORIAN
METHOD:PUBLISH
X-WR-CALNAME:Montana Natural History Center
X-ORIGINAL-URL:https://www.montananaturalist.org
X-WR-CALDESC:Events for Montana Natural History Center
REFRESH-INTERVAL;VALUE=DURATION:PT1H
X-Robots-Tag:noindex
X-PUBLISHED-TTL:PT1H
BEGIN:VTIMEZONE
TZID:America/Denver
BEGIN:DAYLIGHT
TZOFFSETFROM:-0700
TZOFFSETTO:-0600
TZNAME:MDT
DTSTART:20240310T090000
END:DAYLIGHT
BEGIN:STANDARD
TZOFFSETFROM:-0600
TZOFFSETTO:-0700
TZNAME:MST
DTSTART:20241103T080000
END:STANDARD
BEGIN:DAYLIGHT
TZOFFSETFROM:-0700
TZOFFSETTO:-0600
TZNAME:MDT
DTSTART:20250309T090000
END:DAYLIGHT
BEGIN:STANDARD
TZOFFSETFROM:-0600
TZOFFSETTO:-0700
TZNAME:MST
DTSTART:20251102T080000
END:STANDARD
BEGIN:DAYLIGHT
TZOFFSETFROM:-0700
TZOFFSETTO:-0600
TZNAME:MDT
DTSTART:20260308T090000
END:DAYLIGHT
BEGIN:STANDARD
TZOFFSETFROM:-0600
TZOFFSETTO:-0700
TZNAME:MST
DTSTART:20261101T080000
END:STANDARD
END:VTIMEZONE
BEGIN:VEVENT
DTSTART;TZID=America/Denver:20250916T100000
DTEND;TZID=America/Denver:20250916T110000
DTSTAMP:20260423T075212
CREATED:20250728T225016Z
LAST-MODIFIED:20250729T211452Z
UID:10002975-1758016800-1758020400@www.montananaturalist.org
SUMMARY:miniNaturalist Pre-K Program
DESCRIPTION:The miniNaturalist pre-K program encourages curiosity for the natural world.\nDates: Every Tuesday\, September – May\nTime: 10:00-11:00 am\nLocation: Montana Natural History Center\, 120 Hickory Street. \nThe miniNaturalist program encourages curiosity for the natural world through exploration and play. We sing songs\, read books\, play games\, and develop skills with art and science tools. Each program begins with songs\, movement\, and stories. We then provide materials for learner directed discovery in our garden. We look for bugs and birds\, color on rocks\, build with branches\, experiment with science tools and play with a variety of art materials. \nPlease bring clothes for outdoor play! We have some snow clothes to borrow. \nBest for ages 2-4\, though any age is welcome! \nCost: FREE!
URL:https://www.montananaturalist.org/event/mininaturalist-pre-k-program-2/2025-09-16/
LOCATION:Montana Natural History Center
CATEGORIES:Kids' Program,miniNaturalist Pre-K Program
ATTACH;FMTTYPE=image/jpeg:https://www.montananaturalist.org/wp-content/uploads/prek-kids-painting-e1736271114732.jpeg
GEO:46.8706038;-114.0060024
END:VEVENT
BEGIN:VEVENT
DTSTART;TZID=America/Denver:20250916T180000
DTEND;TZID=America/Denver:20250916T193000
DTSTAMP:20260423T075212
CREATED:20250902T223908Z
LAST-MODIFIED:20250911T155759Z
UID:10003100-1758045600-1758051000@www.montananaturalist.org
SUMMARY:Hunting Dinosaur Fossils in the Bighorn Basin!
DESCRIPTION:Date: Tuesday\, September 16\nTime: 6:00 p.m. – 7:30 p.m.\nLocation: Montana Natural History Center\nCost: $15 for MNHC members\, $20 for non-members\n(Children 17 and under free with ticketed adult.) \nREGISTER HERE!\nIf you’re a fan of dinosaurs\, this evening program is for you! \nMNHC has partnered with Elevation Science Institute to prepare and conserve dinosaur fossils collected by their paleontologists and citizen-scientists each summer in southern Montana. These fossils come from the world-famous Morrison Formation of southern Montana\, rocks dating back over 150 million years! \nIt has been a record year for the team from Elevation Science Institute. Join Jason Poole to hear the latest from this summer’s field work digging up dinosaur bones in Montana’s Bighorn Basin\, some of which will be exposed over the next few months at the Montana Natural History Center before your very eyes! \nDrinks and light refreshments/snacks provided. \nInstructor: Jason C. Poole has worn many hats\, Adjunct Professor of Paleontology\, Scientific Illustrator\, art teacher\, and Paleontology field instructor. Jason has excavated dinosaurs on three continents\, including Africa\, South and North America. Paralititan\, Dreadnoughtus and Suuwassea are three dinosaurs worked on by Poole\, all were new to science when discovered and two of which are supermassive titanosaurs. Poole is also a Paleontological Artist who has published in National Geographic and whose art work appears in many museum and private collections. Jason resides in Missoula\, Montana and can often be found sketching in the studio and the great outdoors. \nWhat’s the refund policy? \nThe course fee (minus a 25% administrative fee) is refundable if a cancellation is made up to 7 days before the event. No refunds will be issued for cancellations made after this deadline. See our full refund/cancellation policy here. \nDo I have to bring my printed ticket to the event? \nNope! We will have a list of all the attendees.
URL:https://www.montananaturalist.org/event/hunting-dinosaur-fossils-in-the-bighorn-basin/
LOCATION:Montana Natural History Center
CATEGORIES:Community Event,Evening Lecture,Evening Programs
ATTACH;FMTTYPE=image/png:https://www.montananaturalist.org/wp-content/uploads/3-6-e1756871540583.png
GEO:46.8706038;-114.0060024
END:VEVENT
END:VCALENDAR